BEGIN:VCALENDAR
VERSION:2.0
PRODID:-//The Wanch - ECPv6.15.20//NONSGML v1.0//EN
CALSCALE:GREGORIAN
METHOD:PUBLISH
X-WR-CALNAME:The Wanch
X-ORIGINAL-URL:https://www.thewanch.hk
X-WR-CALDESC:Events for The Wanch
REFRESH-INTERVAL;VALUE=DURATION:PT1H
X-Robots-Tag:noindex
X-PUBLISHED-TTL:PT1H
BEGIN:VTIMEZONE
TZID:Asia/Hong_Kong
BEGIN:STANDARD
TZOFFSETFROM:+0800
TZOFFSETTO:+0800
TZNAME:HKT
DTSTART:20250101T000000
END:STANDARD
END:VTIMEZONE
BEGIN:VEVENT
DTSTART;TZID=Asia/Hong_Kong:20260419T150000
DTEND;TZID=Asia/Hong_Kong:20260426T200000
DTSTAMP:20260421T020810
CREATED:20260419T063120Z
LAST-MODIFIED:20260419T063341Z
UID:10003618-1776610800-1777233600@www.thewanch.hk
SUMMARY:Happy Hour At The WANCH!!
DESCRIPTION:Happy Hour is here.Up to 25% off most drinks. Full menu available.3PM–8PM. Every day. \n\n\n\n多數飲品75折起｜完整餐點菜單供應 \n\n\n\n1/F\, Henan Building\, 90 Jaffe Road\, Wan Chai
URL:https://www.thewanch.hk/event/happy-hour-at-the-wanch/
ATTACH;FMTTYPE=image/jpeg:https://www.thewanch.hk/wp-content/uploads/2026/04/Happy-Hour-1-social-media.jpg
END:VEVENT
BEGIN:VEVENT
DTSTART;TZID=Asia/Hong_Kong:20260420T113000
DTEND;TZID=Asia/Hong_Kong:20260424T150000
DTSTAMP:20260421T020810
CREATED:20260419T062914Z
LAST-MODIFIED:20260419T062917Z
UID:10003617-1776684600-1777042800@www.thewanch.hk
SUMMARY:The Week's lunch menu
DESCRIPTION:Savor our Weekday Set Lunch! Choose from classic Beef Bourguignon\, Stonebaked Pepperoni Pizza\, Grilled Pork Loin with apple puree\, or Pan-Fried Salmon Fillet in creamy mushroom sauce. Each set includes Soup or Appetizer\, Daily Dessert\, and Iced Lemon Tea.  \n\n\n\nServed Monday – Friday.  \n\n\n\n品味我們的平日午市套餐！精選主菜包括經典紅酒燉牛肉、石爐烘烤辣肉腸薄餅、烤豬扒配蘋果蓉，或配以忌廉蘑菇汁的香煎三文魚柳。每份套餐均配上是日餐湯或前菜、是日甜品及凍檸茶。 \n\n\n\n星期一至五供應。
URL:https://www.thewanch.hk/event/the-weeks-lunch-menu-2/
ATTACH;FMTTYPE=image/jpeg:https://www.thewanch.hk/wp-content/uploads/2026/04/WanchSetLunch3-1-1.jpg
END:VEVENT
END:VCALENDAR