BEGIN:VCALENDAR
VERSION:2.0
PRODID:-//The Wanch - ECPv6.15.20//NONSGML v1.0//EN
CALSCALE:GREGORIAN
METHOD:PUBLISH
X-WR-CALNAME:The Wanch
X-ORIGINAL-URL:https://www.thewanch.hk
X-WR-CALDESC:Events for The Wanch
REFRESH-INTERVAL;VALUE=DURATION:PT1H
X-Robots-Tag:noindex
X-PUBLISHED-TTL:PT1H
BEGIN:VTIMEZONE
TZID:Asia/Hong_Kong
BEGIN:STANDARD
TZOFFSETFROM:+0800
TZOFFSETTO:+0800
TZNAME:HKT
DTSTART:20250101T000000
END:STANDARD
END:VTIMEZONE
BEGIN:VEVENT
DTSTART;TZID=Asia/Hong_Kong:20260117T180000
DTEND;TZID=Asia/Hong_Kong:20260117T235900
DTSTAMP:20260420T192757
CREATED:20260114T055333Z
LAST-MODIFIED:20260114T055336Z
UID:10003246-1768672800-1768694340@www.thewanch.hk
SUMMARY:7pm Acoustic Happy Hour Featuring Steve 9pm Black Lodge Cabaret 10:30pm Whitt's End 12am RE'CALL
DESCRIPTION:The Wanch rocks your Saturday night starting at 7pm with Acoustic Happy Hour featuring Steve performing acoustic rock & originals. 9pm Black Lodge Cabaret performs everything from Rockabilly\, Surf\, Classic Rock\, & Show Tunes. 10:30pm Whitt’s End performs 80’s & 90’s favorites along with originals. 12am RE’CALL performs favorites from the 70’s-00’s & originals. Happy Hour is from 2pm till 8pm & our kitchen staff is serving our ala carte menu from 2:30pm till 10:40pm & No Cover Charge. We thank you for supporting The Wanch & HK’s Live Music Scene
URL:https://www.thewanch.hk/event/7pm-acoustic-happy-hour-featuring-steve-9pm-black-lodge-cabaret-1030pm-whitts-end-12am-recall-2/
CATEGORIES:Acoustic Music,Blues,Classic Rock,Grunge Rock,Happy Hour,Heavy Metal,Modern Rock,Original Music
ATTACH;FMTTYPE=image/jpeg:https://www.thewanch.hk/wp-content/uploads/2026/01/Black-L.jpg
END:VEVENT
BEGIN:VEVENT
DTSTART;TZID=Asia/Hong_Kong:20260118T180000
DTEND;TZID=Asia/Hong_Kong:20260118T235900
DTSTAMP:20260420T192757
CREATED:20260114T063740Z
LAST-MODIFIED:20260117T031048Z
UID:10003248-1768759200-1768780740@www.thewanch.hk
SUMMARY:6pm Armie & Friends 9pm Smooth N Groovin' 10:30pm El Kapitan & The Privates
DESCRIPTION:Get your dancing shoes ready as The Wanch is your Sunday party place. 6pm Armie & Friends perform rock favorites from the 50’s thru 70’s. 9pm Smooth N Groovin’ perform 70’s dance rock & Motown. 10:30pm El Kapitan & The Privates perform favorites from the 70’s thru the 90’s. Happy Hour is from 2pm till 8pm & our kitchen staff is serving our ala carte menu from 2:30pm till 9:40pm & No Cover Charge. All this from The Wanch “Where Music Means Something.”
URL:https://www.thewanch.hk/event/6pm-armie-friends-9pm-smooth-n-groovin-1030pm-el-kapitan-the-privates/
CATEGORIES:Blues,Classic Rock,Folk Rock,Happy Hour,Modern Rock,Motown
ATTACH;FMTTYPE=image/jpeg:https://www.thewanch.hk/wp-content/uploads/2026/01/Daily-Events-3-bands-3.jpg
END:VEVENT
BEGIN:VEVENT
DTSTART;TZID=Asia/Hong_Kong:20260120T180000
DTEND;TZID=Asia/Hong_Kong:20260120T235900
DTSTAMP:20260420T192757
CREATED:20260114T072431Z
LAST-MODIFIED:20260114T072434Z
UID:10003250-1768932000-1768953540@www.thewanch.hk
SUMMARY:7pm Acoustic Happy Hour Featuring LarryZ 9pm Iris Blues Night Special Guest Lamma Blues Collective 10:30pm Iris & The Bluesbreakers
DESCRIPTION:This Tuesday is Blues Night starting at 7pm with Acoustic Happy Hour featuring LarryZ performing acoustic rock favorites. 9pm it’s Iris Blues Night with Special Guest Lamma Blues Collective performing blues & blues rock favorites. 10:30pm Iris & The Bluesbreakers perform blues favorites from Eric Clapton\, John Mayall\, Stevie Ray Vaughn\, B.B. King\, Muddy Waters and other blues favorites. Happy Hour is from 3-8pm & our kitchen staff is serving our ala carte menu from 3pm till 9:40pm & No Cover Charge. We thank you for supporting The Wanch & HK’s Live Music Scene.
URL:https://www.thewanch.hk/event/7pm-acoustic-happy-hour-featuring-larryz-9pm-iris-blues-night-special-guest-lamma-blues-collective-1030pm-iris-the-bluesbreakers/
CATEGORIES:Acoustic Music,Blues,Blues Night,Happy Hour
ATTACH;FMTTYPE=image/jpeg:https://www.thewanch.hk/wp-content/uploads/2026/01/blues-jan-20.jpg
END:VEVENT
BEGIN:VEVENT
DTSTART;TZID=Asia/Hong_Kong:20260208T180000
DTEND;TZID=Asia/Hong_Kong:20260208T235900
DTSTAMP:20260420T192757
CREATED:20260129T093030Z
LAST-MODIFIED:20260129T093033Z
UID:10003275-1770573600-1770595140@www.thewanch.hk
SUMMARY:6pm Armie & Friends 9pm Blues Mountain 10:30pm ANNticipate
DESCRIPTION:The music starts at 6pm with Armie & Friends performing rock favorites from the 50’s thru the 70’s. 9pm Blues Mountain performs blues & blues rock favorites. 10:30pm ANNticipate performs favorites from Blondie\, Amy Winehouse\, Led Zeppelin\, ACDC\, Joe Satriani\, and other rock favorites. Happy Hour is from 2pm till 8pm & our kitchen staff is serving our ala carte menu from 2:30pm till 9:40pm and No Cover Charge. We thsank you for your continuous support of The Wanch & HK’s Live Music Scene.
URL:https://www.thewanch.hk/event/6pm-armie-friends-9pm-blues-mountain-1030pm-annticipate/
CATEGORIES:Blues,Classic Rock,Grunge Rock,Happy Hour,Modern Rock
ATTACH;FMTTYPE=image/jpeg:https://www.thewanch.hk/wp-content/uploads/2026/01/Daily-Events-3-bands-8.jpg
END:VEVENT
END:VCALENDAR