BEGIN:VCALENDAR
VERSION:2.0
PRODID:-//The Wanch - ECPv6.15.20//NONSGML v1.0//EN
CALSCALE:GREGORIAN
METHOD:PUBLISH
X-WR-CALNAME:The Wanch
X-ORIGINAL-URL:https://www.thewanch.hk
X-WR-CALDESC:Events for The Wanch
REFRESH-INTERVAL;VALUE=DURATION:PT1H
X-Robots-Tag:noindex
X-PUBLISHED-TTL:PT1H
BEGIN:VTIMEZONE
TZID:Asia/Hong_Kong
BEGIN:STANDARD
TZOFFSETFROM:+0800
TZOFFSETTO:+0800
TZNAME:HKT
DTSTART:20240101T000000
END:STANDARD
END:VTIMEZONE
BEGIN:VEVENT
DTSTART;TZID=Asia/Hong_Kong:20250610T180000
DTEND;TZID=Asia/Hong_Kong:20250616T235900
DTSTAMP:20260422T164035
CREATED:20250610T061315Z
LAST-MODIFIED:20250610T061317Z
UID:10002909-1749578400-1750118340@www.thewanch.hk
SUMMARY:Wanch Show Schedule June 10th thru June 17th
DESCRIPTION:Check out The Wanch Show Schedule June 10th thru the 17th so you don’t miss your favorite bands this week. lease note The Wanch is closed to the public on June 11th starting at 7pm for a private event. Don’t miss The Red Stripes this Saturday. We thank you for your continued support of The Wanch & The HK Live Music Scene.
URL:https://www.thewanch.hk/event/wanch-show-schedule-june-10th-thru-june-17th/
CATEGORIES:Acoustic Music,Blues,Classic Rock,Folk Rock,Happy Hour,Heavy Metal,Jam night,Modern Rock,Original Music,Ska
ATTACH;FMTTYPE=image/jpeg:https://www.thewanch.hk/wp-content/uploads/2025/06/blues-June-17.jpg
END:VEVENT
BEGIN:VEVENT
DTSTART;TZID=Asia/Hong_Kong:20250616T180000
DTEND;TZID=Asia/Hong_Kong:20250616T235900
DTSTAMP:20260422T164035
CREATED:20250610T061904Z
LAST-MODIFIED:20250610T061906Z
UID:10002910-1750096800-1750118340@www.thewanch.hk
SUMMARY:7pm Acoustic Happy Hour Featuring Steve 9pm Jam Night Hosted by Iris & Rubicube
DESCRIPTION:Music starts at 7pm with Acoustic Happy Hour Featuring Steve 9pm Jam Night Hosted by Iris & Rubicube and all bands & musicians welcome. Call 3692-5933 after 3:30pm to reserve a slot. Happy Hour is from 3pm till 8pm & the kitchen staff is serving our ala carte menu from 3pm till 9:40pm. No Cover Charge. We thank you for your support of The Wanch & The HK Live Music Scene
URL:https://www.thewanch.hk/event/7pm-acoustic-happy-hour-featuring-steve-9pm-jam-night-hosted-by-iris-rubicube-16/
CATEGORIES:Acoustic Music,Blues,Classic Rock,Grunge Rock,Happy Hour,Heavy Metal,Jam night,Modern Rock,Original Music
ATTACH;FMTTYPE=image/jpeg:https://www.thewanch.hk/wp-content/uploads/2024/10/Jam-Nite.jpg
END:VEVENT
BEGIN:VEVENT
DTSTART;TZID=Asia/Hong_Kong:20250617T180000
DTEND;TZID=Asia/Hong_Kong:20250617T235900
DTSTAMP:20260422T164035
CREATED:20250614T053658Z
LAST-MODIFIED:20250614T053701Z
UID:10002911-1750183200-1750204740@www.thewanch.hk
SUMMARY:7pm Acoustic Happy Hour Featuring Eduin 9pm Iris Blues Night with Special Guest The Voodoo Bones 10:30pm Iris & The Blues Breakers
DESCRIPTION:The music starts at 7pm with Acoustic Happy Hour featuring Eduin performing acoustic rock favorites. 9pm it’s Iris Blues Night with special guest The Voodoo Bones performing blues favorites. 10:30pm Iris & The Blues Breakers perform blues standards from Muddy Waters\, JJ Cale\, Stevie Ray Vaughn\, Eric Clapton & other blues favorites. Happy Hour is from 3pm till 8pm & our kitchen staff is serving our ala carte menu from 3pm till 9:40pm. No Cover Charge. We thank you for your continued support of The Wanch & The Live HK Music Scene
URL:https://www.thewanch.hk/event/7pm-acoustic-happy-hour-featuring-eduin-9pm-iris-blues-night-with-special-guest-the-voodoo-bones-1030pm-iris-the-blues-breakers/
CATEGORIES:Acoustic Music,Blues,Happy Hour,Original Music
ATTACH;FMTTYPE=image/jpeg:https://www.thewanch.hk/wp-content/uploads/2025/06/iris-blues.jpg
END:VEVENT
BEGIN:VEVENT
DTSTART;TZID=Asia/Hong_Kong:20250617T180000
DTEND;TZID=Asia/Hong_Kong:20250623T235900
DTSTAMP:20260422T164035
CREATED:20250617T050722Z
LAST-MODIFIED:20250617T050724Z
UID:10002915-1750183200-1750723140@www.thewanch.hk
SUMMARY:Wanch Show Schedule June 17th thru June 23rd
DESCRIPTION:Here is this week’s schedule of music at The Wanch. The 17th is Iris Blues Night with special guest The Voodoo Bones. The 18th The Wanch Jazz Series continues with Alonso & Friends. The 19th is Yardley Brothers Live and Friday & Saturday The Wanch Hosts Make Music HK.  So don’t miss your favorites bands. We thank you for your continued support of The Wanch & The HK Live Music Scene
URL:https://www.thewanch.hk/event/wanch-show-schedule-june-17th-thru-june-23rd/
CATEGORIES:Acoustic Music,Blues,Classic Rock,Folk Rock,fusion,Grunge Rock,Happy Hour,Heavy Metal,Jam night,Jazz,Modern Rock,Original Music
ATTACH;FMTTYPE=image/jpeg:https://www.thewanch.hk/wp-content/uploads/2025/06/Wanch-June-17.jpg
END:VEVENT
BEGIN:VEVENT
DTSTART;TZID=Asia/Hong_Kong:20250620T180000
DTEND;TZID=Asia/Hong_Kong:20250620T235900
DTSTAMP:20260422T164035
CREATED:20250617T052941Z
LAST-MODIFIED:20250617T052943Z
UID:10002916-1750442400-1750463940@www.thewanch.hk
SUMMARY:7pm Day 1 Make Music HK Music Festival Sponsored by Alliance Francaise\, French Consulate\, European Union Office & The Wanch
DESCRIPTION:Join us for Day One of Make Music HK. The music starts at 7pm The Elodie Lee Quartet (Jazz)\, 8:15pm Omnimori (Rock)\, 9pm Road To Ruin (Rock)\, 10pm Mei Mei Motel (Post Punk)\, 11pm Kowloon Cowboys (Rhythm & Blues)\, 12am Rubicube (Rock & Originals). Happy Hour is from 3pm till 8pm & Our Kitchen staff is serving our ala carte menu from 3pm till 10:40pm. No Cover Charge. We thank you for your continued support of The Wanch & The HK Live Music Scene
URL:https://www.thewanch.hk/event/7pm-day-1-make-music-hk-music-festival-sponsored-by-alliance-francaise-french-consulate-european-union-office-the-wanch/
CATEGORIES:Blues,Classic Rock,fusion,Happy Hour,Heavy Metal,Jazz,Modern Rock,Original Music
ATTACH;FMTTYPE=image/jpeg:https://www.thewanch.hk/wp-content/uploads/2025/06/MMHK-2025.jpg
END:VEVENT
BEGIN:VEVENT
DTSTART;TZID=Asia/Hong_Kong:20250621T180000
DTEND;TZID=Asia/Hong_Kong:20250621T235900
DTSTAMP:20260422T164035
CREATED:20250618T093950Z
LAST-MODIFIED:20250618T093953Z
UID:10002917-1750528800-1750550340@www.thewanch.hk
SUMMARY:7pm Day 2 Make Music HK Music Festival Sponsored by Alliance Francaise\, French Consulate\, European Union Office & The Wanch
DESCRIPTION:Join us for Day 2 of Make Music HK Music Festival starting at 7pm Say Mosquito\, 7:45pm Bare Bay\, 8:45pm Sham Pain Buddha 9:45pm Shuffle Stuff\, 10:45pm The Philharmonic Orchestra\, 11:45pm RE’CALL. No Cover Charge. Happy Hour 3pm till 8pm & our kitchen staff is serving our ala carte menu from 2:30pm till 10:40pm. We thank you for your continued support of The Wanch & The HK Live Music Scene.
URL:https://www.thewanch.hk/event/7pm-day-2-make-music-hk-music-festival-sponsored-by-alliance-francaise-french-consulate-european-union-office-the-wanch/
CATEGORIES:Blues,Classic Rock,Grunge Rock,Happy Hour,Heavy Metal,Indie Rock,Modern Rock,Original Music
ATTACH;FMTTYPE=image/jpeg:https://www.thewanch.hk/wp-content/uploads/2025/06/MMHK-2025.jpg
END:VEVENT
BEGIN:VEVENT
DTSTART;TZID=Asia/Hong_Kong:20250622T180000
DTEND;TZID=Asia/Hong_Kong:20250622T235900
DTSTAMP:20260422T164035
CREATED:20250618T103947Z
LAST-MODIFIED:20250618T103949Z
UID:10002920-1750615200-1750636740@www.thewanch.hk
SUMMARY:6pm Jizza 9pm Heartbreakers 10:30pm Fourplay
DESCRIPTION:The music continues at 6pm with Jizza performing soft & modern rock favorites. 9pm Heartbreakers perform favorites from ACDC\, Led Zepplin\, Aerosmith & other rock favorites. 10:30pm Fourplay performs favorites from Soundgarden\, Guns N Roses\, Iron Maiden & other rock favorites. Happy Hour is from 3pm till 8pm & our kitchen staff is serving our ala carte menu from 3pm till 9:40pm. No Cover Charge. All from The Wanch HK’s Unofficial Home Of Live Music.
URL:https://www.thewanch.hk/event/6pm-jizza-9pm-heartbreakers-1030pm-fourplay/
CATEGORIES:Blues,Classic Rock,Grunge Rock,Happy Hour,Heavy Metal,Modern Rock
ATTACH;FMTTYPE=image/jpeg:https://www.thewanch.hk/wp-content/uploads/2025/06/Daily-Events-3-bands-4.jpg
END:VEVENT
END:VCALENDAR