BEGIN:VCALENDAR
VERSION:2.0
PRODID:-//The Wanch - ECPv6.15.20//NONSGML v1.0//EN
CALSCALE:GREGORIAN
METHOD:PUBLISH
X-WR-CALNAME:The Wanch
X-ORIGINAL-URL:https://www.thewanch.hk
X-WR-CALDESC:Events for The Wanch
REFRESH-INTERVAL;VALUE=DURATION:PT1H
X-Robots-Tag:noindex
X-PUBLISHED-TTL:PT1H
BEGIN:VTIMEZONE
TZID:Asia/Hong_Kong
BEGIN:STANDARD
TZOFFSETFROM:+0800
TZOFFSETTO:+0800
TZNAME:HKT
DTSTART:20240101T000000
END:STANDARD
END:VTIMEZONE
BEGIN:VEVENT
DTSTART;TZID=Asia/Hong_Kong:20250527T180000
DTEND;TZID=Asia/Hong_Kong:20250602T235900
DTSTAMP:20260422T025548
CREATED:20250527T043028Z
LAST-MODIFIED:20250527T043030Z
UID:10002883-1748368800-1748908740@www.thewanch.hk
SUMMARY:Wanch Show Schedule May 27th thru June 2nd
DESCRIPTION:Here is The Wanch Show Schedule for May 27th thru June 2nd. Make sure not to miss your favorite bands this week. Also we have two special shows this week. Tonight May 27th 9pm Iris Blues Night with The Lamma Blues Collective & 10:30pm Iris & The Blues Breakers. Wed the 28th 9pm The Wanch Jazz Series continues with  Katy Micha & The Swinging Sophisticatz. Advance tickets $200 can be purchased thru EventBrite or Ticketflap\, Tickets are $250 at the door and all ticket holders get 1 free drink. We thank you for your continued support of The Wanch & The HK Live Music Scene.
URL:https://www.thewanch.hk/event/wanch-show-schedule-may-27th-thru-june-2nd/
CATEGORIES:Acoustic Music,Blues,Classic Rock,Folk Rock,Funk,Grunge Rock,Happy Hour,Heavy Metal,Jazz,Modern Rock,Original Music
ATTACH;FMTTYPE=image/jpeg:https://www.thewanch.hk/wp-content/uploads/2025/05/Wanch-May27.jpg
END:VEVENT
BEGIN:VEVENT
DTSTART;TZID=Asia/Hong_Kong:20250602T180000
DTEND;TZID=Asia/Hong_Kong:20250602T235900
DTSTAMP:20260422T025548
CREATED:20250527T054331Z
LAST-MODIFIED:20250527T054333Z
UID:10002885-1748887200-1748908740@www.thewanch.hk
SUMMARY:7pm Acoustic Happy Hour Featuring Steve 9pm Jam Night Hosted by Iris & Rubicube
DESCRIPTION:Music starts at 7pm with Acoustic Happy Hour Featuring Steve 9pm Jam Night Hosted by Iris & Rubicube and all bands & musicians welcome. Call 3692-5933 after 3:30pm to reserve a slot. Happy Hour is from 3pm till 8pm & the kitchen staff is serving our ala carte menu from 3pm till 9:40pm. No Cover Charge. We thank you for your support of The Wanch & The HK Live Music Scene
URL:https://www.thewanch.hk/event/7pm-acoustic-happy-hour-featuring-steve-9pm-jam-night-hosted-by-iris-rubicube-14/
CATEGORIES:Acoustic Music,Blues,Classic Rock,Grunge Rock,Happy Hour,Jam night,Modern Rock,Original Music
ATTACH;FMTTYPE=image/jpeg:https://www.thewanch.hk/wp-content/uploads/2024/10/Jam-Nite.jpg
END:VEVENT
BEGIN:VEVENT
DTSTART;TZID=Asia/Hong_Kong:20250603T180000
DTEND;TZID=Asia/Hong_Kong:20250609T235900
DTSTAMP:20260422T025548
CREATED:20250603T043003Z
LAST-MODIFIED:20250603T043006Z
UID:10002890-1748973600-1749513540@www.thewanch.hk
SUMMARY:Wanch Show Schedule June 3rd thru June 9th
DESCRIPTION:Check out The Wanch Show Schedule for the week so that you don’t miss your favorite bands. Also this Tuesday 9pm is Iris Blues Night with Special Guest Purple Express. Wednesday The Wanch Jazz Series continues with The Heidi Li Jazz Quartet. Tickets are still available in advance at Eventbrite or Ticketflap. Tickets will also be available at the door. We look forward to seeing you this week.
URL:https://www.thewanch.hk/event/wanch-show-schedule-june-3rd-thru-june-9th/
CATEGORIES:Acoustic Music,Blues,Classic Rock,Folk Rock,fusion,Grunge Rock,Happy Hour,Heavy Metal,Jam night,Jazz,Modern Rock,Original Music
ATTACH;FMTTYPE=image/jpeg:https://www.thewanch.hk/wp-content/uploads/2025/06/Wanch-June-3rd.jpg
END:VEVENT
BEGIN:VEVENT
DTSTART;TZID=Asia/Hong_Kong:20250604T180000
DTEND;TZID=Asia/Hong_Kong:20250604T235900
DTSTAMP:20260422T025548
CREATED:20250531T073023Z
LAST-MODIFIED:20250531T073025Z
UID:10002889-1749060000-1749081540@www.thewanch.hk
SUMMARY:7pm Acoustic Happy Hour Featuring Iris 9pm The Wanch Jazz Series Features The Heidi Li Jazz Quartet 10:30pm Gonzales Musika. Advance Tickets $200 at the door $250 all tickets include 1 Free Drink
DESCRIPTION:The Music starts at 7pm with Acoustic Happy Hour featuring Iris performing acoustic rock favorites & originals. 9pm The Wanch Jazz Series continues with The Heidi Li Jazz Quartet performing modern & classic jazz standards. Advance tickets are $200 and are available through Eventbrite or Ticketflap. Tickets at the door are $250. All ticket holders receive one free drink. 10:30pm Gonzales Musika keeps the evening grooving with rock favorites from the 70’s-90’s & originals. If you’re looking for a great night of musical variety The Wanch is the place to be. Happy Hour from 3pm till 8pm & our kitchen staff is serving our ala carte menu from 3pm till 9:40pm. All this from The Wanch “Where Music Means Something.”
URL:https://www.thewanch.hk/event/7pm-acoustic-happy-hour-featuring-iris-9pm-the-wanch-jazz-series-features-the-heidi-li-jazz-quartet-1030pm-gonzales-musika-advance-tickets-200-at-the-door-250-all-tickets-include-1-free-drink/
CATEGORIES:Acoustic Music,Classic Rock,Happy Hour,Live Stream,Modern Rock,Original Music
ATTACH;FMTTYPE=image/jpeg:https://www.thewanch.hk/wp-content/uploads/2025/05/heidi-li.jpg
END:VEVENT
BEGIN:VEVENT
DTSTART;TZID=Asia/Hong_Kong:20250605T180000
DTEND;TZID=Asia/Hong_Kong:20250605T235900
DTSTAMP:20260422T025548
CREATED:20250603T044538Z
LAST-MODIFIED:20250603T044540Z
UID:10002891-1749146400-1749167940@www.thewanch.hk
SUMMARY:7pm Acoustic Happy Hour Featuring LarryZ 9pm Quadpolar (Formerly CLS) 10:30pm The Bullies
DESCRIPTION:The Music starts at 7pm with Acoustic Happy Hour featuring LarryZ performing acoustic rock favorites. 9pm Quadpolar (Formerly CLS) performs original and jazz fusion favorites. 10:30pm The Bullies perform rock favorites from the 80’s\, 90’s\, & 00’s. Happy Hour is from 3pm till 8pm & our kitchen staff is serving our ala carte menu from 3pm till 9:40pm. No Cover Charge. We thank you for supporting The Wanch & The HK Live Music Scene
URL:https://www.thewanch.hk/event/7pm-acoustic-happy-hour-featuring-larryz-9pm-quadpolar-formerly-cls-1030pm-the-bullies/
CATEGORIES:Acoustic Music,Classic Rock,fusion,Grunge Rock,Happy Hour,Jazz,Modern Rock,Original Music
ATTACH;FMTTYPE=image/jpeg:https://www.thewanch.hk/wp-content/uploads/2025/06/Daily-Events-3-bands.jpg
END:VEVENT
BEGIN:VEVENT
DTSTART;TZID=Asia/Hong_Kong:20250606T180000
DTEND;TZID=Asia/Hong_Kong:20250606T235900
DTSTAMP:20260422T025548
CREATED:20250603T052210Z
LAST-MODIFIED:20250603T052212Z
UID:10002892-1749232800-1749254340@www.thewanch.hk
SUMMARY:7pm Acoustic Happy Hour Featuring Bryant 9pm Repeat Offenders 10:30pm The Cave Men 12am Rubicube
DESCRIPTION:The Wanch kicks off your Friday with Acoustic Happy Hour Featuring Bryant performing original and acoustic rock ravorites. 9pm Repeat Offenders perform 80’s\, 90’s & Grunge Rock favorites. 10:30pm The Cave Men perform rock classics from the 60’s& 70’s. 12am Rubicube performs favorites by The Foo Fighters\, Aerosmith\, Jimi Hendrix\, The Beatles\, Green Day\, & originals. Happy Hour is from 3pm till 8pm & our kitchen staff is serving our ala carte menu from 3pm till 10:40pm. No Cover Charge. All this from The Wanch HK’s Unofficial Home Of Live Music.
URL:https://www.thewanch.hk/event/7pm-acoustic-happy-hour-featuring-bryant-9pm-repeat-offenders-1030pm-the-cave-men-12am-rubicube/
CATEGORIES:Acoustic Music,Classic Rock,Folk Rock,Grunge Rock,Happy Hour,Modern Rock,Original Music
ATTACH;FMTTYPE=image/jpeg:https://www.thewanch.hk/wp-content/uploads/2025/06/Daily-Events-4-bands.jpg
END:VEVENT
BEGIN:VEVENT
DTSTART;TZID=Asia/Hong_Kong:20250607T140000
DTEND;TZID=Asia/Hong_Kong:20250607T180000
DTSTAMP:20260422T025548
CREATED:20250605T045701Z
LAST-MODIFIED:20250605T045704Z
UID:10002893-1749304800-1749319200@www.thewanch.hk
SUMMARY:Doors open 2pm The German Swiss Music School 3pm till 6pm
DESCRIPTION:The Wanch opens its doors at 2pm and out kitchen staff is serving our ala carte menu from 2:30pm till 10:40pm and Happy Hour is from 3pm till 8pm. At 3 o’clock nusic students from The German Swiss School perform folk\, classic. & modern rock. The show is free and open to the public. So why not come and support some future musicians.
URL:https://www.thewanch.hk/event/doors-open-2pm-the-german-swiss-music-school-3pm-till-6pm/
CATEGORIES:Acoustic Music,Blues,Classic Rock,Folk Rock,Happy Hour,Modern Rock
ATTACH;FMTTYPE=image/jpeg:https://www.thewanch.hk/wp-content/uploads/2024/02/IMG_20220603_1912452-scaled.jpg
END:VEVENT
BEGIN:VEVENT
DTSTART;TZID=Asia/Hong_Kong:20250607T190000
DTEND;TZID=Asia/Hong_Kong:20250607T235900
DTSTAMP:20260422T025548
CREATED:20250605T052017Z
LAST-MODIFIED:20250605T052019Z
UID:10002894-1749322800-1749340740@www.thewanch.hk
SUMMARY:7pm Acoustic Happy Hour Featuring Steve 9pm Silvertrain 10:30pm Jimmy2Times 12am RE'CALL
DESCRIPTION:At 7pm the music continues with Acoustic Happy Hour Featuring Steve performing acoustic rock & originals. 9pm Silvertrain performs 70’s & 80’s rock favorites. 10:30pm Jimmy2Times performs Brit party rock favorites. 12am RE’CALL performs favorites from Soundgarden\, Limp Biskit\, Pearl Jam\, The Foo Fighters\, Iron Maiden\, & originals. Happy Hpur is from 3pm till 8pm & our kitchen staff is serving our ala carte menu from 2:30pm till 10:40pm. All this from HK’s Unofficial Home Of Live Music.
URL:https://www.thewanch.hk/event/7pm-acoustic-happy-hour-featuring-steve-9pm-silvertrain-1030pm-jimmy2times-12am-recall/
CATEGORIES:Acoustic Music,Classic Rock,Grunge Rock,Happy Hour,Heavy Metal,Modern Rock,Original Music
ATTACH;FMTTYPE=image/jpeg:https://www.thewanch.hk/wp-content/uploads/2025/06/Themed-Events.jpg
END:VEVENT
BEGIN:VEVENT
DTSTART;TZID=Asia/Hong_Kong:20250608T140000
DTEND;TZID=Asia/Hong_Kong:20250608T190000
DTSTAMP:20260422T025548
CREATED:20250605T053605Z
LAST-MODIFIED:20250605T053607Z
UID:10002895-1749391200-1749409200@www.thewanch.hk
SUMMARY:2pm R&R Brunch At 5pm The AMUSIX School
DESCRIPTION:The Wanch opens its doors at 2pm with our kitchen staff serving our ala carte menu from 2:30pm till 9:40pm. Happy Hour is from 3pm till 8pm. At 5pm Students from The AMUSIX School perform modern\, classic rock\, & originals. Come and support the future musicians of HK. We thank you for your continued support of The Wanch & The HK Live Music Scene.
URL:https://www.thewanch.hk/event/2pm-rr-brunch-at-5pm-the-amusix-school/
CATEGORIES:Acoustic Music,Brunch,Classic Rock,Grunge Rock,Happy Hour,Modern Rock,Original Music
ATTACH;FMTTYPE=image/jpeg:https://www.thewanch.hk/wp-content/uploads/2024/02/IMG_20220603_1912452-scaled.jpg
END:VEVENT
BEGIN:VEVENT
DTSTART;TZID=Asia/Hong_Kong:20250608T193000
DTEND;TZID=Asia/Hong_Kong:20250608T235900
DTSTAMP:20260422T025548
CREATED:20250605T061838Z
LAST-MODIFIED:20250605T061840Z
UID:10002896-1749411000-1749427140@www.thewanch.hk
SUMMARY:7:30pm Jizza & 10:30pm ANNticipate
DESCRIPTION:The music continues at 7:30pm with Jizza performing 70’s-90’s rock\, pop\, & blues. 10:30pm ANNticipate perform 80’s-00’s rock\, grunge\, & hard rock. Happy Hour is from 3pm till 8pm & our kitchen staff is serving our ala carte menu from 2:30pm till 9:40pm. No Cover Charge. We thank you for supporting The Wanch & The HK Live Music Scene.
URL:https://www.thewanch.hk/event/730pm-jizza-1030pm-annticipate/
CATEGORIES:Blues,Classic Rock,Grunge Rock,Happy Hour,Indie Rock,Modern Rock
ATTACH;FMTTYPE=image/jpeg:https://www.thewanch.hk/wp-content/uploads/2025/06/Daily-Events-2-Bands.jpg
END:VEVENT
END:VCALENDAR