BEGIN:VCALENDAR
VERSION:2.0
PRODID:-//The Wanch - ECPv6.15.20//NONSGML v1.0//EN
CALSCALE:GREGORIAN
METHOD:PUBLISH
X-WR-CALNAME:The Wanch
X-ORIGINAL-URL:https://www.thewanch.hk
X-WR-CALDESC:Events for The Wanch
REFRESH-INTERVAL;VALUE=DURATION:PT1H
X-Robots-Tag:noindex
X-PUBLISHED-TTL:PT1H
BEGIN:VTIMEZONE
TZID:Asia/Hong_Kong
BEGIN:STANDARD
TZOFFSETFROM:+0800
TZOFFSETTO:+0800
TZNAME:HKT
DTSTART:20240101T000000
END:STANDARD
END:VTIMEZONE
BEGIN:VEVENT
DTSTART;TZID=Asia/Hong_Kong:20250603T180000
DTEND;TZID=Asia/Hong_Kong:20250609T235900
DTSTAMP:20260422T043212
CREATED:20250603T043003Z
LAST-MODIFIED:20250603T043006Z
UID:10002890-1748973600-1749513540@www.thewanch.hk
SUMMARY:Wanch Show Schedule June 3rd thru June 9th
DESCRIPTION:Check out The Wanch Show Schedule for the week so that you don’t miss your favorite bands. Also this Tuesday 9pm is Iris Blues Night with Special Guest Purple Express. Wednesday The Wanch Jazz Series continues with The Heidi Li Jazz Quartet. Tickets are still available in advance at Eventbrite or Ticketflap. Tickets will also be available at the door. We look forward to seeing you this week.
URL:https://www.thewanch.hk/event/wanch-show-schedule-june-3rd-thru-june-9th/
CATEGORIES:Acoustic Music,Blues,Classic Rock,Folk Rock,fusion,Grunge Rock,Happy Hour,Heavy Metal,Jam night,Jazz,Modern Rock,Original Music
ATTACH;FMTTYPE=image/jpeg:https://www.thewanch.hk/wp-content/uploads/2025/06/Wanch-June-3rd.jpg
END:VEVENT
BEGIN:VEVENT
DTSTART;TZID=Asia/Hong_Kong:20250610T180000
DTEND;TZID=Asia/Hong_Kong:20250610T235900
DTSTAMP:20260422T043212
CREATED:20250606T055640Z
LAST-MODIFIED:20250606T055642Z
UID:10002899-1749578400-1749599940@www.thewanch.hk
SUMMARY:7pm Acoustic Happy Hour Featuring Bernard 9pm BAM Band 10:30pm Fast Line
DESCRIPTION:The music starts at 7pm with Bernard performing acoustic folk & rock favorites. 9pm BAM Band performs classic rock & Motown. 10:30pm Fast Line returns performing favorites from Deep Purple\, Guns N Roses\, Bon Jovi\, The Rolling Stones\, The Beatles and other rock favorites. Happy Hour is from 3pm till 8pm and our kitchen staff is serving our ala carte menu from 3pm till 9:40pm. No Cover Charge. We thank you for supporting The Wanch and The HK Live Music Scene.
URL:https://www.thewanch.hk/event/7pm-acoustic-happy-hour-featuring-bernard-9pm-bam-band-1030pm-fast-line/
CATEGORIES:Acoustic Music,Blues,Classic Rock,Folk Rock,Happy Hour,Modern Rock,Motown
ATTACH;FMTTYPE=image/jpeg:https://www.thewanch.hk/wp-content/uploads/2025/06/Daily-Events-3-bands-1.jpg
END:VEVENT
BEGIN:VEVENT
DTSTART;TZID=Asia/Hong_Kong:20250610T180000
DTEND;TZID=Asia/Hong_Kong:20250616T235900
DTSTAMP:20260422T043212
CREATED:20250610T061315Z
LAST-MODIFIED:20250610T061317Z
UID:10002909-1749578400-1750118340@www.thewanch.hk
SUMMARY:Wanch Show Schedule June 10th thru June 17th
DESCRIPTION:Check out The Wanch Show Schedule June 10th thru the 17th so you don’t miss your favorite bands this week. lease note The Wanch is closed to the public on June 11th starting at 7pm for a private event. Don’t miss The Red Stripes this Saturday. We thank you for your continued support of The Wanch & The HK Live Music Scene.
URL:https://www.thewanch.hk/event/wanch-show-schedule-june-10th-thru-june-17th/
CATEGORIES:Acoustic Music,Blues,Classic Rock,Folk Rock,Happy Hour,Heavy Metal,Jam night,Modern Rock,Original Music,Ska
ATTACH;FMTTYPE=image/jpeg:https://www.thewanch.hk/wp-content/uploads/2025/06/blues-June-17.jpg
END:VEVENT
BEGIN:VEVENT
DTSTART;TZID=Asia/Hong_Kong:20250612T180000
DTEND;TZID=Asia/Hong_Kong:20250612T235900
DTSTAMP:20260422T043212
CREATED:20250609T043637Z
LAST-MODIFIED:20250609T044055Z
UID:10002902-1749751200-1749772740@www.thewanch.hk
SUMMARY:7pm Acoustic Happy Hour Featuring LarryZ 9pm Diamond 6 10:30pm Holy Moly
DESCRIPTION:The music starts at 7pm with Acoustic Happy Hour featuring LarryZ performing acoustic folk & rock favorites. 9pm Diamond 6 returns performing 80’s & 90’s rock favorites. 10:30pm Holy Moly returns performing rock favorites from ACDC\, Guns N Roses\, Metallica\, The Foo Fighters and other 80’s & 90’s rock favorites. Happy Hour is from 3pm till 8pm & our kitchen staff is serving our ala carte menu from 3pm till 9:40pm. No Cover Charge. We thank you for your continued support of The Wanch & The HK Live Music Scene.
URL:https://www.thewanch.hk/event/7pm-acoustic-happy-hour-featuring-larryz-9pm-diamond-6-1030pm-holy-moly-2/
CATEGORIES:Acoustic Music,Classic Rock,Grunge Rock,Happy Hour,Heavy Metal,Modern Rock
ATTACH;FMTTYPE=image/jpeg:https://www.thewanch.hk/wp-content/uploads/2025/06/Daily-Events-3-bands-2.jpg
END:VEVENT
BEGIN:VEVENT
DTSTART;TZID=Asia/Hong_Kong:20250613T180000
DTEND;TZID=Asia/Hong_Kong:20250613T235900
DTSTAMP:20260422T043212
CREATED:20250609T052546Z
LAST-MODIFIED:20250609T052548Z
UID:10002903-1749837600-1749859140@www.thewanch.hk
SUMMARY:7pm Acoustic Happy Hour Featuring Bryant 9pm Black Lodge Cabaret 10:30pm MOJO 12am Rubicube
DESCRIPTION:The Wanch kicks off the weekend at 7pm with Acoustic Happy Hour featuring Bryant performing acoustic rock & originals. 9pm Black Lodge Cabaret return performing classic rock\, rockabilly\, other favorites. 10:30pm MOJO returns performing favorites from the 80’s-00’s. 12am Rubicube performs favorites from The Foo Fighters\, Green Day\, Aerosmith\, The Rolling Stones\, & Originals. Happy Hour is from 3pm till 8pm & our kitchen is serving our ala carte menu from 3pm till 10:40pm. No Cover Charge. From HK’s Unofficial Home Of Live Music. The Wanch. We thank you for your continued support.
URL:https://www.thewanch.hk/event/7pm-acoustic-happy-hour-featuring-bryant-9pm-black-lodge-cabaret-1030pm-mojo-12am-rubicube/
CATEGORIES:Acoustic Music,Blues,Classic Rock,Funk,Grunge Rock,Happy Hour,Modern Rock,Original Music
ATTACH;FMTTYPE=image/jpeg:https://www.thewanch.hk/wp-content/uploads/2025/06/Themed-Events-1.jpg
END:VEVENT
BEGIN:VEVENT
DTSTART;TZID=Asia/Hong_Kong:20250614T140000
DTEND;TZID=Asia/Hong_Kong:20250614T210000
DTSTAMP:20260422T043212
CREATED:20250609T061238Z
LAST-MODIFIED:20250609T061240Z
UID:10002904-1749909600-1749934800@www.thewanch.hk
SUMMARY:2pm Rock & Roll Brunch 5:30pm Chorus School Of Rock Music Show
DESCRIPTION:The Wanch opens its doors at 2pm and our kitchen staff is serving our ala carte menu from 2:30 till 10:40pm. Happy Hour is from 3pm till 8pm. 5:30pm students fro The Chorus School Of Rock perform classic\, modern\, & folk rock favorites\, there is a $100 entry fee at the door. Come and support the young musicians of Hong Kong.
URL:https://www.thewanch.hk/event/2pm-rock-roll-brunch-530pm-chorus-school-of-rock-music-show/
CATEGORIES:Acoustic Music,Classic Rock,Happy Hour,Modern Rock
ATTACH;FMTTYPE=image/jpeg:https://www.thewanch.hk/wp-content/uploads/2025/06/chorus-June-14.jpg
END:VEVENT
BEGIN:VEVENT
DTSTART;TZID=Asia/Hong_Kong:20250614T213000
DTEND;TZID=Asia/Hong_Kong:20250614T235900
DTSTAMP:20260422T043212
CREATED:20250609T064817Z
LAST-MODIFIED:20250609T064819Z
UID:10002905-1749936600-1749945540@www.thewanch.hk
SUMMARY:9:30pm The Red Stripes 11pm Supernaut 12:15am RE'CALL
DESCRIPTION:9:30pm The Red Stripes return to The Wanch performing Rude Boy Ska & Originals from their new album. 11pm Black Sabbath Tribute Band Supernaut performs Black Sabbath hits. 12:15am RE’CALL performs favorites from Soundgarden. Limp Biskit\, System Of The Down\, Iron Maiden\, Pearl Jam\, & Originals. Happy hour is from 3pm till 8pm & our kitchen staff is serving our ala carte menu from 3pm till 10:40pm. No Cover Charge. We thank you for your support of The Wanch  & The HK Live Music Scene.
URL:https://www.thewanch.hk/event/930pm-the-red-stripes-11pm-supernaut-1215am-recall/
CATEGORIES:Classic Rock,Funk,Grunge Rock,Heavy Metal,Modern Rock,Original Music,Ska
ATTACH;FMTTYPE=image/jpeg:https://www.thewanch.hk/wp-content/uploads/2025/06/RED-STRIPES-JUNE-14.jpg
END:VEVENT
BEGIN:VEVENT
DTSTART;TZID=Asia/Hong_Kong:20250615T140000
DTEND;TZID=Asia/Hong_Kong:20250615T180000
DTSTAMP:20260422T043212
CREATED:20250610T045257Z
LAST-MODIFIED:20250610T045259Z
UID:10002906-1749996000-1750010400@www.thewanch.hk
SUMMARY:2pm Rock & Roll Brunch 3pm Bryant Vallejo School Of Rock
DESCRIPTION:Doors open at 2pm with The Wanch kitchen staff serving our ala carte menu from 2:30pm till 9:40pm and Happy Houris from 3pm till 8pm. At 3pm students from the Bryant Vallejo Music School perform classic\, folk\, & modern rock favorites. So come and enjoy a relaxing brunch and support some of the future musicians of Hong Kong.
URL:https://www.thewanch.hk/event/2pm-rock-roll-brunch-3pm-bryant-vallejo-school-of-rock/
CATEGORIES:Acoustic Music,Blues,Brunch,Classic Rock,Folk Rock,Happy Hour,Modern Rock,School Of Rock
ATTACH;FMTTYPE=image/jpeg:https://www.thewanch.hk/wp-content/uploads/2024/05/20220818_195551.jpg
END:VEVENT
BEGIN:VEVENT
DTSTART;TZID=Asia/Hong_Kong:20250615T183000
DTEND;TZID=Asia/Hong_Kong:20250615T235900
DTSTAMP:20260422T043212
CREATED:20250610T052752Z
LAST-MODIFIED:20250610T052755Z
UID:10002907-1750012200-1750031940@www.thewanch.hk
SUMMARY:6:30pm Armie & Friends 9pm Spirit 10:30pm El Kapitan & The Privates
DESCRIPTION:The Wanch rocks your Sunday starting at 6:30pm with Armie & Friends performing rock favorites from the 50’s\, 60’s\, & 70’s. 9pm Spirit returns performing 70’s & Brit Rock favorites. 10:30pm El Kapitan & The Privates perform 70’s-90’s Soft Rock\, Classic & Modern Rock Favorites. Happy Hour 3pm till 8pm & our kitchen staff is serving our ala carte menu from 3pm till 9:40pm. No Cover Charge. We thank you for your continued support of The4 Wanch & The HK Live Music Scene.
URL:https://www.thewanch.hk/event/630pm-armie-friends-9pm-spirit-1030pm-el-kapitan-the-privates/
CATEGORIES:Blues,Classic Rock,Folk Rock,Happy Hour,Modern Rock
ATTACH;FMTTYPE=image/jpeg:https://www.thewanch.hk/wp-content/uploads/2025/06/Daily-Events-3-bands-3.jpg
END:VEVENT
END:VCALENDAR