BEGIN:VCALENDAR
VERSION:2.0
PRODID:-//The Wanch - ECPv6.15.20//NONSGML v1.0//EN
CALSCALE:GREGORIAN
METHOD:PUBLISH
X-ORIGINAL-URL:https://www.thewanch.hk
X-WR-CALDESC:Events for The Wanch
REFRESH-INTERVAL;VALUE=DURATION:PT1H
X-Robots-Tag:noindex
X-PUBLISHED-TTL:PT1H
BEGIN:VTIMEZONE
TZID:Asia/Hong_Kong
BEGIN:STANDARD
TZOFFSETFROM:+0800
TZOFFSETTO:+0800
TZNAME:HKT
DTSTART:20240101T000000
END:STANDARD
END:VTIMEZONE
BEGIN:VEVENT
DTSTART;TZID=Asia/Hong_Kong:20250416T180000
DTEND;TZID=Asia/Hong_Kong:20250416T235900
DTSTAMP:20260420T191747
CREATED:20250411T054935Z
LAST-MODIFIED:20250411T054937Z
UID:10002805-1744826400-1744847940@www.thewanch.hk
SUMMARY:7pm Acoustic Happy Hour Featuring Jessa & Friends 9pm The Wanch Jazz Concert Series Features The Yoroko Chan Quartet $200 Entry Includes 1 Drink 10:30pm Jizza
DESCRIPTION:The Wanch features a night of outstanding music starting at 7pm with Acoustic Happy Hour featuring Jessa & Friends. 9pm The Yoroko Chan Quartet performs modern & classic Jazz. Entry is $200 & includes 1 drink. You can get tickets in advance at Eventbrite or Ticketflap. 10:30pm Jizza performs rock favorites from the 80’s & 90’s. Happy Hour is from 3-8pm & our kitchen is serving our ala carte menu from 3pm till 9:40pm
URL:https://www.thewanch.hk/event/7pm-acoustic-happy-hour-featuring-jessa-friends-9pm-the-wanch-jazz-concert-series-features-the-yoroko-chan-quartet-200-entry-includes-1-drink-1030pm-jizza/
CATEGORIES:Blues,Classic Rock,fusion,Happy Hour,Jazz,Modern Rock
ATTACH;FMTTYPE=image/jpeg:https://www.thewanch.hk/wp-content/uploads/2025/04/yorko.jpg
END:VEVENT
BEGIN:VEVENT
DTSTART;TZID=Asia/Hong_Kong:20250423T180000
DTEND;TZID=Asia/Hong_Kong:20250423T235900
DTSTAMP:20260420T191747
CREATED:20250419T045350Z
LAST-MODIFIED:20250419T045352Z
UID:10002820-1745431200-1745452740@www.thewanch.hk
SUMMARY:7pm Acoustic Happy Hour Featuring Iris 9pm Jazz Nite Featuring Kowloon Swing Outfit Entry $200 Includes First Drink 10:30pm Gonzales Musika
DESCRIPTION:The music starts at 7pm with Acoustic Happy Hour featuring Iris performing originals and acoustic rock favorites. 9pm The Wanch Jazz Concert Series continues featuring The Kowloon Swing Outfit performing contemporary and classic jazz favorites. Tickets are $200 and includes your first drink. Tickets are available at Ticketflap\, Eventbrite\, or at The Door. 10:30pm Gonzales Musika keeps the party rocking with favorites from Blondie\, The Ramones\, Green Day\, Led Zeppelin and originals. Happy Hour is from 3pm till 8pm & our kitchen staff is serving our ala carte menu from 3pm till 9:40pm. All this from The Wanch “Where Music Means Something”
URL:https://www.thewanch.hk/event/7pm-acoustic-happy-hour-featuring-iris-9pm-jazz-nite-featuring-kowloon-swing-outfit-entry-200-includes-first-drink-1030pm-gonzales-musika/
CATEGORIES:Acoustic Music,Classic Rock,fusion,Happy Hour,Jazz,Modern Rock,Original Music
ATTACH;FMTTYPE=image/jpeg:https://www.thewanch.hk/wp-content/uploads/2025/04/KOWLOON.jpg
END:VEVENT
END:VCALENDAR