BEGIN:VCALENDAR
VERSION:2.0
PRODID:-//The Wanch - ECPv6.15.20//NONSGML v1.0//EN
CALSCALE:GREGORIAN
METHOD:PUBLISH
X-ORIGINAL-URL:https://www.thewanch.hk
X-WR-CALDESC:Events for The Wanch
REFRESH-INTERVAL;VALUE=DURATION:PT1H
X-Robots-Tag:noindex
X-PUBLISHED-TTL:PT1H
BEGIN:VTIMEZONE
TZID:Asia/Hong_Kong
BEGIN:STANDARD
TZOFFSETFROM:+0800
TZOFFSETTO:+0800
TZNAME:HKT
DTSTART:20240101T000000
END:STANDARD
END:VTIMEZONE
BEGIN:VEVENT
DTSTART;TZID=Asia/Hong_Kong:20250813T180000
DTEND;TZID=Asia/Hong_Kong:20250813T235900
DTSTAMP:20260420T190246
CREATED:20250807T074736Z
LAST-MODIFIED:20250807T074738Z
UID:10002996-1755108000-1755129540@www.thewanch.hk
SUMMARY:7pm Acoustic Happy Hour Featuring Bernard 9pm he Wanch Jazz Series Features Phil D & The Band Tickets $300 Advance $350 At The Door 10:30pm El Kapitan & The Privates
DESCRIPTION:The music starts at 7pm with Acoustic Happy Hour featuring Bernard performing acoustic rock favorites. 9pm The Wanch Jazz Series features Phil D & The Band perform African Soul & Jazz. Tickets are $300 in advance and you receive 1 free drink & a $100 Food Voucher. Tickets are available through Eventbrite or Ticketflap. Tickets are $350 at The Door. 10:30pm El Kapitan & The Privates perform modern & classic rock favorites. Happy Hour is from 3pm till 8pm & our kitchen staff is serving our ala carte menu from 3pm till 9:40pm. We thank you for supporting The Wanch & HK’s Live Music Scene
URL:https://www.thewanch.hk/event/7pm-acoustic-happy-hour-featuring-bernard-9pm-he-wanch-jazz-series-features-phil-d-the-band-tickets-300-advance-350-at-the-door-1030pm-el-kapitan-the-privates/
CATEGORIES:Acoustic Music,Classic Rock,fusion,Happy Hour,Jazz,Modern Rock
ATTACH;FMTTYPE=image/jpeg:https://www.thewanch.hk/wp-content/uploads/2025/08/Jazz-Aug-13.jpg
END:VEVENT
END:VCALENDAR