BEGIN:VCALENDAR
VERSION:2.0
PRODID:-//The Wanch - ECPv6.15.20//NONSGML v1.0//EN
CALSCALE:GREGORIAN
METHOD:PUBLISH
X-ORIGINAL-URL:https://www.thewanch.hk
X-WR-CALDESC:Events for The Wanch
REFRESH-INTERVAL;VALUE=DURATION:PT1H
X-Robots-Tag:noindex
X-PUBLISHED-TTL:PT1H
BEGIN:VTIMEZONE
TZID:Asia/Hong_Kong
BEGIN:STANDARD
TZOFFSETFROM:+0800
TZOFFSETTO:+0800
TZNAME:HKT
DTSTART:20240101T000000
END:STANDARD
END:VTIMEZONE
BEGIN:VEVENT
DTSTART;TZID=Asia/Hong_Kong:20250128T180000
DTEND;TZID=Asia/Hong_Kong:20250203T235900
DTSTAMP:20260424T224223
CREATED:20250125T072626Z
LAST-MODIFIED:20250125T072747Z
UID:10002677-1738087200-1738627140@www.thewanch.hk
SUMMARY:Wanch Show Schedule Jan 28th thru Feb 3rd
DESCRIPTION:Check out The Wanch Show Schedule for Jan 28th thru Feb 3rd. Make sure to mark your calendar so you don’t miss your favorite bands this week. See some names of bands you haven’t see then why not check them out as well. Happy Hour is 3pm till 8pm daily. Our kitchen staff serves our ala carte menu 3pm till 9:40pm Sunday thru Thursday & 3pm till 10:40pm Friday & Saturday. The Wanch Staff & Management would like to wish everyone a Happy\, Healthy\, Positive & Prosperous Year Of The Snake. Kung Hei Fat Choi.
URL:https://www.thewanch.hk/event/wanch-show-schedule-jan-28th-thru-feb-3rd/
CATEGORIES:Blues,Classic Rock,Folk Rock,fusion,Grunge Rock,Happy Hour,Heavy Metal,Jazz,Modern Rock,Original Music
ATTACH;FMTTYPE=image/jpeg:https://www.thewanch.hk/wp-content/uploads/2025/01/Wanch-Jan-28-scaled.jpg
END:VEVENT
BEGIN:VEVENT
DTSTART;TZID=Asia/Hong_Kong:20250129T180000
DTEND;TZID=Asia/Hong_Kong:20250129T235959
DTSTAMP:20260424T224223
CREATED:20250125T081102Z
LAST-MODIFIED:20250125T081104Z
UID:10002679-1738173600-1738195199@www.thewanch.hk
SUMMARY:7pm Acoustic Happy Hour Featuring Steve 9pm Kowloon Swing Outfit (Ticketed Event $200 & Includes 1 Drink) 10:30pm Gonzales Musika
DESCRIPTION:Kung Hei Fat Choi Everyone. Day 1 of Chinese New Year. The Music starts at 7pm with Acoustic Happy Hour featuring Steve performing acoustic rock & originals. 9pm Kowloon Swing Outfit perform Jazz & Classic Swing. Tickets are $200 and includes your first drink. Tickets can be purchased https://thewanch.hk/240129 10:30pm Gonzales Musika performs rock favorites from Led Zeppelin\, Blondie\, Green Day\, The Ramones\, & originals. Happy Hour is from 3pm till 8pm & our kitchen staff is serving our ala carte menu from 2pm till 9:40pm. We Thank you for your continued support of The Wanch & The HK Live Music Scene.
URL:https://www.thewanch.hk/event/7pm-acoustic-happy-hour-featuring-steve-9pm-kowloon-swing-outfit-ticketed-event-200-includes-1-drink-1030pm-gonzales-musika/
CATEGORIES:Classic Rock,fusion,Happy Hour,Indie Rock,Jazz,Modern Rock,Original Music
ATTACH;FMTTYPE=image/jpeg:https://www.thewanch.hk/wp-content/uploads/2025/01/Kowloon-Swing-scaled.jpg
END:VEVENT
END:VCALENDAR