BEGIN:VCALENDAR
VERSION:2.0
PRODID:-//The Wanch - ECPv6.15.20//NONSGML v1.0//EN
CALSCALE:GREGORIAN
METHOD:PUBLISH
X-WR-CALNAME:The Wanch
X-ORIGINAL-URL:https://www.thewanch.hk
X-WR-CALDESC:Events for The Wanch
REFRESH-INTERVAL;VALUE=DURATION:PT1H
X-Robots-Tag:noindex
X-PUBLISHED-TTL:PT1H
BEGIN:VTIMEZONE
TZID:Asia/Hong_Kong
BEGIN:STANDARD
TZOFFSETFROM:+0800
TZOFFSETTO:+0800
TZNAME:HKT
DTSTART:20240101T000000
END:STANDARD
END:VTIMEZONE
BEGIN:VEVENT
DTSTART;TZID=Asia/Hong_Kong:20250215T193000
DTEND;TZID=Asia/Hong_Kong:20250215T235900
DTSTAMP:20260424T223524
CREATED:20250211T090351Z
LAST-MODIFIED:20250211T090354Z
UID:10002709-1739647800-1739663940@www.thewanch.hk
SUMMARY:7:30pm Groove Central 9pm The Octopus 10:30pm Shark Biscuit 12am RE'CALL
DESCRIPTION:After The Record Fair The Wanch rocks your Saturday night starting with Groove Central kicks off the evening with a mixture of Soul\, Pop\, & Jazz 9pm The Octopus returns performing 80’s & 90’s Hard Rock & Metal. 10:30pm Shark Biscuit performs Australian Rock. 12am RE’CALL performs favorites from Soundgarden\, Limp Biskit\, System Of The Down\, Iron Maiden\, Dr.Dre\, Metallica\, & Originals. No Cover Charge. Happy Hour is from 3pm till 8pm & Our kitchen staff is serving our ala carte menu from 3pm till 10:40pm. We thank you for your continued support of The Wanch & The HK Live Music Scene
URL:https://www.thewanch.hk/event/730pm-groove-central-9pm-the-octopus-1030pm-shark-biscuit-12am-recall/
CATEGORIES:Blues,Classic Rock,fusion,Grunge Rock,Happy Hour,Heavy Metal,Jazz,Modern Rock,Original Music
ATTACH;FMTTYPE=image/jpeg:https://www.thewanch.hk/wp-content/uploads/2025/02/Daily-Events-4-bands-3.jpg
END:VEVENT
END:VCALENDAR