BEGIN:VCALENDAR
VERSION:2.0
PRODID:-//The Wanch - ECPv6.15.20//NONSGML v1.0//EN
CALSCALE:GREGORIAN
METHOD:PUBLISH
X-WR-CALNAME:The Wanch
X-ORIGINAL-URL:https://www.thewanch.hk
X-WR-CALDESC:Events for The Wanch
REFRESH-INTERVAL;VALUE=DURATION:PT1H
X-Robots-Tag:noindex
X-PUBLISHED-TTL:PT1H
BEGIN:VTIMEZONE
TZID:Asia/Hong_Kong
BEGIN:STANDARD
TZOFFSETFROM:+0800
TZOFFSETTO:+0800
TZNAME:HKT
DTSTART:20240101T000000
END:STANDARD
END:VTIMEZONE
BEGIN:VEVENT
DTSTART;TZID=Asia/Hong_Kong:20250501T180000
DTEND;TZID=Asia/Hong_Kong:20250501T235900
DTSTAMP:20260422T011856
CREATED:20250427T083516Z
LAST-MODIFIED:20250427T083518Z
UID:10002833-1746122400-1746143940@www.thewanch.hk
SUMMARY:7pm Acoustic Happy Hour Featuring LarryZ 9pm Papa Jack 10:30pm Maryjane & The Gang
DESCRIPTION:The music starts at 7pm with Acoustic Happy Hour Featuring LarryZ performing acoustic rock favorites. 9pm Papa Jack returns performing 80’s rock\, funk\, & originals. 10:30pm Maryjane & The Gang perform 80’s\, 90’s\, & Originals. Happy Hour is from 3pm till 8pm & our kitchen staff is serving our ala carte menu from 3pm till 9:40pm. No Cover Charge. We thank you for youe support of The Wanch & The HK Live Music Scene
URL:https://www.thewanch.hk/event/7pm-acoustic-happy-hour-featuring-larryz-9pm-papa-jack-1030pm-maryjane-the-gang/
CATEGORIES:Acoustic Music,Blues,Classic Rock,fusion,Happy Hour,Indie Rock,Modern Rock,Original Music
ATTACH;FMTTYPE=image/jpeg:https://www.thewanch.hk/wp-content/uploads/2025/04/Daily-Events-3-bands-9.jpg
END:VEVENT
BEGIN:VEVENT
DTSTART;TZID=Asia/Hong_Kong:20250508T180000
DTEND;TZID=Asia/Hong_Kong:20250508T235900
DTSTAMP:20260422T011856
CREATED:20250503T074824Z
LAST-MODIFIED:20250506T053425Z
UID:10002842-1746727200-1746748740@www.thewanch.hk
SUMMARY:7pm Island Invasion featuring Shaun Martin\, Fish Godmother\, & The VV's 10:30pm Straight Up
DESCRIPTION:The Invasion begins at 7pm with Shaun Martin 8pm Fish Godmother & 9pm The VV’s. 10:30pm Straight Up keeps the party rolling performing rock favorites from the 80’s\, 90’s\, & 00’s. Happy Hour is from 3pm till 8pm & our kitchen staff is serving our ala carte menu from 3pm till 9:40pm. No Cover Charge. All this from HK’s Unofficial Home of Live Music. The Wanch
URL:https://www.thewanch.hk/event/7pm-island-invasion-featuring-shaun-martin-fish-godmother-the-vvs-1030pm-3rd-attempt/
CATEGORIES:Acoustic Music,Folk Rock,Grunge Rock,Happy Hour,Indie Rock,Modern Rock,Original Music
ATTACH;FMTTYPE=image/jpeg:https://www.thewanch.hk/wp-content/uploads/2025/05/invasion.jpg
END:VEVENT
BEGIN:VEVENT
DTSTART;TZID=Asia/Hong_Kong:20250515T180000
DTEND;TZID=Asia/Hong_Kong:20250515T235900
DTSTAMP:20260422T011856
CREATED:20250512T054255Z
LAST-MODIFIED:20250512T054257Z
UID:10002854-1747332000-1747353540@www.thewanch.hk
SUMMARY:7pm Acoustic Happy Hour Features LarryZ 9pm Yardley Brothers Live Features Jarad Biber\, Pumpkin Bomb\, Goldsmiths\, & Feel The Noise
DESCRIPTION:The music kicks off at 7pm with Acoustic Happy Hour featuring LarryZ performing acoustic rock favorites. 9pm it’s Yardley Brothers Live featuring original music performed by Jarad Biber\, 9:45pm Pumpkin Bomb. 10:30pm Goldsmiths & 11:15pm Feel The Noise. Yardley Brothers Live Session Ale is $58/pint all night long. Happy Hour is from 3pm till 8pm & our kitchen staff is serving our ala carte menu from 3pm till 9:40pm. No Cover Charge. See you tonight
URL:https://www.thewanch.hk/event/7pm-acoustic-happy-hour-features-larryz-9pm-yardley-brothers-live-features-jarad-biber-pumpkin-bomb-goldsmiths-feel-the-noise/
CATEGORIES:Acoustic Music,Happy Hour,Heavy Metal,Indie Rock,Original Music
ATTACH;FMTTYPE=image/jpeg:https://www.thewanch.hk/wp-content/uploads/2025/01/Yardley-logo-scaled.jpg
END:VEVENT
END:VCALENDAR