BEGIN:VCALENDAR
VERSION:2.0
PRODID:-//The Wanch - ECPv6.15.20//NONSGML v1.0//EN
CALSCALE:GREGORIAN
METHOD:PUBLISH
X-WR-CALNAME:The Wanch
X-ORIGINAL-URL:https://www.thewanch.hk
X-WR-CALDESC:Events for The Wanch
REFRESH-INTERVAL;VALUE=DURATION:PT1H
X-Robots-Tag:noindex
X-PUBLISHED-TTL:PT1H
BEGIN:VTIMEZONE
TZID:Asia/Hong_Kong
BEGIN:STANDARD
TZOFFSETFROM:+0800
TZOFFSETTO:+0800
TZNAME:HKT
DTSTART:20240101T000000
END:STANDARD
END:VTIMEZONE
BEGIN:VEVENT
DTSTART;TZID=Asia/Hong_Kong:20251204T180000
DTEND;TZID=Asia/Hong_Kong:20251204T235900
DTSTAMP:20260420T175937
CREATED:20251201T045000Z
LAST-MODIFIED:20251201T045003Z
UID:10003180-1764871200-1764892740@www.thewanch.hk
SUMMARY:7pm Acoustic Happy Hour Featuring Eduin 9pm The Goldsmiths 10:30pm Adam's Eve
DESCRIPTION:The music starts at 7pm with Acoustic Happy Hour Featuring Eduin performing acoustic rock favorites. 9pm The Goldsmiths perform 90’s rock & originals. 10:30pm Adam’s Eve performs 70’s-90’s rock. Happy Hour is from 3pm till 8pm and our kitchen staff is serving our ala carte menu from 3pm till 9:40pm & No Cover Charge. We thank you for supporting The Wanch & HK’s Live Music Scene.
URL:https://www.thewanch.hk/event/7pm-acoustic-happy-hour-featuring-eduin-9pm-the-goldsmiths-1030pm-adams-eve/
CATEGORIES:Acoustic Music,Classic Rock,Grunge Rock,Happy Hour,Indie Rock,Modern Rock,Original Music
ATTACH;FMTTYPE=image/jpeg:https://www.thewanch.hk/wp-content/uploads/2025/12/Daily-Events-3-bands.jpg
END:VEVENT
BEGIN:VEVENT
DTSTART;TZID=Asia/Hong_Kong:20251221T180000
DTEND;TZID=Asia/Hong_Kong:20251221T235900
DTSTAMP:20260420T175937
CREATED:20251218T054435Z
LAST-MODIFIED:20251218T054438Z
UID:10003208-1766340000-1766361540@www.thewanch.hk
SUMMARY:6pm Armie & Friends 9pm Maryjane & The Gang 10:30pm Smooth N Groovin'
DESCRIPTION:Get your dancing shoes ready as at 6pm Armie & Friends perform classic rock from the 50’s thru the 70’s. 9pm Maryjane & The Gang perform favorites from The B-52’s\, The Police\, Originals and other rock favorites. 10:30pm Smooth N Groovin’ perform classic rock from the 70’s and a bit of Motown. Happy Hour is from 2pm till 8pm & our kitchen staff is serving our ala carte menu from 2:30pm till 9:40pm & No Cover Charge. We thank you for your continued support of The Wanch & HK’s Live Music Scene.
URL:https://www.thewanch.hk/event/6pm-armie-friends-9pm-maryjane-the-gang-1030pm-smooth-n-groovin/
CATEGORIES:Classic Rock,Folk Rock,Happy Hour,Indie Rock,Modern Rock,Motown,Original Music
ATTACH;FMTTYPE=image/jpeg:https://www.thewanch.hk/wp-content/uploads/2025/12/Daily-Events-3-bands-6.jpg
END:VEVENT
BEGIN:VEVENT
DTSTART;TZID=Asia/Hong_Kong:20251228T180000
DTEND;TZID=Asia/Hong_Kong:20251228T235900
DTSTAMP:20260420T175937
CREATED:20251224T094433Z
LAST-MODIFIED:20251224T094435Z
UID:10003218-1766944800-1766966340@www.thewanch.hk
SUMMARY:6pm Armie & Friends 9pm Blues w/ Shun Kikuta from Japan 10:30pm Forgotten Feedback
DESCRIPTION:The Wanch dishes up a hot Sunday of music starting ar 6pm with Armie & Friends performing favorites from the 50’s thru 70’s. 9pm Japamese Blues master Shun Kituta from Japan performs Classic Blues & Originals. 10:30pm Forgotten Feedback performs 80’s & 90’s Grunge Rock. No Cover Charge. Happy Hour is from 2pm-8pm & our kitchen staff is serving our ala carte menu from 2:30pm till 9:40pm. We Thank you for supporting The Wanch & HK’s Live Music Scene.
URL:https://www.thewanch.hk/event/6pm-armie-friends-9pm-blues-w-shun-kikuta-from-japan-1030pm-forgotten-feedback/
CATEGORIES:Blues,Classic Rock,Folk Rock,Grunge Rock,Happy Hour,Indie Rock
ATTACH;FMTTYPE=image/jpeg:https://www.thewanch.hk/wp-content/uploads/2025/12/Daily-Events-3-bands-9.jpg
END:VEVENT
BEGIN:VEVENT
DTSTART;TZID=Asia/Hong_Kong:20260123T180000
DTEND;TZID=Asia/Hong_Kong:20260123T235900
DTSTAMP:20260420T175937
CREATED:20260118T062932Z
LAST-MODIFIED:20260118T062934Z
UID:10003253-1769191200-1769212740@www.thewanch.hk
SUMMARY:7pm Acoustic Happy Hour Featuring Bryant 9pm Helium 3 10:30pm Glen Alfred 12am Rubicube
DESCRIPTION:The Wanch gets your weekend started at 7pm with Acousti Happy Hour featuring Bryant performing acoustic rick favorites & originals. 9pm Helium 3 returns performing 80’s & 90’s rock favorites. 10:30pm Glen Alfred & Co perform original indie & folk rock. 12am Rubicube perform favorites from the 70’s thru 90’s and originals. Happy Hour is from 3pm till 3pm and our kitchen staff is serving our ala carte menu from 3pm till 10:40pm and No Cover Charge. We thank you all for your continued support of The Wanch & HK’s Live Music Scene.
URL:https://www.thewanch.hk/event/7pm-acoustic-happy-hour-featuring-bryant-9pm-helium-3-1030pm-glen-alfred-12am-rubicube/
CATEGORIES:Acoustic Music,Classic Rock,Grunge Rock,Happy Hour,Indie Rock,Modern Rock,Original Music
ATTACH;FMTTYPE=image/jpeg:https://www.thewanch.hk/wp-content/uploads/2026/01/Themed-Events-1.jpg
END:VEVENT
BEGIN:VEVENT
DTSTART;TZID=Asia/Hong_Kong:20260125T180000
DTEND;TZID=Asia/Hong_Kong:20260125T235900
DTSTAMP:20260420T175937
CREATED:20260119T081941Z
LAST-MODIFIED:20260120T093820Z
UID:10003256-1769364000-1769385540@www.thewanch.hk
SUMMARY:6pm Armie & Friends 9pm Chilling Lab 10:30pm RE'CALL
DESCRIPTION:The Wanch rock your Sunday starting at 6pm with Armie & Friends performing rock classics from the 50’s thru the 70’s. 9pm Chilling Lab performs modern rock & originals. 10:30pm RE’CALL performs favorites from the 70’s thru 00’s. Happy Hour is from 3pm till 8pm and our kitchen staff is serving our ala carte menu from 3pm till 9:40pm & No Cover Charge. We thank you for your continuous support of The Wanch & HK’s Live Music Scene.
URL:https://www.thewanch.hk/event/6pm-armie-friends-9pm-chilli-1030pm-recall/
CATEGORIES:Classic Rock,Grunge Rock,Happy Hour,Indie Rock,Modern Rock,Original Music
ATTACH;FMTTYPE=image/jpeg:https://www.thewanch.hk/wp-content/uploads/2026/01/Daily-Events-3-bands-5.jpg
END:VEVENT
BEGIN:VEVENT
DTSTART;TZID=Asia/Hong_Kong:20260128T180000
DTEND;TZID=Asia/Hong_Kong:20260128T235900
DTSTAMP:20260420T175937
CREATED:20260124T073016Z
LAST-MODIFIED:20260124T073019Z
UID:10003260-1769623200-1769644740@www.thewanch.hk
SUMMARY:7pm Acoustic Happy Hour Featuring Iris 9pm BV Trio 10:30pm Bad Church
DESCRIPTION:The Wanch rocks your Wednesday starting at 7pm with Acoustic Happy Hour featuring Iris performing acoustic rock and originals. 9pm BV Trio makes their debut performing Acoustic Indie Surf Rock Originals and Covers. 10:30pm Bad Church performs rock favorites from the 80’s-00’s. Happy Hour is from 3pm till 8pm and our kitchen staff is serving our ala carte menu from 3pm till 9:40pm and No Cover Charge. All this from The Wanch “Where Music Means Something.”
URL:https://www.thewanch.hk/event/7pm-acoustic-happy-hour-featuring-iris-9pm-bv-trio-1030pm-bad-church/
CATEGORIES:Acoustic Music,Classic Rock,Happy Hour,Indie Rock,Modern Rock,Original Music
ATTACH;FMTTYPE=image/jpeg:https://www.thewanch.hk/wp-content/uploads/2026/01/BV-TRIO.jpg
END:VEVENT
BEGIN:VEVENT
DTSTART;TZID=Asia/Hong_Kong:20260130T180000
DTEND;TZID=Asia/Hong_Kong:20260130T235900
DTSTAMP:20260420T175937
CREATED:20260125T060621Z
LAST-MODIFIED:20260125T060624Z
UID:10003262-1769796000-1769817540@www.thewanch.hk
SUMMARY:7pm Acoustic Happy Hour Featuring Bryant 9pm Light & Co. 10:30pm Shumking Mansion 12am Rubicube
DESCRIPTION:The Wanch rocks your Friday night starting at 7pm with Acoustic Happy Hour featuring Bryant performing acoustic rock and originals. 9pm Light & Co performs 70’s & 80’s Party Rock) 10:30pm Shumking Mansion returns to The Wanch performing original rock. 12am Rubicube performs 70’s-90’s rock & originals. Happy Hour is from 3pm till 8pm and our kitchen staff is serving our ala carte menu from 3pm till 10:40pm and No Cover Charge. We thank you for your continued support of The Wanch & HK’s Live Music Scene
URL:https://www.thewanch.hk/event/7pm-acoustic-happy-hour-featuring-bryant-9pm-light-co-1030pm-shumking-mansion-12am-rubicube/
CATEGORIES:Acoustic Music,Classic Rock,Grunge Rock,Happy Hour,Indie Rock,Modern Rock,Original Music
ATTACH;FMTTYPE=image/jpeg:https://www.thewanch.hk/wp-content/uploads/2026/01/Themed-Events-3.jpg
END:VEVENT
END:VCALENDAR