BEGIN:VCALENDAR
VERSION:2.0
PRODID:-//The Wanch - ECPv6.15.20//NONSGML v1.0//EN
CALSCALE:GREGORIAN
METHOD:PUBLISH
X-WR-CALNAME:The Wanch
X-ORIGINAL-URL:https://www.thewanch.hk
X-WR-CALDESC:Events for The Wanch
REFRESH-INTERVAL;VALUE=DURATION:PT1H
X-Robots-Tag:noindex
X-PUBLISHED-TTL:PT1H
BEGIN:VTIMEZONE
TZID:Asia/Hong_Kong
BEGIN:STANDARD
TZOFFSETFROM:+0800
TZOFFSETTO:+0800
TZNAME:HKT
DTSTART:20240101T000000
END:STANDARD
END:VTIMEZONE
BEGIN:VEVENT
DTSTART;TZID=Asia/Hong_Kong:20250406T180000
DTEND;TZID=Asia/Hong_Kong:20250406T235900
DTSTAMP:20260425T190300
CREATED:20250401T093422Z
LAST-MODIFIED:20250401T093424Z
UID:10002790-1743962400-1743983940@www.thewanch.hk
SUMMARY:6pm Armie & Friends 9pm Maryjane & The Gang 10:30pm The Bullies
DESCRIPTION:Get your dancing shoes ready as starting at 6pm Armie & Friends perform rock favorites from the 50’s\, 60’s\, & 70’s. 9pm Maryjane & The Gang perform favorites from The Cure\, B-52’s\, Blondie\, The Police\, & Originals. 10:30pm The Bullies perform 80’s\, 90’s\, & 00’s Rock. Happy Hour is from 3pm till 8pm & our kitchen staff is serving our ala carte menu from 2pm till 9:40pm. No Cover Charge. We thank you for your continued support of The Wanch and HK’s Live Music Scene
URL:https://www.thewanch.hk/event/6pm-armie-friends-9pm-maryjane-the-gang-1030pm-the-bullies/
CATEGORIES:Blues,Classic Rock,Folk Rock,Grunge Rock,Happy Hour,Heavy Metal,Indie Rock,Modern Rock,Original Music
ATTACH;FMTTYPE=image/jpeg:https://www.thewanch.hk/wp-content/uploads/2025/04/Daily-Events-3-bands-1.jpg
END:VEVENT
END:VCALENDAR