BEGIN:VCALENDAR
VERSION:2.0
PRODID:-//The Wanch - ECPv6.15.20//NONSGML v1.0//EN
CALSCALE:GREGORIAN
METHOD:PUBLISH
X-ORIGINAL-URL:https://www.thewanch.hk
X-WR-CALDESC:Events for The Wanch
REFRESH-INTERVAL;VALUE=DURATION:PT1H
X-Robots-Tag:noindex
X-PUBLISHED-TTL:PT1H
BEGIN:VTIMEZONE
TZID:Asia/Hong_Kong
BEGIN:STANDARD
TZOFFSETFROM:+0800
TZOFFSETTO:+0800
TZNAME:HKT
DTSTART:20240101T000000
END:STANDARD
END:VTIMEZONE
BEGIN:VEVENT
DTSTART;TZID=Asia/Hong_Kong:20250508T180000
DTEND;TZID=Asia/Hong_Kong:20250508T235900
DTSTAMP:20260422T040709
CREATED:20250503T074824Z
LAST-MODIFIED:20250506T053425Z
UID:10002842-1746727200-1746748740@www.thewanch.hk
SUMMARY:7pm Island Invasion featuring Shaun Martin\, Fish Godmother\, & The VV's 10:30pm Straight Up
DESCRIPTION:The Invasion begins at 7pm with Shaun Martin 8pm Fish Godmother & 9pm The VV’s. 10:30pm Straight Up keeps the party rolling performing rock favorites from the 80’s\, 90’s\, & 00’s. Happy Hour is from 3pm till 8pm & our kitchen staff is serving our ala carte menu from 3pm till 9:40pm. No Cover Charge. All this from HK’s Unofficial Home of Live Music. The Wanch
URL:https://www.thewanch.hk/event/7pm-island-invasion-featuring-shaun-martin-fish-godmother-the-vvs-1030pm-3rd-attempt/
CATEGORIES:Acoustic Music,Folk Rock,Grunge Rock,Happy Hour,Indie Rock,Modern Rock,Original Music
ATTACH;FMTTYPE=image/jpeg:https://www.thewanch.hk/wp-content/uploads/2025/05/invasion.jpg
END:VEVENT
END:VCALENDAR