BEGIN:VCALENDAR
VERSION:2.0
PRODID:-//The Wanch - ECPv6.15.20//NONSGML v1.0//EN
CALSCALE:GREGORIAN
METHOD:PUBLISH
X-WR-CALNAME:The Wanch
X-ORIGINAL-URL:https://www.thewanch.hk
X-WR-CALDESC:Events for The Wanch
REFRESH-INTERVAL;VALUE=DURATION:PT1H
X-Robots-Tag:noindex
X-PUBLISHED-TTL:PT1H
BEGIN:VTIMEZONE
TZID:Asia/Hong_Kong
BEGIN:STANDARD
TZOFFSETFROM:+0800
TZOFFSETTO:+0800
TZNAME:HKT
DTSTART:20240101T000000
END:STANDARD
END:VTIMEZONE
BEGIN:VEVENT
DTSTART;TZID=Asia/Hong_Kong:20250726T190000
DTEND;TZID=Asia/Hong_Kong:20250726T235900
DTSTAMP:20260422T024326
CREATED:20250723T044922Z
LAST-MODIFIED:20250723T044925Z
UID:10002969-1753556400-1753574340@www.thewanch.hk
SUMMARY:7pm Acoustic Happy Hour with Geri & Friends 9pm Maryjane & The Gang 10:30pm The Poolcleaners 12am RE'CALL
DESCRIPTION:The Wanch rocks your Saturday night starting at 7pm with Acoustic Happy Hour Featuring Geri & Friends performing acoustic rock favorites. 9pm Maryjane & The Gang perform favorites from The B-52’s\, Blondie\, The Police\, originals & other rock favorites. 10:30pm The Poolcleaners perform 70’s & 80’s party rock favorites. 12am RE’CALL rocks The Wanch with favorites from Pearl Jam\, Soundgarden\, Limp Biskit\, Green Day\, Nirvana\, originals & other rock favorites. Happy Hour is from 3pm till 8pm & our kitchen staff is serving our ala carte menu from 2:30pm till 10:40pm. No Cover Charge. All from HK’s Home Of Continuous Music…The Wanch
URL:https://www.thewanch.hk/event/7pm-acoustic-happy-hour-with-geri-friends-9pm-maryjane-the-gang-1030pm-the-poolcleaners-12am-recall/
CATEGORIES:Acoustic Music,Classic Rock,Grunge Rock,Happy Hour,Indie Rock,Modern Rock,Original Music
ATTACH;FMTTYPE=image/jpeg:https://www.thewanch.hk/wp-content/uploads/2025/07/Daily-Events-4-bands-1.jpg
END:VEVENT
END:VCALENDAR