BEGIN:VCALENDAR
VERSION:2.0
PRODID:-//The Wanch - ECPv6.15.20//NONSGML v1.0//EN
CALSCALE:GREGORIAN
METHOD:PUBLISH
X-WR-CALNAME:The Wanch
X-ORIGINAL-URL:https://www.thewanch.hk
X-WR-CALDESC:Events for The Wanch
REFRESH-INTERVAL;VALUE=DURATION:PT1H
X-Robots-Tag:noindex
X-PUBLISHED-TTL:PT1H
BEGIN:VTIMEZONE
TZID:Asia/Hong_Kong
BEGIN:STANDARD
TZOFFSETFROM:+0800
TZOFFSETTO:+0800
TZNAME:HKT
DTSTART:20240101T000000
END:STANDARD
END:VTIMEZONE
BEGIN:VEVENT
DTSTART;TZID=Asia/Hong_Kong:20251001T180000
DTEND;TZID=Asia/Hong_Kong:20251001T235900
DTSTAMP:20260421T210423
CREATED:20250928T054925Z
LAST-MODIFIED:20250928T054927Z
UID:10003076-1759341600-1759363140@www.thewanch.hk
SUMMARY:7pm Acoustic Happy Hour Featuring Iris 9pm Hair Of The Dog 10:30pm Gonzales Musika
DESCRIPTION:The Wanch rocks National Day starting at 7pm with Acoustic Happy Hour Featuring Iris performing acoustic rock & originals. 9pm Hair Of The Dog performs 80’s & 90’s rock. 10:30pm Gonzales Musika performs favorites from Blondie\, The Ramones\, Led Zeppelin\, Green Day\, Originals & other rock favorites. Happy Hour is from 2pm till 8pm and our kitchen staff is serving our ala carte menu from 2:30pm till 9:40pm. No Cover Charge. We thank you for your continued support on The Wanch & The HK Live Music Scene.
URL:https://www.thewanch.hk/event/7pm-acoustic-happy-hour-featuring-iris-9pm-hair-of-the-dog-1030pm-gonzales-musika/
CATEGORIES:Acoustic Music,Classic Rock,Grunge Rock,Happy Hour,Indie Rock,Modern Rock,Original Music
ATTACH;FMTTYPE=image/jpeg:https://www.thewanch.hk/wp-content/uploads/2025/09/Daily-Events-3-bands-5.jpg
END:VEVENT
BEGIN:VEVENT
DTSTART;TZID=Asia/Hong_Kong:20251003T180000
DTEND;TZID=Asia/Hong_Kong:20251003T235900
DTSTAMP:20260421T210423
CREATED:20250928T065749Z
LAST-MODIFIED:20250928T065911Z
UID:10003078-1759514400-1759535940@www.thewanch.hk
SUMMARY:7pm Acoustic Happy Hour Featuring Bryant 9pm Kissing Fish 10:30pm Silver Train 12am Rubicube
DESCRIPTION:The Wanch rocks your Friday starting at 7pm with Acoustic Happy Hour Featuring Bryant performing acoustic rock & originals. 9pm Kissing Fish performs original Indie Folk Rock. 10:30pm Silver Train performs favorites from the 70’s & 80’s. 12am Rubicube performs favorites from Pearl Jam\, The Foo Fighters\, Red Hot Chili Peppers\, Aerosmith\, Jimi Hendrix\, & Originals. Happy Hour is from 3pm till 8pm & our kitchen staff is serving our ala carte menu from 3pm till 10:40pm. No Cover Charge. We look forward to rocking you this weekend.
URL:https://www.thewanch.hk/event/7pm-acoustic-happy-hour-featuring-bryant-9pm-kissing-fish-1030pm-silver-train-12am-rubicube/
CATEGORIES:Acoustic Music,Classic Rock,Grunge Rock,Happy Hour,Indie Rock,Modern Rock,Original Music
ATTACH;FMTTYPE=image/jpeg:https://www.thewanch.hk/wp-content/uploads/2025/09/Daily-Events-4-bands-5.jpg
END:VEVENT
END:VCALENDAR