BEGIN:VCALENDAR
VERSION:2.0
PRODID:-//The Wanch - ECPv6.15.20//NONSGML v1.0//EN
CALSCALE:GREGORIAN
METHOD:PUBLISH
X-ORIGINAL-URL:https://www.thewanch.hk
X-WR-CALDESC:Events for The Wanch
REFRESH-INTERVAL;VALUE=DURATION:PT1H
X-Robots-Tag:noindex
X-PUBLISHED-TTL:PT1H
BEGIN:VTIMEZONE
TZID:Asia/Hong_Kong
BEGIN:STANDARD
TZOFFSETFROM:+0800
TZOFFSETTO:+0800
TZNAME:HKT
DTSTART:20240101T000000
END:STANDARD
END:VTIMEZONE
BEGIN:VEVENT
DTSTART;TZID=Asia/Hong_Kong:20250707T180000
DTEND;TZID=Asia/Hong_Kong:20250707T235900
DTSTAMP:20260420T190403
CREATED:20250703T054914Z
LAST-MODIFIED:20250703T054917Z
UID:10002941-1751911200-1751932740@www.thewanch.hk
SUMMARY:7pm Acoustic Happy Hour Featuring Steve 9pm Jam Night Hosted by Iris & Rubicube
DESCRIPTION:Music starts at 7pm with Acoustic Happy Hour Featuring Steve 9pm Jam Night Hosted by Iris & Rubicube and all bands & musicians welcome. Call 3692-5933 after 3:30pm to reserve a slot. Happy Hour is from 3pm till 8pm & the kitchen staff is serving our ala carte menu from 3pm till 9:40pm. No Cover Charge. We thank you for your support of The Wanch & The HK Live Music Scene
URL:https://www.thewanch.hk/event/7pm-acoustic-happy-hour-featuring-steve-9pm-jam-night-hosted-by-iris-rubicube-18/
CATEGORIES:Acoustic Music,Blues,Classic Rock,Grunge Rock,Happy Hour,Jam night,Modern Rock,Original Music
ATTACH;FMTTYPE=image/jpeg:https://www.thewanch.hk/wp-content/uploads/2024/10/Jam-Nite.jpg
END:VEVENT
BEGIN:VEVENT
DTSTART;TZID=Asia/Hong_Kong:20250709T180000
DTEND;TZID=Asia/Hong_Kong:20250709T235900
DTSTAMP:20260420T190403
CREATED:20250705T083045Z
LAST-MODIFIED:20250705T083047Z
UID:10002945-1752084000-1752105540@www.thewanch.hk
SUMMARY:7pm Acoustic Happy Hour Featuring Iris 9pm The Wanch Jazz Series Features Acoufunkture Trio $200 advanced / $250 at the door 10:30pm Gonzales Musika
DESCRIPTION:Music starts at 7pm with Acoustic Happy Hour featuring Iris performing acoustic rock & originals. 9pm The Wanch Jazz Series continues at 9pm Featuring Acoufunkture performing their unique style of jazz & funk. Advanced tickets can be purchased through Ticketflap or Eventbrite $200 or $250 at the door and your ticket rice includes 1 free drink. 10:30pm Gonzales Musika perform rock faborites from the 70’s-90’s and original music. Happy Hour is from 3pm till 8pm & our kitchen staff is serving our ala carte menu from 3pm till 9:40pm. Athis from The Wanch HK’s Home Of Continuous Music.
URL:https://www.thewanch.hk/event/7pm-acoustic-happy-hour-featuring-iris-9pm-the-wanch-jazz-series-features-acoufunkture-trio-200-advanced-250-at-the-door-1030pm-gonzales-musika/
CATEGORIES:Acoustic Music,Classic Rock,Funk,fusion,Happy Hour,Jazz,Modern Rock,Original Music
ATTACH;FMTTYPE=image/jpeg:https://www.thewanch.hk/wp-content/uploads/2025/07/jazz-july-9.jpg
END:VEVENT
BEGIN:VEVENT
DTSTART;TZID=Asia/Hong_Kong:20250710T180000
DTEND;TZID=Asia/Hong_Kong:20250710T235900
DTSTAMP:20260420T190403
CREATED:20250707T043059Z
LAST-MODIFIED:20250707T043102Z
UID:10002946-1752170400-1752191940@www.thewanch.hk
SUMMARY:7pm Acoustic Happy Hour Featuring LarryZ 9pm Lamma Blues Collective 10:30pm Fourplay
DESCRIPTION:The music starts at 7pm with Acoustic Happy Hour featuring LarryZ performing acoustic rock favorites. 9pm The Lamma Blues Collective performs a wide variety of Down Home Chicago Blues. 10:30pm Fourplay rocks the house with favorites from ACDC\, Guns N Roses\, Metalica\, Pearl Jam and other rock favorites. Happy Hour is from 3pm till 8pm & our kitchen is serving our ala carte menu from 3pm till 9:40pm. No Cover Charge all from HK’s Home Of Continuous Music. The Wanch
URL:https://www.thewanch.hk/event/7pm-acoustic-happy-hour-featuring-larryz-9pm-lamma-blues-collective-1030pm-fourplay/
CATEGORIES:Acoustic Music,Blues,Classic Rock,Grunge Rock,Happy Hour,Modern Rock
ATTACH;FMTTYPE=image/jpeg:https://www.thewanch.hk/wp-content/uploads/2025/07/Daily-Events-3-bands-1.jpg
END:VEVENT
BEGIN:VEVENT
DTSTART;TZID=Asia/Hong_Kong:20250711T180000
DTEND;TZID=Asia/Hong_Kong:20250711T235900
DTSTAMP:20260420T190403
CREATED:20250707T054149Z
LAST-MODIFIED:20250707T054154Z
UID:10002947-1752256800-1752278340@www.thewanch.hk
SUMMARY:7pm Acoustic HH Featuring Steve 9pm Papa Jack 10:30pm Man In The Bush 12am Rubicube
DESCRIPTION:Kick off your weekend at The Wanch. 7pm Acoustic Happy Hour Features Steve performing acoustic rock & originals. 9pm Papa Jack performs classic rock & funk. 10:30pm Man In The Bush returns performing 90’s rock & grunge rock. 12am Rubicube performs favorites from Jimi Hendrix\, Green Day\, The Doors\, Pearl Jam\, The Foo Fighters and originals. Happy Hour 3-8pm & our kitchen staff is serving our ala carte menu from 3pm till 10:40pm. No Cover Charge. We thank you for your continued support of The Wanch & The HK Live Music Scene
URL:https://www.thewanch.hk/event/7pm-acoustic-hh-featuring-steve-9pm-papa-jack-1030pm-man-in-the-bush-12am-rubicube/
CATEGORIES:Acoustic Music,Classic Rock,Funk,Grunge Rock,Happy Hour,Modern Rock,Original Music
ATTACH;FMTTYPE=image/jpeg:https://www.thewanch.hk/wp-content/uploads/2025/07/man-july-11.jpg
END:VEVENT
END:VCALENDAR