BEGIN:VCALENDAR
VERSION:2.0
PRODID:-//The Wanch - ECPv6.15.20//NONSGML v1.0//EN
CALSCALE:GREGORIAN
METHOD:PUBLISH
X-ORIGINAL-URL:https://www.thewanch.hk
X-WR-CALDESC:Events for The Wanch
REFRESH-INTERVAL;VALUE=DURATION:PT1H
X-Robots-Tag:noindex
X-PUBLISHED-TTL:PT1H
BEGIN:VTIMEZONE
TZID:Asia/Hong_Kong
BEGIN:STANDARD
TZOFFSETFROM:+0800
TZOFFSETTO:+0800
TZNAME:HKT
DTSTART:20220101T000000
END:STANDARD
END:VTIMEZONE
BEGIN:VEVENT
DTSTART;TZID=Asia/Hong_Kong:20230905T180000
DTEND;TZID=Asia/Hong_Kong:20230911T235900
DTSTAMP:20260419T230444
CREATED:20230903T070635Z
LAST-MODIFIED:20230903T070637Z
UID:10001898-1693936800-1694476740@www.thewanch.hk
SUMMARY:Wanch Show Schedule Sept 5th thru Sept 11th
DESCRIPTION:Check out The Wanch schedule for this week and mark your calendar so you don’t miss your favorite bands. See some band’s you have never heard then come and check them out as well. The Wanch rocks seven nights a week with different bands every night. We thank you for supporting The Wanch & The HK Music Scene. “Every Band Is a Local Band Somewhere.” Kid Leo WMMS Cleveland.
URL:https://www.thewanch.hk/event/wanch-show-schedule-sept-5th-thru-sept-11th/
CATEGORIES:Blues,Classic Rock,Folk Rock,Happy Hour,Heavy Metal,Modern Rock,Original Music
ATTACH;FMTTYPE=image/jpeg:https://www.thewanch.hk/wp-content/uploads/2023/09/wanch-sch-sept-5-scaled.jpg
END:VEVENT
BEGIN:VEVENT
DTSTART;TZID=Asia/Hong_Kong:20230911T113000
DTEND;TZID=Asia/Hong_Kong:20230915T150000
DTSTAMP:20260419T230444
CREATED:20230908T094817Z
LAST-MODIFIED:20230908T094820Z
UID:10001902-1694431800-1694790000@www.thewanch.hk
SUMMARY:Lunch Time at The Wanch Sept 11th thru 15th 11:30am till 3pm.
DESCRIPTION:Looking for a hot homemade lunch. Then look no further than The Wanch. This week the Wanch is serving up another great Set Lunch Menu. Starting with a homemade soup or salad you then have your choice of four homemade mains: Beef Bourguignon\, Prawn Pesto Penne (Vegetarian Version Available)\, Pork Belly Roll\, or Pan-Fried Cod Fillet. Then top off your lunch with a homemade desert & Iced Lemon Tea. Busy in the office then call 3692-5933 & we will prepare your lunch for take away & give you a 10% discount. Happy Hour is from 3pm till 8pm. Our kitchen is open and serving our ala carte menu from 3pm till 9:40pm Sunday thru Thurs & from 3pm till 10:40pm on Friday & Saturday. Our ala carte menu is also available via Foodpanda or Deliveroo. We look forward to seeing you soon.
URL:https://www.thewanch.hk/event/lunch-time-at-the-wanch-sept-11th-thru-15th-1130am-till-3pm/
CATEGORIES:Happy Hour,Set Lunch
ATTACH;FMTTYPE=image/jpeg:https://www.thewanch.hk/wp-content/uploads/2023/06/Beef-Menu-scaled.jpg
END:VEVENT
BEGIN:VEVENT
DTSTART;TZID=Asia/Hong_Kong:20230911T150000
DTEND;TZID=Asia/Hong_Kong:20230912T214500
DTSTAMP:20260419T230444
CREATED:20230906T055557Z
LAST-MODIFIED:20230906T055559Z
UID:10001899-1694444400-1694555100@www.thewanch.hk
SUMMARY:Dinner Specials at The Wanch Sept 11th & 12th
DESCRIPTION:Hi Everyone. The Wanch has two great dinner specials for you this Monday & Tuesday. On Monday when you order one main course you get the second one for free. On Tuesday with your main course you get two complimentary bottles of Peroni. This offer is for dine-in customers only & it runs both days from 3pm till 9:45pm. Some come and check out our New Ala Carte Menu and enjoy the Mon & Tues specials. Happy Hour is from 3pm till 8pm. We look forward to serving you soon. We look forward to seeing you soon.
URL:https://www.thewanch.hk/event/dinner-specials-at-the-wanch-sept-11th-12th/
CATEGORIES:Happy Hour,Special
ATTACH;FMTTYPE=image/jpeg:https://www.thewanch.hk/wp-content/uploads/2023/05/Mon-Tues-Special.jpg
END:VEVENT
BEGIN:VEVENT
DTSTART;TZID=Asia/Hong_Kong:20230911T180000
DTEND;TZID=Asia/Hong_Kong:20230911T235900
DTSTAMP:20260419T230444
CREATED:20230906T060413Z
LAST-MODIFIED:20230906T060415Z
UID:10001900-1694455200-1694476740@www.thewanch.hk
SUMMARY:6pm Acoustic Happy Hour Featuring Tyler 9pm Jam Night hosted by Iris & Rubicube
DESCRIPTION:The music starts a 6pm with Acoustic Happy Hour featuring Tyler performing acoustic folk & rock favorites. 9pm it’s Jam Night hosted by Iris & Rubicube. All bands & musicians are welcome to come & jam. All styles of music original\, blues\, funk\, jazz\, & funk are welcome. Want to reserve a spot call 3-692-5933 after 3:30pm or just show up. Solo artist that wants a backing band\, no problem as Rubicube is ready to jam with you. Happy Hour is from 3pm till 8pm & our kitchen staff is serving our ala carte menu from 3pm till 9:40pm. Not looking to jam then come down and enjoy some great music. We thank you for your continued support of The Wanch & the HK Music Scene.
URL:https://www.thewanch.hk/event/6pm-acoustic-happy-hour-featuring-tyler-9pm-jam-night-hosted-by-iris-rubicube-24/
CATEGORIES:Blues,Classic Rock,Folk Rock,Happy Hour,Heavy Metal,Jam night
ATTACH;FMTTYPE=image/jpeg:https://www.thewanch.hk/wp-content/uploads/2023/02/Jam-Nite.jpg
END:VEVENT
BEGIN:VEVENT
DTSTART;TZID=Asia/Hong_Kong:20230912T180000
DTEND;TZID=Asia/Hong_Kong:20230912T235900
DTSTAMP:20260419T230444
CREATED:20230906T061457Z
LAST-MODIFIED:20230906T061459Z
UID:10001901-1694541600-1694563140@www.thewanch.hk
SUMMARY:6pm Acoustic Happy Featuring John w/ RE'CALL 9pm Crescent Jam 10:30pm Fast Line
DESCRIPTION:Looking to unwind after a day in the office. Then join us at The Wanch as at 6pm it’s Acoustic Happy Hour featuring John from RE’CALL performing acoustic rock & folk favorites. 9pm Crescent Jam performs classic rock favorites from The Police to The Doobie Brothers. 10:30pm Fast Line performs rock favorites from The Beatles to Bon Jovi to Queen. Happy Hour is from 3pm till 8pm & our kitchen is serving our ala carte menu from 3pm till 9:40pm. We thank you for your continued support of The Wanch & The HK Music Scene.
URL:https://www.thewanch.hk/event/6pm-acoustic-happy-featuring-john-w-recall-9pm-crescent-jam-1030pm-fast-line/
CATEGORIES:Blues,Classic Rock,Folk Rock,Happy Hour,Modern Rock
ATTACH;FMTTYPE=image/webp:https://www.thewanch.hk/wp-content/uploads/2023/03/fast.webp
END:VEVENT
BEGIN:VEVENT
DTSTART;TZID=Asia/Hong_Kong:20230912T180000
DTEND;TZID=Asia/Hong_Kong:20230918T235900
DTSTAMP:20260419T230444
CREATED:20230908T100139Z
LAST-MODIFIED:20230908T100143Z
UID:10001903-1694541600-1695081540@www.thewanch.hk
SUMMARY:The Wanch Music Line-up Sept 12th thru 18th
DESCRIPTION:Check out The Wanch schedule for this week and mark your calendar so you don’t miss your favorite bands. See some band’s you have never heard then come and check them out as well. The Wanch rocks seven nights a week with different bands every night. We thank you for supporting The Wanch & The HK Music Scene. The Wanch “Where Music Means Something” Have a positive & proactive week.
URL:https://www.thewanch.hk/event/the-wanch-music-line-up-sept-12th-thru-18th/
CATEGORIES:Blues,Classic Rock,Folk Rock,Happy Hour,Heavy Metal,Jam night,Modern Rock,Punk Special,Rock Tuesday
ATTACH;FMTTYPE=image/jpeg:https://www.thewanch.hk/wp-content/uploads/2023/09/Wanch-Sep-12-scaled.jpg
END:VEVENT
BEGIN:VEVENT
DTSTART;TZID=Asia/Hong_Kong:20230913T180000
DTEND;TZID=Asia/Hong_Kong:20230913T235900
DTSTAMP:20260419T230444
CREATED:20230912T041655Z
LAST-MODIFIED:20230912T041658Z
UID:10001904-1694628000-1694649540@www.thewanch.hk
SUMMARY:6pm Acoustic Happy Hour Featuring Iris w/ Rubicube 9pm The Sleeves 10:30pm Gonzales Musika
DESCRIPTION:Kick out the mid-week blues at The Wanch starting at 6pm with Iris performing acoustic rock\, folk\, & original music. 9pm The Sleeves return performing their unique style of original Brit Rock. 10:30pm Gonzales Musika rocks the house with favorites from Led Zeppelin to Journey & originals. Happy Houe is from 3-8pm & our kitchen is serving our ala carte menu from 3pm till 9:40pm. All This & No Cover Charge from HK’s Unofficial Home of Live Music.
URL:https://www.thewanch.hk/event/6pm-acoustic-happy-hour-featuring-iris-w-rubicube-9pm-the-sleeves-1030pm-gonzales-musika/
CATEGORIES:Classic Rock,Folk Rock,Happy Hour,Heavy Metal,Modern Rock,Original Music
ATTACH;FMTTYPE=image/jpeg:https://www.thewanch.hk/wp-content/uploads/2023/09/sleeves-poster-scaled.jpg
END:VEVENT
BEGIN:VEVENT
DTSTART;TZID=Asia/Hong_Kong:20230914T180000
DTEND;TZID=Asia/Hong_Kong:20230914T235900
DTSTAMP:20260419T230444
CREATED:20230912T050507Z
LAST-MODIFIED:20230912T050509Z
UID:10001905-1694714400-1694735940@www.thewanch.hk
SUMMARY:6pm Acoustic Happy Hour Featuring Tyler 8pm Songs & Fables 9pm Black Lodge Cabaret 10:30pm Black Kobra
DESCRIPTION:On Thursday the music starts at 6pm with Acoustic Happy Hour featuring Tyler performing acoustic folk\, rock\, & original music. 8pm Songs & Fables perform acoustic folk music. 9pm Black Lodge Cabaret performs surf\, rockabilly\, & funk. 10:30pm Black Kobra performs favorites from Pearl Jam to Metallica\, to Johnny Cash. Happy Hour is from 3pm till 8pm & No Cover Charge. We thank you for your continued support of The Wanch & The HK Music Scene.
URL:https://www.thewanch.hk/event/6pm-acoustic-happy-hour-featuring-tyler-8pm-songs-fables-9pm-black-lodge-cabaret-1030pm-black-kobra/
CATEGORIES:Blues,Folk Rock,Funk,Happy Hour,Heavy Metal,Modern Rock
ATTACH;FMTTYPE=image/jpeg:https://www.thewanch.hk/wp-content/uploads/2023/09/Daily-Events-4-bands.jpg
END:VEVENT
BEGIN:VEVENT
DTSTART;TZID=Asia/Hong_Kong:20230915T180000
DTEND;TZID=Asia/Hong_Kong:20230915T235900
DTSTAMP:20260419T230445
CREATED:20230912T053348Z
LAST-MODIFIED:20230914T235232Z
UID:10001906-1694800800-1694822340@www.thewanch.hk
SUMMARY:6pm Acoustic Happy Hour Featuring Bryan 9pm The Funkaphones 10:30pm El Kapitan & The Privates 12am Rubicube
DESCRIPTION:The Wanch kicks off the weekend starting at 6pm with Acoustic Happy Hour Featuring Bryan performing acoustic rock & folk favorites. 9pm The Funkaphones perform original funk. 10:30pm El Kapitan & The Privates performs 70’s\, 80’s & 90’s rock favorites. 12am Rubicube performs rock favorites from The Stones to Green Day\, to The Foo Fighters & originals. Happy Hour is from 3pm till 8pm & our kitchen is serving our ala carte menu from 3pm till 10:40pm. We thank you for your support of The Wanch & The HK Music Scene. Your support keeps Live Music Alive!
URL:https://www.thewanch.hk/event/6pm-acoustic-happy-hour-featuring-bryan-9pm-the-funkaphones-1030pm-familicious-12am-rubicube/
CATEGORIES:Blues,Classic Rock,Folk Rock,Funk,Happy Hour,Heavy Metal,Modern Rock,Original Music
ATTACH;FMTTYPE=image/jpeg:https://www.thewanch.hk/wp-content/uploads/2023/09/Daily-Events-4-bands-2.jpg
END:VEVENT
BEGIN:VEVENT
DTSTART;TZID=Asia/Hong_Kong:20230916T180000
DTEND;TZID=Asia/Hong_Kong:20230916T235900
DTSTAMP:20260419T230445
CREATED:20230912T062629Z
LAST-MODIFIED:20230916T055049Z
UID:10001907-1694887200-1694908740@www.thewanch.hk
SUMMARY:7pm The Wanch & The Naggin Eejits presents Halfway To Paddy's Featuring Paul W\, Neil O'Hagan\, Goggin-Carroll Irish Dance Troupe\, LeGroupe Electrogene Fanfare Club & Naggin Eejits 12am RE'CALL
DESCRIPTION:Saturday get ready for some Irish folk music & fun as The Wanch & The Naggin Eejits present Halfway to Paddy’s featuring performances by Neil O’Hagan\, The Goggin-Carroll Irish Dance Troupe\, LeGroupe Electrogene Fanfare Club\, & The Naggin Eejits. At 12am RE’CALL keeps the night rocking with rock favorites from Limp Bizket\, Metallica\, Pearl Jam\, & Original. Happy Hour is from 3pm till 8pm & the kitchen staff is serving our ala carte menu from 2pm till 10:40pm. All this & No Cover Change from The Wanch HK’s Unofficial Home Of Live Music.
URL:https://www.thewanch.hk/event/6pm-the-wanch-the-naggin-eejits-presents-halfway-to-paddys-featuring-neil-ohagan-goggin-carroll-irish-dance-troupe-legroupe-electrogene-fanfare-club-naggin-eejits-12am-recall/
CATEGORIES:Folk Rock,Happy Hour,Heavy Metal,Modern Rock,Original Music
ATTACH;FMTTYPE=image/jpeg:https://www.thewanch.hk/wp-content/uploads/2023/09/Themed-Events-3.jpg
END:VEVENT
BEGIN:VEVENT
DTSTART;TZID=Asia/Hong_Kong:20230917T160000
DTEND;TZID=Asia/Hong_Kong:20230917T235900
DTSTAMP:20260419T230445
CREATED:20230915T001818Z
LAST-MODIFIED:20230915T001820Z
UID:10001908-1694966400-1694995140@www.thewanch.hk
SUMMARY:4pm Acoustic Happy Hour Features Carla & Mark 6pm Armie & Friends 9pm Beatlemanics 10:30pm Maryjane & The Gang
DESCRIPTION:The Wanch opens its doors at 2pm with Happy Hour from 3pm till 8pm & our kitchen is serving our ala carte menu from 2pm till 9:40pm. At 4pm Carla (Formerly Rapunzel) & Mark (RE’CALL) perform acoustic rock favorites. 6pm Armie & Friends perform 50’s\, 60’s\, & 70’s rock favorites. 9pm The Beatles Tribute Band Beatlemaniacs perform favorites by The Beatles. 10:30pm Maryjane & The Gang perform favorites from Blondie\, The Cure\, The Police\, & Originals. We thank you for your continued support of The Wanch & The HK Music Scene.
URL:https://www.thewanch.hk/event/4pm-acoustic-happy-hour-features-carla-mark-6pm-armie-friends-9pm-beatlemanics-1030pm-maryjane-the-gang/
CATEGORIES:Blues,Classic Rock,Folk Rock,Happy Hour,Modern Rock,Rock Sunday
ATTACH;FMTTYPE=image/jpeg:https://www.thewanch.hk/wp-content/uploads/2023/09/Daily-Events-4-bands-3.jpg
END:VEVENT
END:VCALENDAR