BEGIN:VCALENDAR
VERSION:2.0
PRODID:-//The Wanch - ECPv6.15.20//NONSGML v1.0//EN
CALSCALE:GREGORIAN
METHOD:PUBLISH
X-WR-CALNAME:The Wanch
X-ORIGINAL-URL:https://www.thewanch.hk
X-WR-CALDESC:Events for The Wanch
REFRESH-INTERVAL;VALUE=DURATION:PT1H
X-Robots-Tag:noindex
X-PUBLISHED-TTL:PT1H
BEGIN:VTIMEZONE
TZID:Asia/Hong_Kong
BEGIN:STANDARD
TZOFFSETFROM:+0800
TZOFFSETTO:+0800
TZNAME:HKT
DTSTART:20220101T000000
END:STANDARD
END:VTIMEZONE
BEGIN:VEVENT
DTSTART;TZID=Asia/Hong_Kong:20230912T180000
DTEND;TZID=Asia/Hong_Kong:20230918T235900
DTSTAMP:20260420T173542
CREATED:20230908T100139Z
LAST-MODIFIED:20230908T100143Z
UID:10001903-1694541600-1695081540@www.thewanch.hk
SUMMARY:The Wanch Music Line-up Sept 12th thru 18th
DESCRIPTION:Check out The Wanch schedule for this week and mark your calendar so you don’t miss your favorite bands. See some band’s you have never heard then come and check them out as well. The Wanch rocks seven nights a week with different bands every night. We thank you for supporting The Wanch & The HK Music Scene. The Wanch “Where Music Means Something” Have a positive & proactive week.
URL:https://www.thewanch.hk/event/the-wanch-music-line-up-sept-12th-thru-18th/
CATEGORIES:Blues,Classic Rock,Folk Rock,Happy Hour,Heavy Metal,Jam night,Modern Rock,Punk Special,Rock Tuesday
ATTACH;FMTTYPE=image/jpeg:https://www.thewanch.hk/wp-content/uploads/2023/09/Wanch-Sep-12-scaled.jpg
END:VEVENT
BEGIN:VEVENT
DTSTART;TZID=Asia/Hong_Kong:20230918T113000
DTEND;TZID=Asia/Hong_Kong:20230922T150000
DTSTAMP:20260420T173542
CREATED:20230916T071612Z
LAST-MODIFIED:20230916T071614Z
UID:10001917-1695036600-1695394800@www.thewanch.hk
SUMMARY:Lunch Menu at The Wanch Sept 18th thru 22nd 11:30am till 3pm
DESCRIPTION:Join us at The Wanch this week as we are serving up a great Set Lunch Menu. Start your meal with a homemade soup or salad. Then choose from the following homemade main options: Spaghetti Carbonara (Vegetarian option available)\, Stonebaked Spicy Seafood Pizza\, Stuffed Chicken Parmesan\, or Seared Rib-Eye Steak. Then complete your meal with a homemade desert & Iced Lemon Tea. Busy in the office then call 3692-5933 to arrange a take-away and receive a 10% discount. Happy Hour is from 3pm till 8pm & we serve our ala carte menu from 3pm till 9:40pm. Our ala carte menu is also available on Foodpanda & Deliveroo. Have a productive & positive week. We thank you for your continued support.
URL:https://www.thewanch.hk/event/lunch-menu-at-the-wanch-sept-18th-thru-22nd-1130am-till-3pm/
CATEGORIES:Happy Hour,Set Lunch
ATTACH;FMTTYPE=image/jpeg:https://www.thewanch.hk/wp-content/uploads/2023/01/spag-carb-scaled.jpg
END:VEVENT
BEGIN:VEVENT
DTSTART;TZID=Asia/Hong_Kong:20230918T150000
DTEND;TZID=Asia/Hong_Kong:20230919T214000
DTSTAMP:20260420T173542
CREATED:20230915T002829Z
LAST-MODIFIED:20230915T002830Z
UID:10001910-1695049200-1695159600@www.thewanch.hk
SUMMARY:Dinner Specials at The Wanch Sept 18th & 19th
DESCRIPTION:Hi Everyone. The Wanch has two great dinner specials for you this Monday & Tuesday. On Monday when you order one main course you get the second one for free. On Tuesday with your main course you get two complimentary bottles of Peroni. This offer is for dine-in customers only & it runs both days from 3pm till 9:45pm. Some come and check out our New Ala Carte Menu and enjoy the Mon & Tues specials. Happy Hour is from 3pm till 8pm. We look forward to serving you soon. We look forward to seeing you soon.
URL:https://www.thewanch.hk/event/dinner-specials-at-the-wanch-sept-18th-19th/
CATEGORIES:Dinner Special,Special
ATTACH;FMTTYPE=image/jpeg:https://www.thewanch.hk/wp-content/uploads/2023/05/Mon-Tues-Special.jpg
END:VEVENT
BEGIN:VEVENT
DTSTART;TZID=Asia/Hong_Kong:20230918T180000
DTEND;TZID=Asia/Hong_Kong:20230918T235900
DTSTAMP:20260420T173542
CREATED:20230915T002329Z
LAST-MODIFIED:20230915T002332Z
UID:10001909-1695060000-1695081540@www.thewanch.hk
SUMMARY:6pm Acoustic Happy Hour Featuring Tyler 9pm Jam Night Hosted by Iris & Rubicube
DESCRIPTION:The music starts a 6pm with Acoustic Happy Hour featuring Tyler performing acoustic folk & rock favorites. 9pm it’s Jam Night hosted by Iris & Rubicube. All bands & musicians are welcome to come & jam. All styles of music original\, blues\, funk\, jazz\, & funk are welcome. Want to reserve a spot call 3-692-5933 after 3:30pm or just show up. Solo artist that wants a backing band\, no problem as Rubicube is ready to jam with you. Happy Hour is from 3pm till 8pm & our kitchen staff is serving our ala carte menu from 3pm till 9:40pm. Not looking to jam then come down and enjoy some great music. We thank you for your continued support of The Wanch & the HK Music Scene.
URL:https://www.thewanch.hk/event/6pm-acoustic-happy-hour-featuring-tyler-9pm-jam-night-hosted-by-iris-rubicube-25/
CATEGORIES:Blues,Classic Rock,Folk Rock,Happy Hour,Heavy Metal,Jam night,Modern Rock,Original Music
ATTACH;FMTTYPE=image/jpeg:https://www.thewanch.hk/wp-content/uploads/2023/02/Jam-Nite-1.jpg
END:VEVENT
BEGIN:VEVENT
DTSTART;TZID=Asia/Hong_Kong:20230919T180000
DTEND;TZID=Asia/Hong_Kong:20230919T235900
DTSTAMP:20260420T173542
CREATED:20230915T004316Z
LAST-MODIFIED:20230915T004318Z
UID:10001911-1695146400-1695167940@www.thewanch.hk
SUMMARY:6pm Acoustic Happy Hour Featuring John w/ RE'CALL 9pm The Sleeves 10:30pm Sandy
DESCRIPTION:The Wanch rocks your Tuesday night starting at 6pm with Acoustic Happy Hour featuring John w/ RE’CALL performing acoustic rock & folk favorites. 9pm The Sleeves perform unreleased Original Brit Rock from their upcoming album. 10:30pm Sandy performs favorites from The Police\, The Doobie Brothers\, & other rock favorites. Happy Hour is from 3pm till 8pm & our kitchen is serving our ala carte menu from 3pm till 9:40pm. All this & No Cover Charge from HK’s Unofficial Home Of Live Music.
URL:https://www.thewanch.hk/event/6pm-acoustic-happy-hour-featuring-john-w-recall-9pm-the-sleeves-1030pm-sandy/
CATEGORIES:Classic Rock,Folk Rock,Happy Hour,Heavy Metal,Modern Rock,Original Music
ATTACH;FMTTYPE=image/jpeg:https://www.thewanch.hk/wp-content/uploads/2023/09/Daily-Events-3-bands-6.jpg
END:VEVENT
BEGIN:VEVENT
DTSTART;TZID=Asia/Hong_Kong:20230919T180000
DTEND;TZID=Asia/Hong_Kong:20230925T235900
DTSTAMP:20260420T173542
CREATED:20230916T065901Z
LAST-MODIFIED:20230916T065903Z
UID:10001916-1695146400-1695686340@www.thewanch.hk
SUMMARY:Wanch Performance Schedule Sept 19th Thru 25th
DESCRIPTION:Check out The Wanch schedule for the week of Sept 19th thru 25th and mark your calendar so you don’t miss your favorite bands. See some band’s you have never heard then come and check them out as well. The Wanch rocks seven nights a week with different bands every night. We thank you for supporting The Wanch & The HK Music Scene. The Wanch “Where Music Means Something” Have a positive & proactive week.
URL:https://www.thewanch.hk/event/wanch-performance-schedule-sept-19th-thru-25th/
CATEGORIES:Blues,Classic Rock,Folk Rock,Funk,Happy Hour,Heavy Metal,Jam night,Modern Rock,Original Music
ATTACH;FMTTYPE=image/jpeg:https://www.thewanch.hk/wp-content/uploads/2023/09/Wanch-Sept-19-scaled.jpg
END:VEVENT
BEGIN:VEVENT
DTSTART;TZID=Asia/Hong_Kong:20230920T180000
DTEND;TZID=Asia/Hong_Kong:20230920T235900
DTSTAMP:20260420T173542
CREATED:20230915T010745Z
LAST-MODIFIED:20230915T010747Z
UID:10001912-1695232800-1695254340@www.thewanch.hk
SUMMARY:6pm Acoustic Happy Hour Featuring Carla & Geri 9pm Brother Plainview 10:30pm Gonzales Muzika
DESCRIPTION:The music starts at 6pm with Acoustic Happy Hour featuring Carla (Formerly of Rapunzel) & Geri (Rapunzel) performing acoustic folk & rock favorites. 9pm Brother Plainview performs original rock. 10:30pm Gonzales Muzika performs rock favourites from Led Zeppelin\, The Cranberries & Originals. Happy Hour is from 3pm till 8pm & our kitchen staff is serving our ala carte menu from 3pm till 9:40pm. The Wanch & The HK Music Scene thank you for your continued support.
URL:https://www.thewanch.hk/event/6pm-acoustic-happy-hour-featuring-carla-geri-9pm-brother-plainview-1030pm-gonzales-muzika/
CATEGORIES:Classic Rock,Folk Rock,Happy Hour,Heavy Metal,Modern Rock,Original Music
ATTACH;FMTTYPE=image/jpeg:https://www.thewanch.hk/wp-content/uploads/2023/09/brother.jpeg
END:VEVENT
BEGIN:VEVENT
DTSTART;TZID=Asia/Hong_Kong:20230921T180000
DTEND;TZID=Asia/Hong_Kong:20230921T235900
DTSTAMP:20260420T173542
CREATED:20230915T012229Z
LAST-MODIFIED:20230915T012231Z
UID:10001913-1695319200-1695340740@www.thewanch.hk
SUMMARY:6pm Acoustic Happy Hour Featuring Tyler 9pm NANA 10:30pm Maryjane & The Gang
DESCRIPTION:6pm Acoustic Happy Hour features Tyler performing acoustic folk & rock favorites. 9pm NANA performs hard rock favorites from Iron Maiden to Bon Jovi. 10:30pm Maryjane & The Gang perform favorites from Alanis Morissette\, to Blondie\, The Police\, & Originals. Happy Hour is from 3pm till 8pm & our kitchen is serving our ala carte menu from 3pm till 9:40pm. All this & No Cover Charge from The Wanch HK’s home of Live Music.
URL:https://www.thewanch.hk/event/6pm-acoustic-happy-hour-featuring-tyler-9pm-nana-1030pm-maryjane-the-gang/
CATEGORIES:Classic Rock,Folk Rock,Happy Hour,Heavy Metal,Modern Rock,Original Music
ATTACH;FMTTYPE=image/jpeg:https://www.thewanch.hk/wp-content/uploads/2023/09/Daily-Events-3-bands-7.jpg
END:VEVENT
BEGIN:VEVENT
DTSTART;TZID=Asia/Hong_Kong:20230922T180000
DTEND;TZID=Asia/Hong_Kong:20230922T235900
DTSTAMP:20260420T173542
CREATED:20230915T014115Z
LAST-MODIFIED:20230915T014117Z
UID:10001914-1695405600-1695427140@www.thewanch.hk
SUMMARY:6pm Acoustic Happy Hour Featuring Bryan 9pm Loose Agenda 10:30pm Levelling Out 12am Black Kobra
DESCRIPTION:The Wanch kicks off your Friday night starting at 6pm with Acoustic Happy Hour featuring Bryan performing acoustic folk & rock favorites. 9pm Loose Agenda performs 80’s\, 90’s & Original Rock. 10:30pm Levelling Out performs 70’s & 80’s Blues Rock. 12am Black Kobra performs favorites from Pearl Jam to Metallica\, to Johnny Cash. Happy Hour is from 3pm till 8pm & the kitchen staff is serving our ala carte menu from 3pm till 10:40pm. We thank you for your continued support og The Wanch & The HK Music Scene. Have a great weekend with family\, friends\, & music.
URL:https://www.thewanch.hk/event/6pm-acoustic-happy-hour-featuring-bryan-9pm-loose-agenda-1030pm-levelling-out-12am-black-kobra/
CATEGORIES:Blues,Classic Rock,Folk Rock,Happy Hour,Heavy Metal,Modern Rock
ATTACH;FMTTYPE=image/jpeg:https://www.thewanch.hk/wp-content/uploads/2023/09/Daily-Events-4-bands-4.jpg
END:VEVENT
BEGIN:VEVENT
DTSTART;TZID=Asia/Hong_Kong:20230923T170000
DTEND;TZID=Asia/Hong_Kong:20230923T235900
DTSTAMP:20260420T173542
CREATED:20230915T021122Z
LAST-MODIFIED:20230915T021124Z
UID:10001915-1695488400-1695513540@www.thewanch.hk
SUMMARY:5pm Acoustic Happy Hour Featuring Carla & Geri 8pm Funky Tung 9pm Spirit Of 77 10:30pm 21 Days 12am RE'CALL
DESCRIPTION:The Wanch opens its doors at 2pm with Happy Hour from 3pm till 8pm & the kitchen is open & serving our ala carte menu from 2pm till 10:40pm. The music starts at 5pm with Acoustic Happy Hour featuring Carla (Formerly of Rapunzel) & Geri. 8pm Funky Tung performs original funk. 9pm Spirit Of 77 perfroms classic UK Punk. 10:30pm 21 Day performs 90’s grunge & modern rock. 12am RE’CALL performs favorites from Limp Bizket\, Metallica\, Pearl Jam\, & Originals. We thank you for supporting The Wanch & The HK Music Scene. Your support keeps Live Music Alive!
URL:https://www.thewanch.hk/event/5pm-acoustic-happy-hour-featuring-carla-geri-8pm-funky-tung-9pm-spirit-of-77-1030pm-21-days-12am-recall/
CATEGORIES:Classic Rock,Funk,Happy Hour,Heavy Metal,Modern Rock
ATTACH;FMTTYPE=image/jpeg:https://www.thewanch.hk/wp-content/uploads/2023/09/Themed-Events-4.jpg
END:VEVENT
BEGIN:VEVENT
DTSTART;TZID=Asia/Hong_Kong:20230924T150000
DTEND;TZID=Asia/Hong_Kong:20230924T235900
DTSTAMP:20260420T173542
CREATED:20230920T064940Z
LAST-MODIFIED:20230924T054943Z
UID:10001918-1695567600-1695599940@www.thewanch.hk
SUMMARY:4pm Acoustic Rock with Jordan w/ Jordan Road 6pm Armie & Friends 9pm Maryjane & The Gang
DESCRIPTION:Looking for a relaxing Sunday\, The Wanch opens its doors at 2pm serving our ala carte menu till 9:40pm & Happy Hour is from 3pm till 8pm. At 4pm Jordan w/ Jordan Road will be performing acoustic rock favorites. 6pm Armie & Friends perform rock favorites from 50’s\, 60’s\, & 70’s favorites. 9pm Maryjane & The Gang rock till the early hours performing favorites from The Cure\, The Police\, & Originals. Staying at home with family & friends you can order our ala carte menu from Foodpanda or Deliveroo. We thank you for your support of The Wanch & The HK Music Scene
URL:https://www.thewanch.hk/event/3pm-aspire-school-of-rock-6pm-armie-friends-9pm-maryjane-the-gang/
CATEGORIES:Blues,Classic Rock,Folk Rock,Happy Hour,Modern Rock,Original Music
ATTACH;FMTTYPE=image/jpeg:https://www.thewanch.hk/wp-content/uploads/2023/09/Daily-Events-4-bands-6.jpg
END:VEVENT
END:VCALENDAR