BEGIN:VCALENDAR
VERSION:2.0
PRODID:-//The Wanch - ECPv6.15.20//NONSGML v1.0//EN
CALSCALE:GREGORIAN
METHOD:PUBLISH
X-WR-CALNAME:The Wanch
X-ORIGINAL-URL:https://www.thewanch.hk
X-WR-CALDESC:Events for The Wanch
REFRESH-INTERVAL;VALUE=DURATION:PT1H
X-Robots-Tag:noindex
X-PUBLISHED-TTL:PT1H
BEGIN:VTIMEZONE
TZID:Asia/Hong_Kong
BEGIN:STANDARD
TZOFFSETFROM:+0800
TZOFFSETTO:+0800
TZNAME:HKT
DTSTART:20220101T000000
END:STANDARD
END:VTIMEZONE
BEGIN:VEVENT
DTSTART;TZID=Asia/Hong_Kong:20230926T180000
DTEND;TZID=Asia/Hong_Kong:20231002T235900
DTSTAMP:20260420T173540
CREATED:20230926T045805Z
LAST-MODIFIED:20230926T045807Z
UID:10001928-1695751200-1696291140@www.thewanch.hk
SUMMARY:Wanch Music Schedule Sept 26th thru Oct 2nd
DESCRIPTION:Check out The Wanch schedule for the week of Sept 26th thru Oct 2nd and mark your calendar so you don’t miss your favorite bands. See some band’s you have never heard then come and check them out as well. The Wanch rocks seven nights a week with different bands every night. We thank you for supporting The Wanch & The HK Music Scene. The Wanch “Where Music Means Something” Have a positive & proactive week.
URL:https://www.thewanch.hk/event/wanch-music-schedule-sept-26th-thru-oct-2nd/
CATEGORIES:Blues,Classic Rock,Folk Rock,Funk,Happy Hour,Heavy Metal,Motown,Original Music
ATTACH;FMTTYPE=image/jpeg:https://www.thewanch.hk/wp-content/uploads/2023/09/sch-sept26-scaled.jpg
END:VEVENT
BEGIN:VEVENT
DTSTART;TZID=Asia/Hong_Kong:20231002T150000
DTEND;TZID=Asia/Hong_Kong:20231003T213000
DTSTAMP:20260420T173540
CREATED:20231001T063807Z
LAST-MODIFIED:20231001T063809Z
UID:10001929-1696258800-1696368600@www.thewanch.hk
SUMMARY:Dinner Specials at The Wanch Oct 2nd & 3rd
DESCRIPTION:Hi Everyone. The Wanch has two great dinner specials for you this Monday & Tuesday. On Monday when you order one main course you get the second one for free. On Tuesday with your main course you get two complimentary bottles of Peroni. This offer is for dine-in customers only & it runs both days from 3pm till 9:45pm. Some come and check out our New Ala Carte Menu and enjoy the Mon & Tues specials. Happy Hour is from 3pm till 8pm. We look forward to serving you soon. We look forward to seeing you soon.
URL:https://www.thewanch.hk/event/dinner-specials-at-the-wanch-oct-2nd-3rd/
CATEGORIES:Dinner Special,Happy Hour
ATTACH;FMTTYPE=image/jpeg:https://www.thewanch.hk/wp-content/uploads/2023/05/Mon-Tues-Special.jpg
END:VEVENT
BEGIN:VEVENT
DTSTART;TZID=Asia/Hong_Kong:20231002T180000
DTEND;TZID=Asia/Hong_Kong:20231002T235900
DTSTAMP:20260420T173540
CREATED:20231001T065130Z
LAST-MODIFIED:20231001T065133Z
UID:10001930-1696269600-1696291140@www.thewanch.hk
SUMMARY:6pm Acoustic Happy Hour Featuring Tyler 9pm Jam Night Hosted by Jordan\, Bryan & Ferdie
DESCRIPTION:The music starts a 6pm with Acoustic Happy Hour featuring Tyler performing acoustic folk & rock favorites. 9pm it’s Jam Night hosted by Jordan\, Bryan\, & Ferdie. All bands & musicians are welcome to come & jam. All styles of music original\, blues\, funk\, jazz\, & funk are welcome. Want to reserve a spot call 3-692-5933 after 3:30pm or just show up. Solo artist that wants a backing band\, no problem as Jordan\, Bryan\, & Ferdie are ready to jam with you. Happy Hour is from 3pm till 8pm & our kitchen staff is serving our ala carte menu from 3pm till 9:40pm. Not looking to jam then come down and enjoy some great music. We thank you for your continued support of The Wanch & the HK Music Scene.
URL:https://www.thewanch.hk/event/6pm-acoustic-happy-hour-featuring-tyler-9pm-jam-night-hosted-by-jordan-bryan-ferdie/
CATEGORIES:Blues,Classic Rock,Folk Rock,Happy Hour,Heavy Metal,Jam night,Modern Rock,Original Music
ATTACH;FMTTYPE=image/jpeg:https://www.thewanch.hk/wp-content/uploads/2023/10/Jordan-Road.jpeg
END:VEVENT
BEGIN:VEVENT
DTSTART;TZID=Asia/Hong_Kong:20231003T113000
DTEND;TZID=Asia/Hong_Kong:20231006T150000
DTSTAMP:20260420T173540
CREATED:20231001T094425Z
LAST-MODIFIED:20231001T094548Z
UID:10001935-1696332600-1696604400@www.thewanch.hk
SUMMARY:Lunchtime at The Wanch Oct 3rd thru Oct 6th
DESCRIPTION:Join us at The Wanch Oct 3rd thru the 6th if you are looking for a hot homemade meal. Start your lunch with a homemade soup or salad. Then choose for 4 homemade mains: Rotisserie Roast Chicken\, Stone-Baked Pepperoni Pizza\, Bangers & Mash\, or Pan-Fried Sea Bass. Then top off your lunch with a homemade desert and Iced Lemon Tea. Happy Hour is from 3pm till 8pm.
URL:https://www.thewanch.hk/event/lunchtime-at-the-wanch-oct-3rd-thru-oct-6th-bangers-mash/
CATEGORIES:Set Lunch
ATTACH;FMTTYPE=image/jpeg:https://www.thewanch.hk/wp-content/uploads/2023/10/Chicken-set-lunch-scaled.jpg
END:VEVENT
BEGIN:VEVENT
DTSTART;TZID=Asia/Hong_Kong:20231003T180000
DTEND;TZID=Asia/Hong_Kong:20231003T235900
DTSTAMP:20260420T173540
CREATED:20231001T071004Z
LAST-MODIFIED:20231001T071007Z
UID:10001931-1696356000-1696377540@www.thewanch.hk
SUMMARY:6pm Acoustic Happy Hour Featuring John w/ RE'CALL 9pm QTET 10:30pm Maryjane & The Gang
DESCRIPTION:Join us at The Wanch for an evening of music starting at 6pm with Acoustic Happy Hour featuring John w/ RE’CALL. Then at 9pm QTET performs 70’s Blues Rock & Fusion. 10:30pm Maryjane & The Gang perform favorites by Blondie\, The Police\, The Cure\, & Originals. Happy Hour is from 3pm till 9pm & the kitchen is open & serving our ala carte menu from 3pm till 9:40pm. We thank you for supporting The Wanch & The HK Music Scene.
URL:https://www.thewanch.hk/event/6pm-acoustic-happy-hour-featuring-john-w-recall-9pm-qtet-1030pm-maryjane-the-gang/
CATEGORIES:Blues,Classic Rock,Folk Rock,Happy Hour,Modern Rock,Original Music
ATTACH;FMTTYPE=image/jpeg:https://www.thewanch.hk/wp-content/uploads/2023/04/MJ.jpeg
END:VEVENT
BEGIN:VEVENT
DTSTART;TZID=Asia/Hong_Kong:20231003T180000
DTEND;TZID=Asia/Hong_Kong:20231009T235900
DTSTAMP:20260420T173540
CREATED:20231001T092742Z
LAST-MODIFIED:20231001T092746Z
UID:10001934-1696356000-1696895940@www.thewanch.hk
SUMMARY:Wanch Music Schedule Oct 3rd thru Oct 9th
DESCRIPTION:The Wanch has a hot line-up of music for you this week. With acoustic happy hour and dinner specials on Mon & Tues come and support the local scene. Mark your calendar so you don’t miss your favorite bands and check out some bands you may have never seen. We thank you for supporting The Wanch & the local HK Music Scene. The Wanch is “Where Music Means Something.”
URL:https://www.thewanch.hk/event/wanch-music-schedule-oct-3rd-thru-oct-9th/
CATEGORIES:Blues,Classic Rock,Folk Rock,Happy Hour,Heavy Metal,Modern Rock,Original Music
ATTACH;FMTTYPE=image/jpeg:https://www.thewanch.hk/wp-content/uploads/2023/10/Wanch-Oct-3-scaled.jpg
END:VEVENT
BEGIN:VEVENT
DTSTART;TZID=Asia/Hong_Kong:20231004T180000
DTEND;TZID=Asia/Hong_Kong:20231004T235900
DTSTAMP:20260420T173540
CREATED:20231001T072923Z
LAST-MODIFIED:20231001T072932Z
UID:10001932-1696442400-1696463940@www.thewanch.hk
SUMMARY:6pm Acoustic Happy Hour Featuring Iris w/ Rubicube 9pm Add9 10:30pm Gonzales Muzika
DESCRIPTION:Get over the mid-week blues at The Wanch. Music starts at 6pm with Acoustic Happy Hour featuring Iris performing acoustic rock favorites & originals. 9pm Add9 performs favorites from The Red Hot Chili Peppers to Radiohead. 10:30pm Gonzales Muzika performs favorites from Led Zepplin to Blondie & originals. Happy Hour is from 3pm till 8pm & the kitchen is serving our ala carte menu from 3pm till 9:40pm. All this from HK’s Unofficial Home Of Live Music.
URL:https://www.thewanch.hk/event/6pm-acoustic-happy-hour-featuring-iris-w-rubicube-9pm-add9-1030pm-gonzales-muzika/
CATEGORIES:Classic Rock,Happy Hour,Heavy Metal,Modern Rock,Original Music
ATTACH;FMTTYPE=image/jpeg:https://www.thewanch.hk/wp-content/uploads/2023/10/ADD9.jpg
END:VEVENT
BEGIN:VEVENT
DTSTART;TZID=Asia/Hong_Kong:20231005T180000
DTEND;TZID=Asia/Hong_Kong:20231005T235900
DTSTAMP:20260420T173540
CREATED:20231001T074210Z
LAST-MODIFIED:20231001T074212Z
UID:10001933-1696528800-1696550340@www.thewanch.hk
SUMMARY:6pm Acoustic Happy Hour Featuring Tyler 9pm Voodoo Bones 10:30pm Black Kobra
DESCRIPTION:The music starts at 6pm with Acoustic Happy Hour featuring Tyler performing acoustic rock favorites & originals. 9pm Voodoo Bones performs Down Home Chicago Blues. 10:30pm Black Kobra performs favorites from Metallica to Guns N Roses\, & Pearl Jam. Happy Hour is from 3pm till 8pm & the kitchen is serving our ala carte menu from 3pm till 9:40pm. The Wanch & The HK Music Scene thank you for your continued support.
URL:https://www.thewanch.hk/event/6pm-acoustic-happy-hour-featuring-tyler-9pm-voodoo-bones-1030pm-black-kobra/
CATEGORIES:Blues,Classic Rock,Folk Rock,Happy Hour,Heavy Metal,Modern Rock
ATTACH;FMTTYPE=image/jpeg:https://www.thewanch.hk/wp-content/uploads/2023/10/Daily-Events-3-bands.jpg
END:VEVENT
BEGIN:VEVENT
DTSTART;TZID=Asia/Hong_Kong:20231006T180000
DTEND;TZID=Asia/Hong_Kong:20231006T235900
DTSTAMP:20260420T173540
CREATED:20231004T055816Z
LAST-MODIFIED:20231004T055820Z
UID:10001936-1696615200-1696636740@www.thewanch.hk
SUMMARY:6pm Acoustic Happy Hour Featuring Bryan 9pm Jimmy2Times 10:30pm The Limetones 12am Rubicube
DESCRIPTION:The Wanch kicks off your weekend with a hot night of music starting a 6pm with Acoustic Happy Hour featuring Bryan performing acoustic rock favorites. 9pm Jimmy2Times returns performing their unique style of Brit Rock. 10:30pm The Limetones perform 70’s & 80’s party rock favorites. 12am Rubicube rocks till the early hours performing favorites by The Foo Fighters\, Green Day\, The Stones & Originals. Happy Hour is from 3pm till 8pm & the kitchen is serving our ala carte menu from 3pm till 10:40pm. All this & No Cover Charge from The Wanch.
URL:https://www.thewanch.hk/event/6pm-acoustic-happy-hour-featuring-bryan-9pm-jimmy2times-1030pm-the-limetones-12am-rubicube/
CATEGORIES:Classic Rock,Happy Hour,Heavy Metal,Modern Rock,Original Music
ATTACH;FMTTYPE=image/jpeg:https://www.thewanch.hk/wp-content/uploads/2023/10/Daily-Events-4-bands.jpg
END:VEVENT
BEGIN:VEVENT
DTSTART;TZID=Asia/Hong_Kong:20231007T180000
DTEND;TZID=Asia/Hong_Kong:20231007T235900
DTSTAMP:20260420T173540
CREATED:20231004T062409Z
LAST-MODIFIED:20231004T062412Z
UID:10001937-1696701600-1696723140@www.thewanch.hk
SUMMARY:6pm Acoustic Happy Hour Featuring Eduin 8pm Smiling Politely 9pm Rockstars Anonymous 10:45pm Don't Panic 12am RE'CALL
DESCRIPTION:The Wanch opens its doors at 2pm with the kitchen staff serving our ala carte menu till 10:40pm & Happy Hour is from 3-8pm. Then get ready for a rocking Saturday night starting at 6pm with Acoustic Happy Hour featuring Eduin performing acoustic rock favorites. 8pm Smiling Politely performs 90’s grunge in a semi acoustic setting. 9pm Rockstars Anonymous bring 80’s Hair Band Rock to a new level performing favorites from Bon Jovi\, Guns N Roses\, & Queen to name a few. 10:45pm Don’t Panic performs favorites from The Foo Fighters to The Red Hot Chili Peppers. 12am RE’CALL rocks till the early hours with favorites from Pearl Jam\, Limp Bizket\, Disturbed\, & Originals. We thank you for your contiuned support of The Wanch & The HK Music Scene.
URL:https://www.thewanch.hk/event/6pm-acoustic-happy-hour-featuring-eduin-8pm-smiling-politely-9pm-rockstars-anonymous-1045pm-dont-panic-12am-recall/
CATEGORIES:Classic Rock,Heavy Metal,Modern Rock,Original Music
ATTACH;FMTTYPE=image/jpeg:https://www.thewanch.hk/wp-content/uploads/2023/10/Themed-Events.jpg
END:VEVENT
BEGIN:VEVENT
DTSTART;TZID=Asia/Hong_Kong:20231008T160000
DTEND;TZID=Asia/Hong_Kong:20231008T235900
DTSTAMP:20260420T173540
CREATED:20231007T074515Z
LAST-MODIFIED:20231007T074517Z
UID:10001938-1696780800-1696809540@www.thewanch.hk
SUMMARY:4pm Maryjane & Graeme 6pm Armie & Friends 9pm Black Kobra
DESCRIPTION:The Wanch opens its doors at 2pm with the kitchen serving our ala carte menu till 9:40pm. Happy Hour is from 3pm till 8pm. The music starts at 4pm with Maryjane & Graeme performing acoustic favorites. 6pm Armie & Friends perform rock favorites from the 50’s\, 60’s\, & 70’s. 9pm Black Kobra performs rock favorites from Pearl Jam to Guns N Roses\, & Metallica. All this & No Cover Charge from HK’s Unofficial Home Of Live Music.
URL:https://www.thewanch.hk/event/4pm-maryjane-graeme-6pm-armie-friends-9pm-black-kobra/
CATEGORIES:Blues,Classic Rock,Folk Rock,Happy Hour,Heavy Metal,Modern Rock
ATTACH;FMTTYPE=image/jpeg:https://www.thewanch.hk/wp-content/uploads/2023/10/Daily-Events-3-bands-1.jpg
END:VEVENT
END:VCALENDAR