BEGIN:VCALENDAR
VERSION:2.0
PRODID:-//The Wanch - ECPv6.15.20//NONSGML v1.0//EN
CALSCALE:GREGORIAN
METHOD:PUBLISH
X-WR-CALNAME:The Wanch
X-ORIGINAL-URL:https://www.thewanch.hk
X-WR-CALDESC:Events for The Wanch
REFRESH-INTERVAL;VALUE=DURATION:PT1H
X-Robots-Tag:noindex
X-PUBLISHED-TTL:PT1H
BEGIN:VTIMEZONE
TZID:Asia/Hong_Kong
BEGIN:STANDARD
TZOFFSETFROM:+0800
TZOFFSETTO:+0800
TZNAME:HKT
DTSTART:20220101T000000
END:STANDARD
END:VTIMEZONE
BEGIN:VEVENT
DTSTART;TZID=Asia/Hong_Kong:20231031T180000
DTEND;TZID=Asia/Hong_Kong:20231106T235900
DTSTAMP:20260420T175356
CREATED:20231029T110559Z
LAST-MODIFIED:20231029T110603Z
UID:10001971-1698775200-1699315140@www.thewanch.hk
SUMMARY:Wanch Show Schedule Oct 31st thru Nov 6th
DESCRIPTION:The Wanch has a hot line-up of music for you this week. Check the schedule so you don’t miss your favorite bands & why not check out some new bands you have not seen. You then may have a new band to add to your list of favorites. We thank you for your continued support if The Wanch & The HK Live Music Scene. “Every Band Is a Local Band Somewhere.” Kid Leo WMMS Cleveland.
URL:https://www.thewanch.hk/event/wanch-show-schedule-oct-31st-thru-nov-6th/
CATEGORIES:Blues,Classic Rock,Folk Rock,Happy Hour,Heavy Metal,Jam night,Modern Rock,Original Music
ATTACH;FMTTYPE=image/jpeg:https://www.thewanch.hk/wp-content/uploads/2023/10/wanch-oct31-scaled.jpg
END:VEVENT
BEGIN:VEVENT
DTSTART;TZID=Asia/Hong_Kong:20231106T030000
DTEND;TZID=Asia/Hong_Kong:20231107T214000
DTSTAMP:20260420T175356
CREATED:20231031T094545Z
LAST-MODIFIED:20231031T094546Z
UID:10001978-1699239600-1699393200@www.thewanch.hk
SUMMARY:Dinner Specials at The Wanch Nov 6th & 7th 3pm till 9:40pm
DESCRIPTION:Hi Everyone. The Wanch has two great dinner specials for you this Monday & Tuesday. On Monday when you order one main course you get the second one for free. On Tuesday with your main course you get two complimentary bottles of Peroni. This offer is for dine-in customers only & it runs both days from 3pm till 9:45pm. Some come and check out our New Ala Carte Menu and enjoy the Mon & Tues specials. Happy Hour is from 3pm till 8pm. We look forward to serving you soon. We look forward to seeing you soon.
URL:https://www.thewanch.hk/event/dinner-specials-at-the-wanch-nov-6th-7th-3pm-till-940pm/
CATEGORIES:Dinner Special
ATTACH;FMTTYPE=image/jpeg:https://www.thewanch.hk/wp-content/uploads/2023/05/Mon-Tues-Special.jpg
END:VEVENT
BEGIN:VEVENT
DTSTART;TZID=Asia/Hong_Kong:20231106T113000
DTEND;TZID=Asia/Hong_Kong:20231110T150000
DTSTAMP:20260420T175356
CREATED:20231106T022819Z
LAST-MODIFIED:20231106T022821Z
UID:10001980-1699270200-1699628400@www.thewanch.hk
SUMMARY:Lunchtime at The Wanch Nov 6th thru 10th 11:30am till 3pm
DESCRIPTION:Looking to enjoy a great homemade lunch is a relaxing setting. The The Wanch is the place to be. Start your lunch with a homemade soup or salad and then have your choice of 4 homemade mains: Beef Bourguignon\, Prawn Pesto Penne (Vegetarian option available)\, Pork Belly Roll\, or Pan-Fried Cod Fillet. Then top off your lunch with a homemade desert and Iced Lemon Tea. Busy in the office then call 3692-5933 and we will have your lunch ready for take away and you also receive a 10% discount. We look forward to serving you this week.
URL:https://www.thewanch.hk/event/lunchtime-at-the-wanch-nov-6th-thru-10th-1130am-till-3pm/
CATEGORIES:Set Lunch
ATTACH;FMTTYPE=image/jpeg:https://www.thewanch.hk/wp-content/uploads/2023/06/Beef-Menu-scaled.jpg
END:VEVENT
BEGIN:VEVENT
DTSTART;TZID=Asia/Hong_Kong:20231106T180000
DTEND;TZID=Asia/Hong_Kong:20231106T235900
DTSTAMP:20260420T175356
CREATED:20231031T095349Z
LAST-MODIFIED:20231031T095351Z
UID:10001979-1699293600-1699315140@www.thewanch.hk
SUMMARY:6pm Acoustic Happy Hour Featuring Bernard 9pm Jam Night Hosted by Iris & Rubicube
DESCRIPTION:The music starts a 6pm with Acoustic Happy Hour featuring Bernard performing acoustic folk & rock favorites. 9pm it’s Jam Night hosted by Iris & Rubicube. All bands & musicians are welcome to come & jam. All styles of music original\, blues\, funk\, jazz\, & funk is welcome. Want to reserve a spot call 3-692-5933 after 3:30pm or just show up. Solo artist that wants a backing band\, no problem as Rubicube is ready to jam with you. Happy Hour is from 3pm till 8pm & our kitchen staff is serving our ala carte menu from 3pm till 9:40pm. Not looking to jam then come down and enjoy some great music. We thank you for your continued support of The Wanch & the HK Music Scene.
URL:https://www.thewanch.hk/event/6pm-acoustic-happy-hour-featuring-bernard-9pm-jam-night-hosted-by-iris-rubicube/
CATEGORIES:Blues,Classic Rock,Folk Rock,Happy Hour,Modern Rock,Original Music
ATTACH;FMTTYPE=image/jpeg:https://www.thewanch.hk/wp-content/uploads/2023/02/Jam-Nite.jpg
END:VEVENT
BEGIN:VEVENT
DTSTART;TZID=Asia/Hong_Kong:20231107T180000
DTEND;TZID=Asia/Hong_Kong:20231107T235900
DTSTAMP:20260420T175356
CREATED:20231107T030208Z
LAST-MODIFIED:20231107T030211Z
UID:10001983-1699380000-1699401540@www.thewanch.hk
SUMMARY:6pm Acoustic Happy Hour Features John with RE'CALL 9pm Epoch 10:30pm SR2
DESCRIPTION:The Wanch rocks your Tuesday starting at 6pm with Acoustic Happy Hour featuring John with RE’CALL performing acoustic rock favorites. 9pm Epoch performs classic & original rock. 10:30pm SR2 performs favorites from Deep Purple to AC/DC\, Guns N Roses and other 70’s & 80’s rock favorites. Happy Hour is from 3pm till 8pm & our kitchen is serving our ala carte menue from 3pm till 9:40pm. We thank you for your continued support of The Wanch & The HK Live Music Scene.
URL:https://www.thewanch.hk/event/6pm-acoustic-happy-hour-features-john-with-recall-9pm-epoch-1030pm-sr2/
CATEGORIES:Blues,Classic Rock,Happy Hour,Heavy Metal,Original Music
ATTACH;FMTTYPE=image/jpeg:https://www.thewanch.hk/wp-content/uploads/2023/07/sr2.jpeg
END:VEVENT
BEGIN:VEVENT
DTSTART;TZID=Asia/Hong_Kong:20231107T180000
DTEND;TZID=Asia/Hong_Kong:20231113T235900
DTSTAMP:20260420T175356
CREATED:20231106T062745Z
LAST-MODIFIED:20231106T062747Z
UID:10001981-1699380000-1699919940@www.thewanch.hk
SUMMARY:Wanch Show Schedule Nov 7th thru 13th
DESCRIPTION:Check out The Wanch show schedule for Nov 7th thru 13th. Make sure to mark your calendar so you don’t mis your favorite bands. Also check out the whole schedule and check out some bands you may not have seen yet. Happy Hour is from 3pm till 8pm nightly and the kitchen is open from 3pm till 9:40pm Sunday thru Thursday and 3pm till 10:40pm Friday & Saturday. The Wanch is Where Music Means Something. Have a positive & productive week.
URL:https://www.thewanch.hk/event/wanch-show-schedule-nov-7th-thru-13th/
CATEGORIES:Blues,Classic Rock,Folk Rock,Happy Hour,Heavy Metal,Jam night,Modern Rock,Original Music
ATTACH;FMTTYPE=image/jpeg:https://www.thewanch.hk/wp-content/uploads/2023/11/Wanch-Nov-7-scaled.jpg
END:VEVENT
BEGIN:VEVENT
DTSTART;TZID=Asia/Hong_Kong:20231108T180000
DTEND;TZID=Asia/Hong_Kong:20231108T235900
DTSTAMP:20260420T175356
CREATED:20231108T024756Z
LAST-MODIFIED:20231108T024758Z
UID:10001984-1699466400-1699487940@www.thewanch.hk
SUMMARY:6pm Acoustic Happy Hour Featuring Iris w/ Rubicube 9pm Bluesexpress 10:30pm Gonzales Musika
DESCRIPTION:The Wanch rocks your Wednesday night starting at 6pm with Acoustic Happy Hour featuring Iris with Rubicube performing acoustic rock favorites. 9pm Bluesexpress performs Down Home Chicago Blues. At 10:30pm Gonzales Musika performs favorites from Led Zeppelin to originals. Happy Hour is from 3pm till 8pm & our kitchen staff is serving our ala carte menu from 3pm till 9:40pm. We thank you for your continued support of The Wanch & The Hong Kong Live Music Scene.
URL:https://www.thewanch.hk/event/6pm-acoustic-happy-hour-featuring-iris-w-rubicube-9pm-bluesexpress-1030pm-gonzales-musika/
CATEGORIES:Blues,Classic Rock,Folk Rock,Happy Hour,Heavy Metal,Modern Rock,Original Music
ATTACH;FMTTYPE=image/jpeg:https://www.thewanch.hk/wp-content/uploads/2023/11/IMG_20220603_1912452-scaled.jpg
END:VEVENT
BEGIN:VEVENT
DTSTART;TZID=Asia/Hong_Kong:20231109T180000
DTEND;TZID=Asia/Hong_Kong:20231109T235900
DTSTAMP:20260420T175356
CREATED:20231108T025722Z
LAST-MODIFIED:20231108T025724Z
UID:10001985-1699552800-1699574340@www.thewanch.hk
SUMMARY:6pm Acoustic Happy Hour Features Tyler 9pm Spirit Of 77 10:30pm Black Kobra
DESCRIPTION:The Wanch starts the weekend a day early at 6pm with Acoustic Happy Hour featuring Tyler performing acoustic rock & folk favorites along with originals. 9pm Spirit Of 77 performs UK Punk favorites. 10:30pm Black Kobra performs favorites from Pearl Jam\, Metalica\, AC/DC & other 80’s & 90’s rock favorites. Happy Hour is from 3pm till 8pm and the kitchen staff is serving our ala carte menu from 3pm till 9:40pm. All this from The Wanch HK’s Unofficial Home Of Live Music.
URL:https://www.thewanch.hk/event/6pm-acoustic-happy-hour-features-tyler-9pm-spirit-of-77-1030pm-black-kobra/
CATEGORIES:Classic Rock,Happy Hour,Heavy Metal,Modern Rock,Punk Special
ATTACH;FMTTYPE=image/jpeg:https://www.thewanch.hk/wp-content/uploads/2023/02/Black-K.jpeg
END:VEVENT
BEGIN:VEVENT
DTSTART;TZID=Asia/Hong_Kong:20231110T180000
DTEND;TZID=Asia/Hong_Kong:20231110T235900
DTSTAMP:20260420T175356
CREATED:20231108T052409Z
LAST-MODIFIED:20231108T052420Z
UID:10001986-1699639200-1699660740@www.thewanch.hk
SUMMARY:6pm Acoustic Happy Hour Featuring Bryan 8pm Love Parade HK 9pm The Red Stripes 10:30pm Loose Agenda 12am Rubicube
DESCRIPTION:The Wanch rocks your Friday Night starting at 6pm with Acoustic Happy Hour featuring Bryan performing acoustic rock & folk favorites. 8pm Love Parade HK performs original rock. 9pm The Red Stripes return performing their unique style of Ska music. 10:30pm Loose Agenda performs 80’s & 90’s rock along with an original or two. 12am Rubicube rocks till the early hours performing favorites from Jimi Hendrix\, The Foo Fighters\, The Beatles\, and originals. Happy Hour is from 3pm till 8pm & our kitchen staff will be serving our ala carte menu from 3pm till 10:40pm. All this from The Wanch HK’s Unofficial Home Of Live Music
URL:https://www.thewanch.hk/event/6pm-acoustic-happy-hour-featuring-bryan-8pm-love-parade-hk-9pm-the-red-stripes-1030pm-loose-agenda-12am-rubicube/
CATEGORIES:Classic Rock,Funk,Happy Hour,Modern Rock,Motown,Original Music,Ska
ATTACH;FMTTYPE=image/jpeg:https://www.thewanch.hk/wp-content/uploads/2023/11/Daily-Events-4-bands.jpg
END:VEVENT
BEGIN:VEVENT
DTSTART;TZID=Asia/Hong_Kong:20231111T130000
DTEND;TZID=Asia/Hong_Kong:20231111T235900
DTSTAMP:20260420T175356
CREATED:20231108T054535Z
LAST-MODIFIED:20231108T054537Z
UID:10001987-1699707600-1699747140@www.thewanch.hk
SUMMARY:1pm Wanchai Record Fair 6:30pm Acoustic Happy Hour Featuring Eduin 9pm Rockstars Anonymous 10:30pm Magic Mountain Bells 11:30pm RE'CALL
DESCRIPTION:The Wanch has a full-on Saturday of fun & music. At 1pm it’s The WanChai Record Fair. Come anc check it out as you just may find that missing LP for your collection. 6:30pm Its Acoustic Happy Hour featuring Eduin performing acoustic rock favorites. 9pm Rockstars Anonymous returns performing favorites from Van Halen to Bon Jovi to Queen and all your favorite 80’s stadium rock. 10:30pm Magic Mountain Bells perform original rock. 11:30pm RE’CALL returns performing favorites from Limp Bizket\, to Pearl Jam to Soundgarden & originals. All this & No Cover Charge from The Wanch “Where Music Means Something.”
URL:https://www.thewanch.hk/event/1pm-wanchai-record-fair-630pm-acoustic-happy-hour-featuring-eduin-9pm-rockstars-anonymous-1030pm-magic-mountain-bells-1130pm-recall/
CATEGORIES:Classic Rock,Folk Rock,Happy Hour,Heavy Metal,Modern Rock,Original Music
ATTACH;FMTTYPE=image/jpeg:https://www.thewanch.hk/wp-content/uploads/2023/11/Daily-Events-4-bands-1.jpg
END:VEVENT
BEGIN:VEVENT
DTSTART;TZID=Asia/Hong_Kong:20231111T130000
DTEND;TZID=Asia/Hong_Kong:20231112T183000
DTSTAMP:20260420T175356
CREATED:20231106T063943Z
LAST-MODIFIED:20231106T063945Z
UID:10001982-1699707600-1699813800@www.thewanch.hk
SUMMARY:The Wanch & The Listening Room Present The WanChai Record Fair 1pm till 6:30pm Nov 11th & 12.
DESCRIPTION:Looking for that one vinyl record that is missing from your collection. Then visit The Wanch Nov 11th or 12th and check our The WanChai Record Fair. Many different dealers from HK will be here. Looking to get rid of that extra copy of an LP that is in your collection the dealers are looking to Buy\, Sell\, & Trade some come work out your best deal. Also enjoy a cold Coopers or Stone & Wood Beer while looking for that missing LP. Looking forward to seeing you this weekend.
URL:https://www.thewanch.hk/event/the-wanch-the-listening-room-present-the-wanchai-record-fair-1pm-till-630pm-nov-11th-12/
CATEGORIES:record fair
END:VEVENT
BEGIN:VEVENT
DTSTART;TZID=Asia/Hong_Kong:20231112T130000
DTEND;TZID=Asia/Hong_Kong:20231112T235900
DTSTAMP:20260420T175356
CREATED:20231108T060901Z
LAST-MODIFIED:20231110T023758Z
UID:10001988-1699794000-1699833540@www.thewanch.hk
SUMMARY:1pm WanChai Record Fair 6:30pm Armie & Friends 9:30pm Maryjane & The Gang
DESCRIPTION:Doors open at 1pm as it is the last day of The WanChai Record Fair so come down and get a deal on the LP you have been looking for. 6:30pm Armie & Friends perform rock favorites from the 50’s\, 60’s\, & 70’s. 9:30pm Maryjane & The Gang perform rock favorites from The Cure\, to Blondie\, The Police\, and originals. So come and enjoy a laid back day at The Wanch. Happy Hour 1pm till 8pm & our kitchen is serving our ala carte menu from 1pm till 9:40pm. We thank you for your continued suppoet of The Wanch & The HK Music Scene. Your support keeps Live Music Alive in HK.
URL:https://www.thewanch.hk/event/1pm-wanchai-record-fair-630pm-armie-friends-930pm-maryjane-the-gang/
CATEGORIES:Blues,Classic Rock,Folk Rock,Modern Rock,Original Music,record fair
ATTACH;FMTTYPE=image/jpeg:https://www.thewanch.hk/wp-content/uploads/2023/11/Daily-Events-3-bands.jpg
END:VEVENT
END:VCALENDAR