BEGIN:VCALENDAR
VERSION:2.0
PRODID:-//The Wanch - ECPv6.15.20//NONSGML v1.0//EN
CALSCALE:GREGORIAN
METHOD:PUBLISH
X-ORIGINAL-URL:https://www.thewanch.hk
X-WR-CALDESC:Events for The Wanch
REFRESH-INTERVAL;VALUE=DURATION:PT1H
X-Robots-Tag:noindex
X-PUBLISHED-TTL:PT1H
BEGIN:VTIMEZONE
TZID:Asia/Hong_Kong
BEGIN:STANDARD
TZOFFSETFROM:+0800
TZOFFSETTO:+0800
TZNAME:HKT
DTSTART:20220101T000000
END:STANDARD
END:VTIMEZONE
BEGIN:VEVENT
DTSTART;TZID=Asia/Hong_Kong:20231107T180000
DTEND;TZID=Asia/Hong_Kong:20231113T235900
DTSTAMP:20260420T191752
CREATED:20231106T062745Z
LAST-MODIFIED:20231106T062747Z
UID:10001981-1699380000-1699919940@www.thewanch.hk
SUMMARY:Wanch Show Schedule Nov 7th thru 13th
DESCRIPTION:Check out The Wanch show schedule for Nov 7th thru 13th. Make sure to mark your calendar so you don’t mis your favorite bands. Also check out the whole schedule and check out some bands you may not have seen yet. Happy Hour is from 3pm till 8pm nightly and the kitchen is open from 3pm till 9:40pm Sunday thru Thursday and 3pm till 10:40pm Friday & Saturday. The Wanch is Where Music Means Something. Have a positive & productive week.
URL:https://www.thewanch.hk/event/wanch-show-schedule-nov-7th-thru-13th/
CATEGORIES:Blues,Classic Rock,Folk Rock,Happy Hour,Heavy Metal,Jam night,Modern Rock,Original Music
ATTACH;FMTTYPE=image/jpeg:https://www.thewanch.hk/wp-content/uploads/2023/11/Wanch-Nov-7-scaled.jpg
END:VEVENT
BEGIN:VEVENT
DTSTART;TZID=Asia/Hong_Kong:20231113T150000
DTEND;TZID=Asia/Hong_Kong:20231114T214000
DTSTAMP:20260420T191752
CREATED:20231108T061338Z
LAST-MODIFIED:20231108T061340Z
UID:10001989-1699887600-1699998000@www.thewanch.hk
SUMMARY:Dinner Specials at The Wanch Nov 13th & 14th 3pm till 9:40pm
DESCRIPTION:Hi Everyone. The Wanch has two great dinner specials for you this Monday & Tuesday. On Monday when you order one main course you get the second one for free. On Tuesday with your main course you get two complimentary bottles of Peroni. This offer is for dine-in customers only & it runs both days from 3pm till 9:45pm. Some come and check out our New Ala Carte Menu and enjoy the Mon & Tues specials. Happy Hour is from 3pm till 8pm. We look forward to serving you soon. We look forward to seeing you soon.
URL:https://www.thewanch.hk/event/dinner-specials-at-the-wanch-nov-13th-14th-3pm-till-940pm/
CATEGORIES:Dinner Special
ATTACH;FMTTYPE=image/jpeg:https://www.thewanch.hk/wp-content/uploads/2023/05/Mon-Tues-Special.jpg
END:VEVENT
BEGIN:VEVENT
DTSTART;TZID=Asia/Hong_Kong:20231113T180000
DTEND;TZID=Asia/Hong_Kong:20231113T235900
DTSTAMP:20260420T191752
CREATED:20231108T062254Z
LAST-MODIFIED:20231108T062256Z
UID:10001990-1699898400-1699919940@www.thewanch.hk
SUMMARY:6pm Acoustic Happy Hour Features Tyler 9pm Jam Night Hosted by Iris & Rubicube
DESCRIPTION:The music starts a 6pm with Acoustic Happy Hour featuring Tyler performing acoustic folk & rock favorites. 9pm it’s Jam Night hosted by Iris & Rubicube. All bands & musicians are welcome to come & jam. All styles of music original\, blues\, funk\, jazz\, & funk is welcome. Want to reserve a spot call 3-692-5933 after 3:30pm or just show up. Solo artist that wants a backing band\, no problem as Rubicube is ready to jam with you. Happy Hour is from 3pm till 8pm & our kitchen staff is serving our ala carte menu from 3pm till 9:40pm. Not looking to jam then come down and enjoy some great music. We thank you for your continued support of The Wanch & the HK Music Scene.
URL:https://www.thewanch.hk/event/6pm-acoustic-happy-hour-features-tyler-9pm-jam-night-hosted-by-iris-rubicube-2/
CATEGORIES:Blues,Classic Rock,Folk Rock,Happy Hour,Heavy Metal,Jam night,Modern Rock,Original Music
ATTACH;FMTTYPE=image/jpeg:https://www.thewanch.hk/wp-content/uploads/2023/02/Jam-Nite.jpg
END:VEVENT
BEGIN:VEVENT
DTSTART;TZID=Asia/Hong_Kong:20231113T180000
DTEND;TZID=Asia/Hong_Kong:20231117T235900
DTSTAMP:20260420T191752
CREATED:20231112T063133Z
LAST-MODIFIED:20231112T063152Z
UID:10001991-1699898400-1700265540@www.thewanch.hk
SUMMARY:Lunch Time at The Wanch Nov 13th thru 17th 11:30am till 3pm
DESCRIPTION:Looking for a hot home cooked lunch? The The Wanch is the perfect place. Start your lunch with a homemade soup or salad followed by a choice of four homemade mains: Spaghetti Carbonara (Vegetarian Version Available)\, Stone-Baked Spicey Seafood Pizza\, Stuffed Chicken Parmesan\, or Seared Rib-Eye Steak. Then top off your lunch with a homemade desert & Iced Lemon Tea. Busy in the office then call 3692-5933 and we will have your lunch ready for take-away and receive at 10% discount. We look forward to seeing you this week.
URL:https://www.thewanch.hk/event/lunch-time-at-the-wanch-nov-13th-thru-17th-1130am-till-3pm/
CATEGORIES:Set Lunch
ATTACH;FMTTYPE=image/jpeg:https://www.thewanch.hk/wp-content/uploads/2023/10/spaghetti-week.jpg
END:VEVENT
BEGIN:VEVENT
DTSTART;TZID=Asia/Hong_Kong:20231114T180000
DTEND;TZID=Asia/Hong_Kong:20231114T235900
DTSTAMP:20260420T191752
CREATED:20231113T115347Z
LAST-MODIFIED:20231113T115417Z
UID:10001993-1699984800-1700006340@www.thewanch.hk
SUMMARY:6pm Acoustic Happy Hour Features John w/ RE'CALL 9pm Purple Express 10:30pm Fast Line.
DESCRIPTION:The Wanch kicks off your Wednesday at 6pm with Acoustic Happy Hour featuring John with RE’CALL performing acoustic rock & folk favorites. 9pm Purple Express perorms their unique blend of progressive & hard rock originals. 10:30pm Fast Line performs rock favorites from Bon Jovi to Guns N Roses to Deep Purple. Happy Hour is from 3pm till 8pm & the kitchen is serving our ala carte menu from 3pm till 9:40pm. We thank you for your continued support of The Wanch & the HK Live Music Scene
URL:https://www.thewanch.hk/event/6pm-acoustic-happy-hour-features-john-w-recall-9pm-purple-express-1030pm-fast-line/
CATEGORIES:Classic Rock,Folk Rock,Happy Hour,Heavy Metal,Original Music
ATTACH;FMTTYPE=image/jpeg:https://www.thewanch.hk/wp-content/uploads/2023/11/Daily-Events-3-bands-1.jpg
END:VEVENT
BEGIN:VEVENT
DTSTART;TZID=Asia/Hong_Kong:20231114T180000
DTEND;TZID=Asia/Hong_Kong:20231120T235900
DTSTAMP:20260420T191752
CREATED:20231112T070203Z
LAST-MODIFIED:20231112T070205Z
UID:10001992-1699984800-1700524740@www.thewanch.hk
SUMMARY:Wanch Show Schedule Nov 14th thru 20th
DESCRIPTION:Check out The Wanch show schedule for Nov 7th thru 13th. Make sure to mark your calendar so you don’t mis your favorite bands. Also check out the whole schedule and check out some bands you may not have seen yet. Happy Hour is from 3pm till 8pm nightly and the kitchen is open from 3pm till 9:40pm Sunday thru Thursday and 3pm till 10:40pm Friday & Saturday. The Wanch is Where Music Means Something. Have a positive & productive week.
URL:https://www.thewanch.hk/event/wanch-show-schedule-nov-14th-thru-20th/
CATEGORIES:Blues,Classic Rock,Folk Rock,Happy Hour,Jam night,Modern Rock
ATTACH;FMTTYPE=image/jpeg:https://www.thewanch.hk/wp-content/uploads/2023/11/Sch-Nov-14-scaled.jpg
END:VEVENT
BEGIN:VEVENT
DTSTART;TZID=Asia/Hong_Kong:20231115T180000
DTEND;TZID=Asia/Hong_Kong:20231115T235900
DTSTAMP:20260420T191752
CREATED:20231113T120944Z
LAST-MODIFIED:20231113T121000Z
UID:10001994-1700071200-1700092740@www.thewanch.hk
SUMMARY:6pm Acoustic Happy Hour with Iris w/ Rubicube 9pm The Pulse (Formerly Neo Astronauts) 10:30pm Gonzales Musika
DESCRIPTION:6pm it’s Acoustic Happy Hour with Iris from Rubicube performing acoustic rock favorites. 9pm The Pulse (Formerly Neo Astronauts) perform 80’s & 90’s rock. 10:30pm Gonzales Musika performs favorites from Led Zeppelin to Blondie & originals. Happy Haourb is from 3pm till 8pm & our kitchen staff is serving our ala carte menu from 3pm till 9:40pm. All this & No Cover Charge from HK’s Unofficial Home of Live Music. The Wanch see you all tonight.
URL:https://www.thewanch.hk/event/6pm-acoustic-happy-hour-with-iris-w-rubicube-9pm-the-pulse-formerly-neo-astronauts-1030pm-gonzales-musika/
CATEGORIES:Classic Rock,Folk Rock,Happy Hour,Heavy Metal,Modern Rock,Original Music
ATTACH;FMTTYPE=image/webp:https://www.thewanch.hk/wp-content/uploads/2023/11/pulse.webp
END:VEVENT
BEGIN:VEVENT
DTSTART;TZID=Asia/Hong_Kong:20231116T180000
DTEND;TZID=Asia/Hong_Kong:20231116T235900
DTSTAMP:20260420T191752
CREATED:20231113T123114Z
LAST-MODIFIED:20231113T123117Z
UID:10001995-1700157600-1700179140@www.thewanch.hk
SUMMARY:6pm Acoustic Happy Hour Featuring Tyler 8:30pm Kissing Fish 9:45pm Add9 11pm Maryjane & The Gang
DESCRIPTION:Get ready for a Rock & Roll Thursday starting at 6pm with Acoustic Happy Hour featuring Tyler performing acoustic rock\, folk & originals. 8:30pm Kissing Fish perform original Indie rock. 9:454pm Add9 performs 80’s & 90’s rock.11pm Maryjane & The Gang perform rock from The Cure\, Blondie\, The Police & Originals. Happy Hour is from 3pm till 8pm & our kitchen staff is serving our ala carte menue from 3pm till 9:40pm. We thank you for your continued support of The Wanch & The HK Music Scene. Your support keeps live music alive!
URL:https://www.thewanch.hk/event/6pm-acoustic-happy-hour-featuring-tyler-830pm-kissing-fish-945pm-add9-11pm-maryjane-the-gang/
CATEGORIES:Blues,Classic Rock,Folk Rock,Happy Hour,Modern Rock,Original Music
ATTACH;FMTTYPE=image/jpeg:https://www.thewanch.hk/wp-content/uploads/2023/11/Daily-Events-3-bands-2.jpg
END:VEVENT
BEGIN:VEVENT
DTSTART;TZID=Asia/Hong_Kong:20231117T180000
DTEND;TZID=Asia/Hong_Kong:20231117T235900
DTSTAMP:20260420T191752
CREATED:20231116T051357Z
LAST-MODIFIED:20231116T051402Z
UID:10001996-1700244000-1700265540@www.thewanch.hk
SUMMARY:6pm Acoustic Happy Hour Features Bryan 9pm The Sideburns 10:30pm The Prowlers 12am Rubicube
DESCRIPTION:The Wanch rocks this Friday starting at 6pm with Acoustic Happy Hour featuring Bryan performing acoustic rock favorites. 9pm The Sideburns return performing original rockabilly punk. 10:30pm The Prowlers perform heavy metal favorites from Iron Maiden to Metallica. 12am Rubicube performs favorites from Jimi Hendrix to The Foo Fighters to AC/DC and Originals. Happy Hour is from 3pm till 8pm & our kitchen is open from 3pm till 10:40pm. We thank you for your continued support of The Wanch & HK’s Live Music Scene.
URL:https://www.thewanch.hk/event/6pm-acoustic-happy-hour-features-bryan-9pm-the-sideburns-1030pm-the-prowlers-12am-rubicube/
CATEGORIES:Classic Rock,Folk Rock,Happy Hour,Heavy Metal,Modern Rock,Original Music,Ska
ATTACH;FMTTYPE=image/jpeg:https://www.thewanch.hk/wp-content/uploads/2023/11/Daily-Events-3-bands-3.jpg
END:VEVENT
BEGIN:VEVENT
DTSTART;TZID=Asia/Hong_Kong:20231118T180000
DTEND;TZID=Asia/Hong_Kong:20231118T235900
DTSTAMP:20260420T191752
CREATED:20231116T053206Z
LAST-MODIFIED:20231116T053208Z
UID:10001997-1700330400-1700351940@www.thewanch.hk
SUMMARY:6pm Acoustic Happy Hour Featuring Eduin 9pm Shuffle Stuff 10:30pm Don't Panic 12am RE'CALL
DESCRIPTION:The Wanch opens its doors at 2pm with our kitchen staff serving our ala carte menu till 10:40pm and Happy Hour is from 3pm till 8pm. The music starts at 6pm with Acoustic Happy Hour featuring Eduin performing acoustic rock favorites. 9pm Shuffle Stuff returns performing Down Home Chicago Blues. 10:30pm Don’t Panic performs favorites from The Foo Fighters to The Stones to The Red Hot Chilli Peppers. 12am RE’CALL rocks till the early morning with favorites from Limp Bizket to Soundgarden\, ACDC\, and Originals. All this & No Cover Charge all from HK’s Unofficial Home Of Live Music.
URL:https://www.thewanch.hk/event/6pm-acoustic-happy-hour-featuring-eduin-9pm-shuffle-stuff-1030pm-dont-panic-12am-recall/
CATEGORIES:Blues,Classic Rock,Folk Rock,Happy Hour,Heavy Metal,Modern Rock,Original Music
ATTACH;FMTTYPE=image/jpeg:https://www.thewanch.hk/wp-content/uploads/2023/11/Daily-Events-3-bands-4.jpg
END:VEVENT
BEGIN:VEVENT
DTSTART;TZID=Asia/Hong_Kong:20231119T180000
DTEND;TZID=Asia/Hong_Kong:20231119T235900
DTSTAMP:20260420T191752
CREATED:20231116T062703Z
LAST-MODIFIED:20231119T053715Z
UID:10001998-1700416800-1700438340@www.thewanch.hk
SUMMARY:6pm Amusix Diwali Concert 8:30pm Jordan Jubilee 10:00pm Black Kobra
DESCRIPTION:The Wanch opens its door’s at 2pm and our kitchen is serving our ala carte menu from 2pm till 9:40pm and Happy Hour is from 3pm till 8pm. 6pm Amusix School is presenting their Dinwali Concert ticks are $100 at the door. 8pm The Wanch opens its doors to the public with Jordan Jubilee performing Classic Rock. 10pm Black Kobra performs favorites from Pearl Jam to Metalica to Deep Purple. We thank you for your continued support of The Wanch & The HK Live Music Scene
URL:https://www.thewanch.hk/event/6pm-amusix-diwali-concert-830pm-jordan-jubilee-1000pm-black-kobra/
CATEGORIES:Blues,Classic Rock,Folk Rock,Happy Hour,Original Music
ATTACH;FMTTYPE=image/jpeg:https://www.thewanch.hk/wp-content/uploads/2023/11/Daily-Events-3-bands-7.jpg
END:VEVENT
END:VCALENDAR