BEGIN:VCALENDAR
VERSION:2.0
PRODID:-//The Wanch - ECPv6.15.20//NONSGML v1.0//EN
CALSCALE:GREGORIAN
METHOD:PUBLISH
X-WR-CALNAME:The Wanch
X-ORIGINAL-URL:https://www.thewanch.hk
X-WR-CALDESC:Events for The Wanch
REFRESH-INTERVAL;VALUE=DURATION:PT1H
X-Robots-Tag:noindex
X-PUBLISHED-TTL:PT1H
BEGIN:VTIMEZONE
TZID:Asia/Hong_Kong
BEGIN:STANDARD
TZOFFSETFROM:+0800
TZOFFSETTO:+0800
TZNAME:HKT
DTSTART:20220101T000000
END:STANDARD
END:VTIMEZONE
BEGIN:VEVENT
DTSTART;TZID=Asia/Hong_Kong:20231121T180000
DTEND;TZID=Asia/Hong_Kong:20231127T235900
DTSTAMP:20260420T172555
CREATED:20231121T043507Z
LAST-MODIFIED:20231121T043509Z
UID:10002005-1700589600-1701129540@www.thewanch.hk
SUMMARY:Music Line-Up at The Wanch Nov 21st thru 27th
DESCRIPTION:Check out The Wanch show schedule for Nov 21st thru 27th. Make sure to mark your calendar so you don’t miss your favorite bands. Also check out the whole schedule and check out some bands you may not have seen yet. Happy Hour is from 3pm till 8pm nightly and the kitchen is open from 3pm till 9:40pm Sunday thru Thursday and 3pm till 10:40pm Friday & Saturday. The Wanch is Where Music Means Something. Have a positive & productive week.
URL:https://www.thewanch.hk/event/music-line-up-at-the-wanch-nov-21st-thru-27th/
CATEGORIES:Blues,Classic Rock,Folk Rock,Happy Hour,Heavy Metal,Modern Rock,Original Music
ATTACH;FMTTYPE=image/jpeg:https://www.thewanch.hk/wp-content/uploads/2023/11/Wanch-Nov-21-scaled.jpg
END:VEVENT
BEGIN:VEVENT
DTSTART;TZID=Asia/Hong_Kong:20231127T113000
DTEND;TZID=Asia/Hong_Kong:20231201T150000
DTSTAMP:20260420T172555
CREATED:20231127T004646Z
LAST-MODIFIED:20231127T004649Z
UID:10002011-1701084600-1701442800@www.thewanch.hk
SUMMARY:Lunchtime at The Wancn Nov 27th thru Dec 1st 11:30am till 3pm
DESCRIPTION:Join us at The Wanch this week for another homemade set lunch special this week. Start your lunch with a homemade soup or salad then have your choice of four homemade main dishes: Beef Bourguignon\, Prawn Pesto Penne (Vegetarian version available)\, Pork Belly Roll\, or Pan-Fried Cod Fillet. Then top off your lunch with a homemade desert & Iced Lemon Tea. Busy in the office then call 3692-5933 and we will have your lunch ready for take-away and you will receive a 10% discount. We look forward to serving you this week.
URL:https://www.thewanch.hk/event/lunchtime-at-the-wancn-nov-27th-thru-dec-1st-1130am-till-3pm/
CATEGORIES:Set Lunch
ATTACH;FMTTYPE=image/jpeg:https://www.thewanch.hk/wp-content/uploads/2023/06/Beef-Menu-scaled.jpg
END:VEVENT
BEGIN:VEVENT
DTSTART;TZID=Asia/Hong_Kong:20231127T150000
DTEND;TZID=Asia/Hong_Kong:20231128T214000
DTSTAMP:20260420T172555
CREATED:20231121T092811Z
LAST-MODIFIED:20231121T093127Z
UID:10002009-1701097200-1701207600@www.thewanch.hk
SUMMARY:Dinner Specials at The Wanch Nov 27th & 28th 3pm till 9:40pm
DESCRIPTION:Hi Everyone. The Wanch has two great dinner specials for you this Monday & Tuesday. On Monday when you order one main course you get the second one for free. On Tuesday with your main course\, you get two complimentary bottles of Peroni. This offer is for dine-in customers only & it runs both days from 3pm till 9:45pm. Some come and check out our New Ala Carte Menu and enjoy the Mon & Tues specials. Happy Hour is from 3pm till 8pm. We look forward to serving you soon. We look forward to seeing you soon.
URL:https://www.thewanch.hk/event/17791/
CATEGORIES:Dinner Special,Happy Hour
ATTACH;FMTTYPE=image/jpeg:https://www.thewanch.hk/wp-content/uploads/2023/05/Mon-Tues-Special.jpg
END:VEVENT
BEGIN:VEVENT
DTSTART;TZID=Asia/Hong_Kong:20231127T180000
DTEND;TZID=Asia/Hong_Kong:20231127T235900
DTSTAMP:20260420T172555
CREATED:20231121T093814Z
LAST-MODIFIED:20231121T093815Z
UID:10002010-1701108000-1701129540@www.thewanch.hk
SUMMARY:6pm Acoustic Happy Hour Featuring Tyler 9pm Jam Night Hosted by Iris & Rubicube Sponsored by Absolut\, Beefeaters\, Ballantine\, & Jamerson
DESCRIPTION:The music starts a 6pm with Acoustic Happy Hour featuring Tyler performing acoustic folk & rock favorites. 9pm it’s Jam Night hosted by Iris & Rubicube. All bands & musicians are welcome to come & jam. All styles of music original\, blues\, funk\, jazz\, & funk is welcome. Want to reserve a spot call 3-692-5933 after 3:30pm or just show up. Solo artist that wants a backing band\, no problem as Rubicube is ready to jam with you. Happy Hour is from 3pm till 8pm & our kitchen staff is serving our ala carte menu from 3pm till 9:40pm. Not looking to jam then come down and enjoy some great music & drink specials from our sponsors. We thank you for your continued support of The Wanch & the HK Music Scene.
URL:https://www.thewanch.hk/event/6pm-acoustic-happy-hour-featuring-tyler-9pm-jam-night-hosted-by-iris-rubicube-sponsored-by-absolut-beefeaters-ballantine-jamerson/
CATEGORIES:Blues,Classic Rock,Folk Rock,Happy Hour,Heavy Metal,Jam night,Modern Rock,Original Music,Special
ATTACH;FMTTYPE=image/jpeg:https://www.thewanch.hk/wp-content/uploads/2023/02/Jam-Nite-1.jpg
END:VEVENT
BEGIN:VEVENT
DTSTART;TZID=Asia/Hong_Kong:20231128T080000
DTEND;TZID=Asia/Hong_Kong:20231204T170000
DTSTAMP:20260420T172555
CREATED:20231127T011728Z
LAST-MODIFIED:20231127T011730Z
UID:10002013-1701158400-1701709200@www.thewanch.hk
SUMMARY:Wanch Performance Schedule Nov 28th thru Dec 4th
DESCRIPTION:Hi Everyone\, well The Wanch has another week of great music lined up this week. Check the schedule and mark your calendar so you don’t miss your favorite bands. See some bands listed you haven’t seen then why not come down and check them out as well. With Happy Hour from 3pm till 8pm nightly and the kitchen open from 3pm till 9:40pm Sun thru Thurs and 10:40pm on Fri & Sat The Wanch rocks seven nights a week. We thank you for your continued support of The Wanch & The Hong Kong Live Music Scene.
URL:https://www.thewanch.hk/event/wanch-performance-schedule-nov-28th-thru-dec-4th/
CATEGORIES:Blues,Classic Rock,Folk Rock,Happy Hour,Heavy Metal,Jam night,Modern Rock,Original Music
ATTACH;FMTTYPE=image/jpeg:https://www.thewanch.hk/wp-content/uploads/2023/11/wanch-nov28-scaled.jpg
END:VEVENT
BEGIN:VEVENT
DTSTART;TZID=Asia/Hong_Kong:20231128T180000
DTEND;TZID=Asia/Hong_Kong:20231128T235900
DTSTAMP:20260420T172555
CREATED:20231127T010527Z
LAST-MODIFIED:20231127T010528Z
UID:10002012-1701194400-1701215940@www.thewanch.hk
SUMMARY:6pm Acoustic Happy Hour Featuring John w/ Recall 8pm Times Two 9pm Smooth N Groovin 10:30pm Fast Line
DESCRIPTION:The Wanch has a full line up of music for you starting at 6pm with Acoustic Happy Hour featuring John from RE’CALL performing acoustic rock favorites. 8pm it’s Times Two performing acoustic jazz. 9pm Smooth N Groovin returns performing classic rock. 10:30pm Fast Line performs favorites from The Stones\, Deep Purple\, AC/DC\, Bon Jovi and other rock favorites. Happy Hour is from 3pm till 8pm & the kitchen is open till 9:40pm. All this & No Cover Charge from The Wanch. HK’s Unofficial Home of Live Music
URL:https://www.thewanch.hk/event/6pm-acoustic-happy-hour-featuring-john-w-recall-8pm-times-two-9pm-smooth-n-groovin-1030pm-fast-line/
CATEGORIES:Blues,Classic Rock,Folk Rock,Happy Hour,Motown
ATTACH;FMTTYPE=image/jpeg:https://www.thewanch.hk/wp-content/uploads/2023/11/Daily-Events-3-bands-10.jpg
END:VEVENT
BEGIN:VEVENT
DTSTART;TZID=Asia/Hong_Kong:20231129T180000
DTEND;TZID=Asia/Hong_Kong:20231129T235900
DTSTAMP:20260420T172555
CREATED:20231127T015823Z
LAST-MODIFIED:20231127T015825Z
UID:10002014-1701280800-1701302340@www.thewanch.hk
SUMMARY:6pm Acoustic Happy Hour Featuring Iris w/ Rubicube 8pm Silver Train 9pm MOJO 10:30pm Gonzales Musika
DESCRIPTION:The Wanch rocks your Wednesday starting at 6pm with Acoustic Happy Hour featuring Iris performing acoustic rock favorites. 8pm Silver Train performs 70’s & 80’s rock favorites. 9pm MOJO performs indie & grunge rock favorites. 10:30pm Gonzales Musika performs favorites from Led Zeppelin to Blondie and originals. Happy Hour is from 3pm till 8pm & our kitchen staff is serving our ala carte menu from 3pm till 9:40pm. We thank you for supporting The Wanch & The HK Live Music Scene.
URL:https://www.thewanch.hk/event/6pm-acoustic-happy-hour-featuring-iris-w-rubicube-8pm-silver-train-9pm-mojo-1030pm-gonzales-musika/
CATEGORIES:Classic Rock,Folk Rock,Happy Hour,Heavy Metal,Modern Rock,Original Music
ATTACH;FMTTYPE=image/jpeg:https://www.thewanch.hk/wp-content/uploads/2023/11/beefy-bro.jpeg
END:VEVENT
BEGIN:VEVENT
DTSTART;TZID=Asia/Hong_Kong:20231130T180000
DTEND;TZID=Asia/Hong_Kong:20231130T235900
DTSTAMP:20260420T172555
CREATED:20231127T110230Z
LAST-MODIFIED:20231127T110233Z
UID:10002015-1701367200-1701388740@www.thewanch.hk
SUMMARY:6pm Acoustic Happy Hour Featuring Tyler 9pm Madoka 9:30pm Morning Sons 10:30pm Gonzales Rodriguez
DESCRIPTION:Start the weekend a day early at The Wanch. The music starts at 6pm with Acoustic Happy Hour featuring Tyler. 9pm Madoka performs 90’s acoustic rock. 9:30pm Morning Sons performs rock favorites from The Beatles\, Oasis\, & Originals. 10:30pm Gonzales Rodrigues performs favorites from Deep Purple\, The Police\, & other 80’s & 90’s rock favorites. Happy Hour is from 3pm till 8pm and our kitchen staff is serving up our ala carte menu from 3pm till 9:40pm. All this & No Cover Charge from HK’s Home of Continuous Music. The Wanch.
URL:https://www.thewanch.hk/event/6pm-acoustic-happy-hour-featuring-tyler-9pm-madoka-930pm-morning-sons-1030pm-gonzales-rodriguez/
CATEGORIES:Classic Rock,Folk Rock,Happy Hour,Modern Rock,Original Music
ATTACH;FMTTYPE=image/jpeg:https://www.thewanch.hk/wp-content/uploads/2023/11/Daily-Events-3-bands-11.jpg
END:VEVENT
BEGIN:VEVENT
DTSTART;TZID=Asia/Hong_Kong:20231201T180000
DTEND;TZID=Asia/Hong_Kong:20231201T235900
DTSTAMP:20260420T172555
CREATED:20231201T021718Z
LAST-MODIFIED:20231201T021720Z
UID:10002016-1701453600-1701475140@www.thewanch.hk
SUMMARY:6pm Acoustic Happy Hour Features Bryan 9pm Scone Roses 10:30pm Levelling Out 12am Rubicube
DESCRIPTION:The Wanch rocks your Friday night starting at 6pm with Acoustic Happy Hour featuring Bryan performing acoustic rock favorites. 9pm The Stone Roses Tribute Band performs favorites by The Stone Roses. 10:30pm Levelling Out performs 70’s & 80’s Blues rock favorites. 12am Rubicube performs favorites from The Foo Fighters\, Jimi Hendrix\, The Beatles\, & Originals. Happy Hour is from 3pm till 8pm & our kitchen staff is serving our ala carte menu from 3pm till 10:40pm. All this & No Cover Charge from The Wanch\, HK’s Unofficial Home Of Live Music.
URL:https://www.thewanch.hk/event/6pm-acoustic-happy-hour-features-bryan-9pm-scone-roses-1030pm-levelling-out-12am-rubicube/
CATEGORIES:Blues,Classic Rock,Folk Rock,Happy Hour,Modern Rock,Original Music
ATTACH;FMTTYPE=image/jpeg:https://www.thewanch.hk/wp-content/uploads/2023/12/Daily-Events-3-bands.jpg
END:VEVENT
BEGIN:VEVENT
DTSTART;TZID=Asia/Hong_Kong:20231202T180000
DTEND;TZID=Asia/Hong_Kong:20231202T235900
DTSTAMP:20260420T172555
CREATED:20231201T024206Z
LAST-MODIFIED:20231201T024207Z
UID:10002017-1701540000-1701561540@www.thewanch.hk
SUMMARY:6pm Acoustic Happy Hour Features Eduin 9pm Supernaut 10:30pm Road To Ruin 12am RE'CALL
DESCRIPTION:Looking for a great night of music & fun well The Wanch is the place. Doors open at 2pm with Hayy Hour from 3pm till 8pm & our kitchen staff is serving our ala cart menu from 2pm till 10:40pm. The Music starts at 6pm with Acoustic Happy Hour featuring Eduin performing acoustic rock. 9pm The Black Sabbath Tribute Band Supernaut performs favorites by Black Sabbath. 10:30pm Road To Ruin performs original rock. 12am RE’CALL performs favorites from Limp Bisket\, Disturbed\, Pearl Jam\, Soundgarden\, & originals. We thank you for your continued support of The Wanch & The HK Music Scene
URL:https://www.thewanch.hk/event/6pm-acoustic-happy-hour-features-eduin-9pm-supernaut-1030pm-road-to-ruin-12am-recall/
CATEGORIES:Classic Rock,Heavy Metal,Modern Rock,Original Music
ATTACH;FMTTYPE=image/jpeg:https://www.thewanch.hk/wp-content/uploads/2023/12/Daily-Events-3-bands-1.jpg
END:VEVENT
BEGIN:VEVENT
DTSTART;TZID=Asia/Hong_Kong:20231203T160000
DTEND;TZID=Asia/Hong_Kong:20231203T235900
DTSTAMP:20260420T172555
CREATED:20231201T030739Z
LAST-MODIFIED:20231201T030741Z
UID:10002018-1701619200-1701647940@www.thewanch.hk
SUMMARY:4pm Allie Music Studio Student Showcase 7:30pm Armie & Friends 9pm The Heartbreakers 10:30pm Black Kobra
DESCRIPTION:The Wanch opens its doors at 2pm with our kitchen staff serving our ala carte menu from 2pm till 9:40pm & Happy Hour from 3pm till 8pm. 4pm The Allie Music Studio Student Showcase features performances by students of The Allie Music Studio. Tickets are $200 at the door till 6:30pm 7:30pm Armie & Friends perform rock favorites from the 50’s\, 60’s & 70’s. 9pm The Heartbreakers (Mark w/ RE’CALL\, Ferdie w/ Rubicube\, Art w/ Live 8\, & JP w/ Don’t Panic) performs 80’s & 90’s rock. 10:30pm Black Kobra performs favorites from Pearl Jam\, Metallica\, Deep Purple\, & Johnny Cash. We thank you for suppoting The Wanch & Live Music in HK.
URL:https://www.thewanch.hk/event/4pm-allie-music-studio-student-showcase-730pm-armie-friends-9pm-the-heartbreakers-1030pm-black-kobra/
CATEGORIES:Blues,Classic Rock,Folk Rock,Happy Hour,Heavy Metal,Modern Rock
ATTACH;FMTTYPE=image/jpeg:https://www.thewanch.hk/wp-content/uploads/2023/12/Daily-Events-4-bands.jpg
END:VEVENT
END:VCALENDAR