BEGIN:VCALENDAR
VERSION:2.0
PRODID:-//The Wanch - ECPv6.15.20//NONSGML v1.0//EN
CALSCALE:GREGORIAN
METHOD:PUBLISH
X-WR-CALNAME:The Wanch
X-ORIGINAL-URL:https://www.thewanch.hk
X-WR-CALDESC:Events for The Wanch
REFRESH-INTERVAL;VALUE=DURATION:PT1H
X-Robots-Tag:noindex
X-PUBLISHED-TTL:PT1H
BEGIN:VTIMEZONE
TZID:Asia/Hong_Kong
BEGIN:STANDARD
TZOFFSETFROM:+0800
TZOFFSETTO:+0800
TZNAME:HKT
DTSTART:20250101T000000
END:STANDARD
END:VTIMEZONE
BEGIN:VEVENT
DTSTART;TZID=Asia/Hong_Kong:20260216T000000
DTEND;TZID=Asia/Hong_Kong:20260216T235959
DTSTAMP:20260425T213831
CREATED:20260210T201113Z
LAST-MODIFIED:20260210T201500Z
UID:10003286-1771200000-1771286399@www.thewanch.hk
SUMMARY:MONDAY OPEN MIC NIGHT
DESCRIPTION:MONDAY OPEN MIC NIGHT at The Wanch! Your stage awaits every Monday from 8 PM till late. This is your moment to shine—sign up now and let your talent take center stage! Walk-in performers welcome. Free entry for all.  Performers can sign up via WhatsApp: 94313893.星期一 Open Mic 夜 ！ 逢星期一晚上8時起，舞台屬於你！想表演，大展身手？立即WhatsApp 94313893 報名，即場參與都歡迎！全晚免費入場。期待你的精彩演出。
URL:https://www.thewanch.hk/event/monday-open-mic-night/2026-02-16/
ATTACH;FMTTYPE=image/jpeg:https://www.thewanch.hk/wp-content/uploads/2026/02/Untitled-5-2.jpg
END:VEVENT
BEGIN:VEVENT
DTSTART;TZID=Asia/Hong_Kong:20260216T113000
DTEND;TZID=Asia/Hong_Kong:20260216T150000
DTSTAMP:20260425T213831
CREATED:20260216T033842Z
LAST-MODIFIED:20260216T033845Z
UID:10003547-1771241400-1771254000@www.thewanch.hk
SUMMARY:Lunch Menu for 16th Feb
DESCRIPTION:Elevate your weekday lunch break with Wanch’s Set Lunch Special\, where every plate is a promise of flavor and comfort. \n\n\n\nFrom slow-cooked Beef Bourguignon to a stonebaked Pepperoni Pizza\, each main is thoughtfully paired with a daily soup or starter\, a sweet dessert finale\, and a refreshing Ice Lemon Tea/Coffee. Because a great afternoon starts with a seriously good lunch. \n\n\n\nCall 3692 5933 for takeaway!
URL:https://www.thewanch.hk/event/lunch-menu-for-16th-feb/
ATTACH;FMTTYPE=image/jpeg:https://www.thewanch.hk/wp-content/uploads/2026/02/WhatsApp-Image-2026-02-10-at-9.41.09-PM.jpeg
END:VEVENT
BEGIN:VEVENT
DTSTART;TZID=Asia/Hong_Kong:20260217T000000
DTEND;TZID=Asia/Hong_Kong:20260217T235959
DTSTAMP:20260425T213831
CREATED:20260217T032826Z
LAST-MODIFIED:20260217T032829Z
UID:10003548-1771286400-1771372799@www.thewanch.hk
SUMMARY:Feb 17th Line Up
DESCRIPTION:TUESDAY NIGHT at The Wanch! Join us tonight for a stellar lineup featuring Iris Pascual at 8:00 PM\, followed by Policia at 9:20 PM\, and Mad Dog & The Stray Cats closing the night at 10:30 PM.  \n\n\n\nHappy Hour runs 3-8 PM—come early for drinks and stay for the music!  \n\n\n\nSee you tonight!星期二夜晚 The Wanch 見！ 今晚陣容精彩：晚上8:00由 Iris Pascual 開場，9:20 Policia 接力，10:30壓軸係 Mad Dog & The Stray Cats。 \n\n\n\nHappy Hour 下午3點到8點，早嚟飲杯，留低聽歌！ \n\n\n\n今晚見！
URL:https://www.thewanch.hk/event/feb-17th-line-up/
ATTACH;FMTTYPE=image/jpeg:https://www.thewanch.hk/wp-content/uploads/2026/02/weekly-sch-7-11-OCT.jpg
END:VEVENT
BEGIN:VEVENT
DTSTART;TZID=Asia/Hong_Kong:20260217T080000
DTEND;TZID=Asia/Hong_Kong:20260219T233000
DTSTAMP:20260425T213831
CREATED:20260217T062234Z
LAST-MODIFIED:20260217T062237Z
UID:10003555-1771315200-1771543800@www.thewanch.hk
SUMMARY:Kung Hei Fat Choi from the Wanch family to yours!!
DESCRIPTION:HAPPY CHINESE NEW YEAR from The Wanch! Kung Hei Fat Choi from The Wanch family to yours! We wish you a good year ahead and may all your wishes come true.  \n\n\n\nThe party doesn’t stop—come celebrate the Year of the Horse with us! Raise a glass and ring in the new year with great vibes\, cold drinks\, and live music.  \n\n\n\nSee you at Wanch!  \n\n\n\nThe Wanch 同你賀新年！  \n\n\n\nThe Wanch 大家庭祝大家新年快樂，心想事成，萬勝如意。 \n\n\n\n派對繼續，馬年更要來多喝杯！祝大家福氣滿滿，好運連連。帶朋友一起來，齊齊舉杯，享受好音樂、冰啤酒，迎接新一年！ \n\n\n\n灣仔見！ 
URL:https://www.thewanch.hk/event/kung-hei-fat-choi-from-the-wanch-family-to-yours/
ATTACH;FMTTYPE=image/jpeg:https://www.thewanch.hk/wp-content/uploads/2026/02/CNY-notice-social.jpg
END:VEVENT
BEGIN:VEVENT
DTSTART;TZID=Asia/Hong_Kong:20260218T000000
DTEND;TZID=Asia/Hong_Kong:20260218T235959
DTSTAMP:20260425T213831
CREATED:20260217T033005Z
LAST-MODIFIED:20260217T033009Z
UID:10003549-1771372800-1771459199@www.thewanch.hk
SUMMARY:Feb 18th Line Up
DESCRIPTION:WEDNESDAY NIGHT at The Wanch! Tonight’s lineup kicks off with The Guitarminator at 8:00 PM\, followed by Black Rain at 9:20 PM\, and Gonzales Musika closing the night at 10:30 PM.  \n\n\n\nHappy Hour runs 3-8 PM—come early and stay late!  \n\n\n\nSee you tonight! \n\n\n\n星期三夜晚 The Wanch 見！ 今晚陣容強勁：8:00由 The Guitarminator 打頭陣，9:20 Black Rain 接力，10:30壓軸係 Gonzales Musika。 \n\n\n\nHappy Hour 下午3點到8點，早嚟飲杯，留低睇騷！ \n\n\n\n今晚見！
URL:https://www.thewanch.hk/event/feb-18th-line-up/
ATTACH;FMTTYPE=image/jpeg:https://www.thewanch.hk/wp-content/uploads/2026/02/18-FEB.jpg
END:VEVENT
BEGIN:VEVENT
DTSTART;TZID=Asia/Hong_Kong:20260219T000000
DTEND;TZID=Asia/Hong_Kong:20260219T235959
DTSTAMP:20260425T213831
CREATED:20260217T033212Z
LAST-MODIFIED:20260217T033214Z
UID:10003550-1771459200-1771545599@www.thewanch.hk
SUMMARY:Feb 19th Line Up
DESCRIPTION:THURSDAY THROWDOWN at The Wanch! Join us for a night of high-energy rock: MC Jef at 8:00 PM\, Figure Three Leg Lock at 9:20 PM\, and Midnight Overdrive blasting off at 10:30 PM.  \n\n\n\nHappy Hour from 3 PM.  \n\n\n\nDon’t sleep on this one! \n\n\n\n星期四狂熱夜 Wanch 爆發！ 今晚陣容夠晒勁：8:00 MC Jef 開場，9:20 Figure Three Leg Lock 接力，10:30 Midnight Overdrive 壓軸炸場。 \n\n\n\nHappy Hour 3點開始，早啲嚟享受！
URL:https://www.thewanch.hk/event/feb-19th-line-up/
ATTACH;FMTTYPE=image/jpeg:https://www.thewanch.hk/wp-content/uploads/2026/02/19-FEB.jpg
END:VEVENT
BEGIN:VEVENT
DTSTART;TZID=Asia/Hong_Kong:20260220T000000
DTEND;TZID=Asia/Hong_Kong:20260220T235959
DTSTAMP:20260425T213831
CREATED:20260217T033558Z
LAST-MODIFIED:20260217T064152Z
UID:10003551-1771545600-1771631999@www.thewanch.hk
SUMMARY:Lamma Invasion Feb 20th Line Up
DESCRIPTION:LAMMA INVASION hits The Wanch this Friday!  \n\n\n\nA massive 5-band special featuring: Bryant Vallejo (7:00 PM)\, Butterfly Peas (9:00 PM)\, The VV’s (10:05 PM)\, Night Ships (11:10 PM)\, and Rubicube closing at midnight.  \n\n\n\nA night of island vibes and rock energy—don’t miss it! \n\n\n\n星期五南丫島大軍殺到 Wanch！  \n\n\n\n五隊樂隊接力演出，陣容強勁：晚上7:00 Bryant Vallejo、9:00 Butterfly Peas、10:05 The VV’s、11:10 Night Ships，午夜壓軸 Rubicube。 \n\n\n\n一晚感受島嶼風情同搖滾熱浪，萬勿錯過！ 
URL:https://www.thewanch.hk/event/lamm-invasion-feb-20th-line-up/
ATTACH;FMTTYPE=image/jpeg:https://www.thewanch.hk/wp-content/uploads/2026/02/WhatsApp-Image-2026-02-11-at-09.57.21.jpeg
END:VEVENT
BEGIN:VEVENT
DTSTART;TZID=Asia/Hong_Kong:20260221T000000
DTEND;TZID=Asia/Hong_Kong:20260221T235959
DTSTAMP:20260425T213831
CREATED:20260217T033736Z
LAST-MODIFIED:20260217T034924Z
UID:10003552-1771632000-1771718399@www.thewanch.hk
SUMMARY:Feb 21th Line up
DESCRIPTION:SATURDAY NIGHT SPECTACULAR at The Wanch!  \n\n\n\nTonight’s killer lineup: Steve Fuller (7:00 PM)\, Other Theories (9:00 PM)\, Yung Shue Wan Curs (9:50 PM)\, The Black Lodge Cabaret (10:55 PM)\, and The Bullies closing at midnight. \n\n\n\nFive acts\, one epic night!  \n\n\n\n星期六夜晚 Wanch 聲勢浩大！  \n\n\n\n今晚陣容強勁：7:00 Steve Fuller、9:00 Other Theories、9:50 Yung Shue Wan Curs、10:55 The Black Lodge Cabaret，午夜壓軸由 The Bullies 完美收場。 \n\n\n\n五隊樂隊，一晚盡興！
URL:https://www.thewanch.hk/event/feb-21th-line-up/
ATTACH;FMTTYPE=image/jpeg:https://www.thewanch.hk/wp-content/uploads/2026/02/weekly-sch-7-11-OCT-1.jpg
END:VEVENT
BEGIN:VEVENT
DTSTART;TZID=Asia/Hong_Kong:20260222T000000
DTEND;TZID=Asia/Hong_Kong:20260222T235959
DTSTAMP:20260425T213831
CREATED:20260217T034057Z
LAST-MODIFIED:20260217T034101Z
UID:10003553-1771718400-1771804799@www.thewanch.hk
SUMMARY:Feb 22th Line Up
DESCRIPTION:SUNDAY SESSIONS continue at The Wanch!  \n\n\n\nWind down your weekend with: Maryjane & The Gang (7:00 PM)\, Spirit (9:00 PM)\, and El Captain & The Privates (10:30 PM).  \n\n\n\nGreat music\, cold drinks\, good vibes—the perfect Sunday night. \n\n\n\n星期日 Wanch 音樂延續！  \n\n\n\n用音樂為周末畫上句號：晚上7:00 Maryjane & The Gang、9:00 Spirit、10:30 El Captain & The Privates。 \n\n\n\n好音樂、冰啤酒、輕鬆氣氛，星期日夜晚就是這簡單。
URL:https://www.thewanch.hk/event/feb-22th-line-up/
ATTACH;FMTTYPE=image/jpeg:https://www.thewanch.hk/wp-content/uploads/2026/02/22-feb.jpg
END:VEVENT
END:VCALENDAR