BEGIN:VCALENDAR
VERSION:2.0
PRODID:-//The Wanch - ECPv6.15.20//NONSGML v1.0//EN
CALSCALE:GREGORIAN
METHOD:PUBLISH
X-ORIGINAL-URL:https://www.thewanch.hk
X-WR-CALDESC:Events for The Wanch
REFRESH-INTERVAL;VALUE=DURATION:PT1H
X-Robots-Tag:noindex
X-PUBLISHED-TTL:PT1H
BEGIN:VTIMEZONE
TZID:Asia/Hong_Kong
BEGIN:STANDARD
TZOFFSETFROM:+0800
TZOFFSETTO:+0800
TZNAME:HKT
DTSTART:20250101T000000
END:STANDARD
END:VTIMEZONE
BEGIN:VEVENT
DTSTART;TZID=Asia/Hong_Kong:20260316T000000
DTEND;TZID=Asia/Hong_Kong:20260316T235959
DTSTAMP:20260425T230116
CREATED:20260307T090807Z
LAST-MODIFIED:20260307T090812Z
UID:10003290-1773619200-1773705599@www.thewanch.hk
SUMMARY:MONDAY OPEN MIC NIGHT
DESCRIPTION:Big changes are coming to our Open Mic nights!  We’re teaming up with @freejamhk to level up the experience. \n\n\n\nWhether you are a vocalist or a band\, a newbie or a pro\, an instrumentalist looking for a jam or just someone who loves live music — come join our growing community! Different languages\, genres\, original songs\, and covers are all welcome! Instruments available. \n\n\n\nIf you want to take the stage\, just scan the QR code or hit the link in bio to sign up beforehand! See you Monday night.  \n\n\n\n我們的open mic 夜有大更新啦！ 今次同 @freejamhk 合作，為大家帶的全新體驗。 \n\n\n\n無論你是歌手還是樂隊、新手還是達人、想夾歌的樂手，還是純粹喜歡現場音樂——我們都歡迎你！ 不同語言、曲風、原創或翻唱，統統都可以！場地提供樂器使用。 \n\n\n\n如果你想踏上舞台，記得掃描QR code 或點擊主頁連結預先報名！星期一晚見。
URL:https://www.thewanch.hk/event/monday-open-mic-night-2/2026-03-16/
ATTACH;FMTTYPE=image/jpeg:https://www.thewanch.hk/wp-content/uploads/2026/02/Untitled-6.jpg
END:VEVENT
BEGIN:VEVENT
DTSTART;TZID=Asia/Hong_Kong:20260316T113000
DTEND;TZID=Asia/Hong_Kong:20260320T150000
DTSTAMP:20260425T230116
CREATED:20260316T052543Z
LAST-MODIFIED:20260316T052545Z
UID:10003579-1773660600-1774018800@www.thewanch.hk
SUMMARY:This Week's Lunch menu
DESCRIPTION:Set Lunch Served Daily! Beef Bourguignon\, Salmon & more. Complete from soup to dessert. Takeaway available! 3692 5933 \n\n\n\n精選午市套餐，每日供應！ 紅酒燉牛肉、三文魚等多款主菜，由餐湯到甜品一應俱全。歡迎外賣自取！ 3692 5933
URL:https://www.thewanch.hk/event/this-weeks-lunch-menu-3/
ATTACH;FMTTYPE=image/jpeg:https://www.thewanch.hk/wp-content/uploads/2026/03/WanchSetLunch3-1.jpeg
END:VEVENT
BEGIN:VEVENT
DTSTART;TZID=Asia/Hong_Kong:20260317T000000
DTEND;TZID=Asia/Hong_Kong:20260317T235959
DTSTAMP:20260425T230116
CREATED:20260316T141527Z
LAST-MODIFIED:20260317T105235Z
UID:10003580-1773705600-1773791999@www.thewanch.hk
SUMMARY:Mar 17th Line Up
DESCRIPTION:ST. PADDY’S DAY PART 2 at The Wanch!  \n\n\n\nThe celebrations continue on the big day itself! Tonight’s lineup: Rinn at 8:00 PM\, Benjie & The FRC Band at 9:00 PM\, and McGowan’s Teeth closing at 10:30 PM. Irish spirits\, cold pints\, and rock ‘n’ roll—happy St. Patrick’s Day!  \n\n\n\n聖帕特里克節派對第二擊 @ The Wanch！  \n\n\n\n正日慶祝繼續！今晚陣容：晚上8:00 Rinn 開場，9:00 Benjie & The FRC Band 接力，10:30 McGowan’s Teeth 壓軸演出。愛爾蘭氣氛、凍啤酒、搖滾樂——聖帕特里克節快樂！
URL:https://www.thewanch.hk/event/mar-17th-line-up/
ATTACH;FMTTYPE=image/jpeg:https://www.thewanch.hk/wp-content/uploads/2026/03/Untitled-7-1.jpg
END:VEVENT
BEGIN:VEVENT
DTSTART;TZID=Asia/Hong_Kong:20260318T000000
DTEND;TZID=Asia/Hong_Kong:20260318T235959
DTSTAMP:20260425T230116
CREATED:20260316T141815Z
LAST-MODIFIED:20260316T141817Z
UID:10003581-1773792000-1773878399@www.thewanch.hk
SUMMARY:Mar 18th Line up
DESCRIPTION:WEDNESDAY NIGHT at The Wanch! \n\n\n\nTonight’s stacked lineup: The Guitarminator at 7:00 PM\, Nana at 8:00 PM\, The Chainsaw at 9:00 PM\, and The Lockouts closing at 10:30 PM. Four bands\, one loud Wednesday—see you there!  \n\n\n\n星期三夜晚 The Wanch 見！  \n\n\n\n今晚陣容強勁：晚上7:00 The Guitarminator 開場，8:00 Nana 接力，9:00 The Chainsaw，10:30 The Lockouts 壓軸演出。四隊樂隊，一個狂熱星期三——今晚見！
URL:https://www.thewanch.hk/event/mar-18th-line-up/
ATTACH;FMTTYPE=image/jpeg:https://www.thewanch.hk/wp-content/uploads/2026/03/18-Mar.jpg
END:VEVENT
BEGIN:VEVENT
DTSTART;TZID=Asia/Hong_Kong:20260319T000000
DTEND;TZID=Asia/Hong_Kong:20260319T235959
DTSTAMP:20260425T230116
CREATED:20260317T105109Z
LAST-MODIFIED:20260317T105111Z
UID:10003585-1773878400-1773964799@www.thewanch.hk
SUMMARY:Yardley Brothers Live
DESCRIPTION:YARDLEY BROTHERS LIVE at The Wanch!  \n\n\n\nThursday night special featuring: What They Do! at 8:30 PM\, Championship Vinyl  at 9:20 PM\, and Logo closing at 10:45 PM. Live session ale all night long—$58 pints! Great music\, cold craft beer\, Yardley vibes—see you there!  \n\n\n\nYARDLEY BROTHERS 之夜 @ The Wanch！  \n\n\n\n星期四夜晚特別呈獻：晚上8:30 What They Do! 開場，9:20 Championship Vinyl 接力，10:45 Logo 壓軸演出。全晚現場艾爾啤酒 $58 一 Pint！好音樂、冰凍手工啤、Yardley 獨有氣氛——今晚見 \n\n\n\n為音樂嚟，為氣氛留。
URL:https://www.thewanch.hk/event/yardley-brothers-live/
ATTACH;FMTTYPE=image/jpeg:https://www.thewanch.hk/wp-content/uploads/2026/03/WhatsApp-Image-2026-03-12-at-11.09.07.jpeg
END:VEVENT
BEGIN:VEVENT
DTSTART;TZID=Asia/Hong_Kong:20260320T000000
DTEND;TZID=Asia/Hong_Kong:20260320T235959
DTSTAMP:20260425T230116
CREATED:20260316T142104Z
LAST-MODIFIED:20260316T142107Z
UID:10003582-1773964800-1774051199@www.thewanch.hk
SUMMARY:Mar 20th Line Up
DESCRIPTION:FRIDAY NIGHT at The Wanch!  \n\n\n\nTonight’s killer lineup: Bryant Vallejo at 7:00 PM\, Hardluck Kings at 8:30 PM\, Surprise Act at 9:50 PM\, Mr Koo at 10:55 PM\, and Rubicube closing at midnight. Five bands\, one epic Friday—don’t miss the mystery guest!  \n\n\n\n星期五夜晚 Wanch 聲勢浩大！  \n\n\n\n今晚陣容勁爆：晚上7:00 Bryant Vallejo 開場，8:30 Hardluck Kings 接力，9:50神秘 Surprise Act 登場，10:45 Mr Koo，午夜壓軸 Rubicube 炸場到尾。五隊樂隊，一個狂熱星期五——仲有神秘嘉賓，不要錯過！
URL:https://www.thewanch.hk/event/mar-20th-line-up/
ATTACH;FMTTYPE=image/jpeg:https://www.thewanch.hk/wp-content/uploads/2026/03/20-Mar.jpg
END:VEVENT
BEGIN:VEVENT
DTSTART;TZID=Asia/Hong_Kong:20260321T000000
DTEND;TZID=Asia/Hong_Kong:20260321T235959
DTSTAMP:20260425T230116
CREATED:20260316T142435Z
LAST-MODIFIED:20260316T142437Z
UID:10003583-1774051200-1774137599@www.thewanch.hk
SUMMARY:Mar 21st Line Up
DESCRIPTION: SATURDAY NIGHT at The Wanch!  \n\n\n\nA full day of music: Private event Yrock until 5 PM\, then Chorus School of Rock at 6:00 PM\, The Reliants at 9:50 PM\, Funkee Tung at 10:55 PM\, and The Bullies closing at midnight. From young rockers to late-night legends—see you there!  \n\n\n\n星期六全天音樂 @ The Wanch！  \n\n\n\n全日節目豐富：下午 Yrock 私人活動至5點，晚上6:00 Chorus School of Rock 登場，9:50 The Reliants，10:55 Funkee Tung，午夜壓軸 The Bullies 完美收場。從年輕搖滾新星到深夜傳奇——今晚見！
URL:https://www.thewanch.hk/event/mar-21st-line-up/
ATTACH;FMTTYPE=image/jpeg:https://www.thewanch.hk/wp-content/uploads/2026/03/21-Mar.jpg
END:VEVENT
BEGIN:VEVENT
DTSTART;TZID=Asia/Hong_Kong:20260322T000000
DTEND;TZID=Asia/Hong_Kong:20260322T235959
DTSTAMP:20260425T230116
CREATED:20260316T143448Z
LAST-MODIFIED:20260316T143450Z
UID:10003584-1774137600-1774223999@www.thewanch.hk
SUMMARY:Mar 22nd Line Up
DESCRIPTION:SUNDAY FUNDAY at The Wanch!  \n\n\n\nAfternoon vibes with FHK School of Rock at 2:00 PM\, followed by Retro Brewery at 7:00 PM\, and Demo’lition closing the night at 8:30 PM. Great music\, cold drinks\, and the perfect way to wrap up your weekend!  \n\n\n\n星期日玩樂日 @ The Wanch！  \n\n\n\n日間有 FHK School of Rock 下午2點登場，晚上7:00 Retro Brewery 接力，8:30 Demo’lition 壓軸演出。好音樂、凍啤酒，為周末畫上完美句號！
URL:https://www.thewanch.hk/event/mar-22nd-line-up/
ATTACH;FMTTYPE=image/jpeg:https://www.thewanch.hk/wp-content/uploads/2026/03/weekly-sch-13-11-OCT.jpg
END:VEVENT
END:VCALENDAR