BEGIN:VCALENDAR
VERSION:2.0
PRODID:-//The Wanch - ECPv6.15.20//NONSGML v1.0//EN
CALSCALE:GREGORIAN
METHOD:PUBLISH
X-WR-CALNAME:The Wanch
X-ORIGINAL-URL:https://www.thewanch.hk/hk
X-WR-CALDESC:The Wanch的活动
REFRESH-INTERVAL;VALUE=DURATION:PT1H
X-Robots-Tag:noindex
X-PUBLISHED-TTL:PT1H
BEGIN:VTIMEZONE
TZID:Asia/Hong_Kong
BEGIN:STANDARD
TZOFFSETFROM:+0800
TZOFFSETTO:+0800
TZNAME:HKT
DTSTART:20220101T000000
END:STANDARD
END:VTIMEZONE
BEGIN:VEVENT
DTSTART;TZID=Asia/Hong_Kong:20231003T180000
DTEND;TZID=Asia/Hong_Kong:20231009T235900
DTSTAMP:20260424T183641
CREATED:20231001T092742Z
LAST-MODIFIED:20231001T092746Z
UID:10001934-1696356000-1696895940@www.thewanch.hk
SUMMARY:Wanch Music Schedule Oct 3rd thru Oct 9th
DESCRIPTION:The Wanch has a hot line-up of music for you this week. With acoustic happy hour and dinner specials on Mon & Tues come and support the local scene. Mark your calendar so you don’t miss your favorite bands and check out some bands you may have never seen. We thank you for supporting The Wanch & the local HK Music Scene. The Wanch is “Where Music Means Something.”
URL:https://www.thewanch.hk/hk/event/wanch-music-schedule-oct-3rd-thru-oct-9th/
CATEGORIES:Blues,Classic Rock,Folk Rock,Happy Hour,Heavy Metal,Modern Rock,Original Music
ATTACH;FMTTYPE=image/jpeg:https://www.thewanch.hk/wp-content/uploads/2023/10/Wanch-Oct-3-scaled.jpg
END:VEVENT
BEGIN:VEVENT
DTSTART;TZID=Asia/Hong_Kong:20231009T113000
DTEND;TZID=Asia/Hong_Kong:20231013T150000
DTSTAMP:20260424T183641
CREATED:20231007T080807Z
LAST-MODIFIED:20231007T080809Z
UID:10001941-1696851000-1697209200@www.thewanch.hk
SUMMARY:Lunchtime at The Wanch Oct 9th thru 13th 11:30am till 3pm
DESCRIPTION:Looking for a hot homemade meal in a relaxing atmosphere. Then The Wanch is the place. Start your lunch with a homemade soup or salad. Then you have your choice of four homemade mains. Beef Bourguignon\, Prawn Pesto Pasta\, Pork Belly Roll\, or Pan-Fried Cod Fillet. Top off your lunch with a homemade desert & iced lemon tea. Busy in the office then call 3692-5933 and we will have your lunch ready for take-away and give you a 10% discount. We look forward to seeing you this week.
URL:https://www.thewanch.hk/hk/event/lunchtime-at-the-wanch-oct-9th-thru-13th-1130am-till-3pm/
CATEGORIES:Set Lunch
ATTACH;FMTTYPE=image/jpeg:https://www.thewanch.hk/wp-content/uploads/2023/06/Beef-Menu-scaled.jpg
END:VEVENT
BEGIN:VEVENT
DTSTART;TZID=Asia/Hong_Kong:20231009T150000
DTEND;TZID=Asia/Hong_Kong:20231010T213000
DTSTAMP:20260424T183641
CREATED:20231007T074900Z
LAST-MODIFIED:20231007T074902Z
UID:10001939-1696863600-1696973400@www.thewanch.hk
SUMMARY:Dinner Specials at The Wanch Oct 9th & 10th
DESCRIPTION:Hi Everyone. The Wanch has two great dinner specials for you this Monday & Tuesday. On Monday when you order one main course you get the second one for free. On Tuesday with your main course you get two complimentary bottles of Peroni. This offer is for dine-in customers only & it runs both days from 3pm till 9:45pm. Some come and check out our New Ala Carte Menu and enjoy the Mon & Tues specials. Happy Hour is from 3pm till 8pm. We look forward to serving you soon. We look forward to seeing you soon.
URL:https://www.thewanch.hk/hk/event/dinner-specials-at-the-wanch-oct-9th-10th/
CATEGORIES:Dinner Special,Happy Hour
ATTACH;FMTTYPE=image/jpeg:https://www.thewanch.hk/wp-content/uploads/2023/05/Mon-Tues-Special.jpg
END:VEVENT
BEGIN:VEVENT
DTSTART;TZID=Asia/Hong_Kong:20231009T180000
DTEND;TZID=Asia/Hong_Kong:20231009T235900
DTSTAMP:20260424T183641
CREATED:20231007T075411Z
LAST-MODIFIED:20231007T075413Z
UID:10001940-1696874400-1696895940@www.thewanch.hk
SUMMARY:6pm Acoustic Happy Hour Featuring Tyler. 9pm Jam Night Hosted by Iris & Rubicube
DESCRIPTION:The music starts a 6pm with Acoustic Happy Hour featuring Tyler performing acoustic folk & rock favorites. 9pm it’s Jam Night hosted by Iris & Rubicube. All bands & musicians are welcome to come & jam. All styles of music original\, blues\, funk\, jazz\, & funk is welcome. Want to reserve a spot call 3-692-5933 after 3:30pm or just show up. Solo artist that wants a backing band\, no problem as Rubicube is ready to jam with you. Happy Hour is from 3pm till 8pm & our kitchen staff is serving our ala carte menu from 3pm till 9:40pm. Not looking to jam then come down and enjoy some great music. We thank you for your continued support of The Wanch & the HK Music Scene.
URL:https://www.thewanch.hk/hk/event/6pm-acoustic-happy-hour-featuring-tyler-9pm-jam-night-hosted-by-iris-rubicube-26/
CATEGORIES:Blues,Classic Rock,Folk Rock,Happy Hour,Heavy Metal,Jam night
ATTACH;FMTTYPE=image/jpeg:https://www.thewanch.hk/wp-content/uploads/2023/02/Jam-Nite-1.jpg
END:VEVENT
BEGIN:VEVENT
DTSTART;TZID=Asia/Hong_Kong:20231010T180000
DTEND;TZID=Asia/Hong_Kong:20231010T235900
DTSTAMP:20260424T183641
CREATED:20231007T085953Z
LAST-MODIFIED:20231007T085954Z
UID:10001942-1696960800-1696982340@www.thewanch.hk
SUMMARY:5pm Acoustic Happy Hour Featuring John w/ RE'CALL 7pm Yardley Brothers & The Wanch Present The Lamma Acoustic Invasion Featuring Songs & Fables\, The Sirens\, Whiskey Business\, & SR2. $56/Yardley Brothers Pints All Night Long.
DESCRIPTION:Yardley Brothers & The Wanch present The Lamma Acoustic Invasion starting at 7pm with Songs & Fables\, 8pm The Sirens\, 9pm Whiskey Business & 10pm SR2 rocks till the early hours with favorites from Guns N Roses\, Metallica\, Deep Purple & ACDC. Yardley Brothers pints are $56.00 all night long. Happy Hour is from 3pm till 8pm & the kitchen is serving up our ala carte menu from 3pm till 9:40pm.  Watch for monthly shows brought to you by Yardley Brothers & The Wanch.
URL:https://www.thewanch.hk/hk/event/5pm-acoustic-happy-hour-featuring-john-w-recall-7pm-yardley-brothers-the-wanch-present-the-lamma-acoustic-invasion-featuring-songs-fables-the-sirens-whiskey-business-sr2-56-yardley-broth/
CATEGORIES:Blues,Classic Rock,Folk Rock,Happy Hour,Heavy Metal,Original Music,Special
END:VEVENT
BEGIN:VEVENT
DTSTART;TZID=Asia/Hong_Kong:20231011T180000
DTEND;TZID=Asia/Hong_Kong:20231011T235900
DTSTAMP:20260424T183641
CREATED:20231008T074643Z
LAST-MODIFIED:20231008T074802Z
UID:10001943-1697047200-1697068740@www.thewanch.hk
SUMMARY:6pm Acoustic Happy Hour Featuring Iris w/ Rubicube 9pm Man In The Bush 10:30pm Gonzales Muzika
DESCRIPTION:The Wanch gets you through the Mid-Week blues with a rocking Wednesday starting at 6pm with Acoustic Happy Hour featuring Iris from Rubicube. 9pm Man In The Bush Returns performing 80’s & 90’s grunge rock favorites. 10:30pm Gonzales Muzika performs favorites from Led Zeppelin to The Ramones & originals. Happy Hour is from 3pm till 8pm & our kitchen staff is serving up our ala carte menu from 3pm till 9:40pm. All this & No Cover Charge from HK’s Unofficial Home Of Live Music.
URL:https://www.thewanch.hk/hk/event/6pmn-acoustic-happy-hour-featuring-iris-w-rubicube-9pm-man-in-the-bush-1030pm-gonzales-muzika/
CATEGORIES:Classic Rock,Folk Rock,Happy Hour,Heavy Metal,Modern Rock,Original Music
ATTACH;FMTTYPE=image/jpeg:https://www.thewanch.hk/wp-content/uploads/2022/11/Man-In-The-Bush.jpg
END:VEVENT
BEGIN:VEVENT
DTSTART;TZID=Asia/Hong_Kong:20231012T180000
DTEND;TZID=Asia/Hong_Kong:20231012T235900
DTSTAMP:20260424T183642
CREATED:20231010T084901Z
LAST-MODIFIED:20231010T084907Z
UID:10001944-1697133600-1697155140@www.thewanch.hk
SUMMARY:6pm Acoustic Happy Hour Featuring Tyler 9pm Ram Cheung Blues Trio 10:30pm Black Kobra
DESCRIPTION:The Wanch rocks your Thursday starting at 6pm with Acoustic Happy Hour featuring Tyler performing acoustic rock & originals. 9pm The Ram Cheung Blues Trio performs down home Chicago Blues. 10:30pm Black Kobra performs rocks favorites from Pearl Jam\, Metallica\, Guns N Roses. & Johnny Cash. Happy Hour is from 3pm till 8pm & our kitchen staff is serving our ala carte menu from 3pm till 9:40pm. We thank you for your continued support of The Wanch & The HK Live Music Scene.
URL:https://www.thewanch.hk/hk/event/6pm-acoustic-happy-hour-featuring-tyler-9pm-ram-cheung-blues-trio-1030pm-black-kobra/
CATEGORIES:Blues,Classic Rock,Happy Hour,Heavy Metal,Modern Rock
ATTACH;FMTTYPE=image/jpeg:https://www.thewanch.hk/wp-content/uploads/2023/10/Daily-Events-3-bands-2.jpg
END:VEVENT
BEGIN:VEVENT
DTSTART;TZID=Asia/Hong_Kong:20231013T180000
DTEND;TZID=Asia/Hong_Kong:20231013T235900
DTSTAMP:20260424T183642
CREATED:20231011T071839Z
LAST-MODIFIED:20231011T071843Z
UID:10001945-1697220000-1697241540@www.thewanch.hk
SUMMARY:6pm Acoustic Happy Hour Features Bryan 9pm Funky Tung 10:30pm Jordan Road 12am Rubicube
DESCRIPTION:The Wanch starts the weekend at 6pm with Acoustic Happy Hour featuring Bryan perofming acoustic rock & folk favorites. 9pm Funky Tung performs original funk rock. 10:30pm Jordan Road returns performing 80’s & 90’s rock. 12am Rubicube performs favorites from The Foo Fighters\, Pearl Jam\, The Stones & Jimi Hendrix. Happy hour is from 3pm till 8pm & the kitchen is serving our ala carte menu from 3pm till 10:40pm. We thank you for your continued support of The Wanch & The HK Music Scene.
URL:https://www.thewanch.hk/hk/event/6pm-acoustic-happy-hour-features-bryan-9pm-funky-tung-1030pm-jordan-road-12am-rubicube/
CATEGORIES:Classic Rock,Folk Rock,Funk,Happy Hour,Heavy Metal,Modern Rock,Original Music
ATTACH;FMTTYPE=image/jpeg:https://www.thewanch.hk/wp-content/uploads/2023/10/Daily-Events-3-bands-3.jpg
END:VEVENT
BEGIN:VEVENT
DTSTART;TZID=Asia/Hong_Kong:20231014T160000
DTEND;TZID=Asia/Hong_Kong:20231014T235900
DTSTAMP:20260424T183642
CREATED:20231012T134250Z
LAST-MODIFIED:20231012T145019Z
UID:10001946-1697299200-1697327940@www.thewanch.hk
SUMMARY:4pm Carla & Geri 6pm Acoustic Happy Hour Features Tyler 9pmThe Ferals 10:30pm OzMium 12am RE'CALL
DESCRIPTION:The Wanch opens its doors at 2pm with the kitchen serving our ala carte menu from 2pm till 10:40pm. Happy Hour is from 3pm till 8pm. The music starts at 4pm with Carla & Geri performing acoustic rock favorites. 6pm Acoustic Happy Hour features Tyler. 9pm The Ferals perform original rock. 10:30pm OzMium performs heavy metal favorites from Iron Maiden to Metallica. 12am RE’CALL performs favorites from Limp Bizkit\, Soundgarden\, Pearl Jam\, & Originals. All thid from The Wanch HK’s Unofficial Home Of Live Music.
URL:https://www.thewanch.hk/hk/event/6pm-acoustic-happy-hour-features-tyler-9pmthe-ferals-1030pm-ozmium-12am-recall/
CATEGORIES:Folk Rock,Happy Hour,Heavy Metal,Modern Rock,Original Music
ATTACH;FMTTYPE=image/jpeg:https://www.thewanch.hk/wp-content/uploads/2023/10/Daily-Events-3-bands_1.jpg
END:VEVENT
BEGIN:VEVENT
DTSTART;TZID=Asia/Hong_Kong:20231015T160000
DTEND;TZID=Asia/Hong_Kong:20231015T235900
DTSTAMP:20260424T183642
CREATED:20231012T140216Z
LAST-MODIFIED:20231012T140219Z
UID:10001947-1697385600-1697414340@www.thewanch.hk
SUMMARY:4pm Carla & Geri 6pm Armie & Friends 9pm Maryjane & The Gang 10:30pm H N Others
DESCRIPTION:The Wanch opens its doors at 2pm serving our ala carte menu till 9:40pm. Happy Hour is from 3pm till 8pm. At 4pm Carla & Geri perform acoustic rock favorites. 6pm Armie & Friends perform rock from the 50’s\, 60’s\, & 70’s. 9p m Maryjane & The Gang perform favorites from The Police\, The Cure\, Blondie & Originals. 10:30pm H N Others perform 70’s hard rock favorites from Led Zeppelin\, Uriah Heep\, Deep Purple and others. We thank you for supporting The Wanch & The HK Music Scene.
URL:https://www.thewanch.hk/hk/event/4pm-carla-geri-6pm-armie-friends-9pm-maryjane-the-gang-1030pm-h-n-others/
CATEGORIES:Blues,Classic Rock,Folk Rock,Happy Hour,Modern Rock,Original Music
ATTACH;FMTTYPE=image/jpeg:https://www.thewanch.hk/wp-content/uploads/2023/10/Daily-Events-3-bands_1-1.jpg
END:VEVENT
END:VCALENDAR