BEGIN:VCALENDAR
VERSION:2.0
PRODID:-//The Wanch - ECPv6.15.20//NONSGML v1.0//EN
CALSCALE:GREGORIAN
METHOD:PUBLISH
X-WR-CALNAME:The Wanch
X-ORIGINAL-URL:https://www.thewanch.hk/hk
X-WR-CALDESC:The Wanch的活动
REFRESH-INTERVAL;VALUE=DURATION:PT1H
X-Robots-Tag:noindex
X-PUBLISHED-TTL:PT1H
BEGIN:VTIMEZONE
TZID:Asia/Hong_Kong
BEGIN:STANDARD
TZOFFSETFROM:+0800
TZOFFSETTO:+0800
TZNAME:HKT
DTSTART:20220101T000000
END:STANDARD
END:VTIMEZONE
BEGIN:VEVENT
DTSTART;TZID=Asia/Hong_Kong:20231114T180000
DTEND;TZID=Asia/Hong_Kong:20231120T235900
DTSTAMP:20260420T200712
CREATED:20231112T070203Z
LAST-MODIFIED:20231112T070205Z
UID:10001992-1699984800-1700524740@www.thewanch.hk
SUMMARY:Wanch Show Schedule Nov 14th thru 20th
DESCRIPTION:Check out The Wanch show schedule for Nov 7th thru 13th. Make sure to mark your calendar so you don’t mis your favorite bands. Also check out the whole schedule and check out some bands you may not have seen yet. Happy Hour is from 3pm till 8pm nightly and the kitchen is open from 3pm till 9:40pm Sunday thru Thursday and 3pm till 10:40pm Friday & Saturday. The Wanch is Where Music Means Something. Have a positive & productive week.
URL:https://www.thewanch.hk/hk/event/wanch-show-schedule-nov-14th-thru-20th/
CATEGORIES:Blues,Classic Rock,Folk Rock,Happy Hour,Jam night,Modern Rock
ATTACH;FMTTYPE=image/jpeg:https://www.thewanch.hk/wp-content/uploads/2023/11/Sch-Nov-14-scaled.jpg
END:VEVENT
BEGIN:VEVENT
DTSTART;TZID=Asia/Hong_Kong:20231120T113000
DTEND;TZID=Asia/Hong_Kong:20231124T150000
DTSTAMP:20260420T200712
CREATED:20231119T082904Z
LAST-MODIFIED:20231119T083220Z
UID:10002002-1700479800-1700838000@www.thewanch.hk
SUMMARY:Lunch Time at The Wanch Nov 20th thru 24th. 11:30am till 3pm
DESCRIPTION:Join us this week at The Wanch for a hot homemade lunch with a relaxing atmosphere. Start off your lunch with a homemade soup or salad. The you have a choice of four homemade mains: Fish & Chips\, Lightly Spiced Cottage Pie\, Grilled Pork Loin\, or Scallop & Pumpkin Risotto (Also available in a vegetarian version). Then top off your lunch with a homemade desert & Iced Lemon Tea. Busy in the office then call 3692-5933 and we will prepare your lunch for take-away and give you a 10% discount. We look forward to seeing you this week. Happy Hour is from 3pm till 8pm.
URL:https://www.thewanch.hk/hk/event/lunch-time-at-the-wanch-nov-20th-thru-24th-1130am-till-3pm/
CATEGORIES:Set Lunch
ATTACH;FMTTYPE=image/jpeg:https://www.thewanch.hk/wp-content/uploads/2023/10/fish-chips-scaled.jpg
END:VEVENT
BEGIN:VEVENT
DTSTART;TZID=Asia/Hong_Kong:20231120T150000
DTEND;TZID=Asia/Hong_Kong:20231121T214000
DTSTAMP:20260420T200712
CREATED:20231116T083017Z
LAST-MODIFIED:20231116T083019Z
UID:10001999-1700492400-1700602800@www.thewanch.hk
SUMMARY:Dinner Specials at The Wanch Nov 20th and 21st 3pm till 9:40PM
DESCRIPTION:Hi Everyone. The Wanch has two great dinner specials for you this Monday & Tuesday. On Monday when you order one main course you get the second one for free. On Tuesday with your main course you get two complimentary bottles of Peroni. This offer is for dine-in customers only & it runs both days from 3pm till 9:45pm. Some come and check out our New Ala Carte Menu and enjoy the Mon & Tues specials. Happy Hour is from 3pm till 8pm. We look forward to serving you soon. We look forward to seeing you soon.
URL:https://www.thewanch.hk/hk/event/dinner-specials-at-the-wanch-nov-20th-and-21st-3pm-till-940pm/
CATEGORIES:Dinner Special,Happy Hour,Special
ATTACH;FMTTYPE=image/jpeg:https://www.thewanch.hk/wp-content/uploads/2023/05/Mon-Tues-Special.jpg
END:VEVENT
BEGIN:VEVENT
DTSTART;TZID=Asia/Hong_Kong:20231120T180000
DTEND;TZID=Asia/Hong_Kong:20231120T235900
DTSTAMP:20260420T200712
CREATED:20231116T084157Z
LAST-MODIFIED:20231118T060429Z
UID:10002000-1700503200-1700524740@www.thewanch.hk
SUMMARY:6pm Acoustic Happy Hour Featuring Tyler 9pm Jam Night Hosted by Bebe's Wish
DESCRIPTION:The music starts a 6pm with Acoustic Happy Hour featuring Tyler performing acoustic folk & rock favorites. 9pm it’s Jam Night hosted by Bebe’s Wish . All bands & musicians are welcome to come & jam. All styles of music original\, blues\, funk\, jazz\, & funk is welcome. Want to reserve a spot call 3-692-5933 after 3:30pm or just show up. Solo artist that wants a backing band\, no problem as Bebe’s Wish is ready to jam with you. Happy Hour is from 3pm till 8pm & our kitchen staff is serving our ala carte menu from 3pm till 9:40pm. Not looking to jam then come down and enjoy some great music. We thank you for your continued support of The Wanch & the HK Music Scene.
URL:https://www.thewanch.hk/hk/event/6pm-acoustic-happy-hour-featuring-tyler-9pm-jam-night-hosted-by-iris-rubicube-29/
CATEGORIES:Blues,Classic Rock,Folk Rock,Heavy Metal,Jam night,Modern Rock,Original Music,Rockabilly
ATTACH;FMTTYPE=image/jpeg:https://www.thewanch.hk/wp-content/uploads/2023/11/bebe-jam.jpg
END:VEVENT
BEGIN:VEVENT
DTSTART;TZID=Asia/Hong_Kong:20231121T180000
DTEND;TZID=Asia/Hong_Kong:20231121T235900
DTSTAMP:20260420T200712
CREATED:20231117T052710Z
LAST-MODIFIED:20231117T053652Z
UID:10002001-1700589600-1700611140@www.thewanch.hk
SUMMARY:6pm Acoustic Happy Hour Featuring Bryan 9pm Tin Soldier 10:30pm Black Kobra
DESCRIPTION:The Wanch rocks your Tuesday starting at 6pm with Acoustic Happy Hour featuring Bryan performing acoustic rock favorites. 9pm Tin Soldier returns performing 70’s & 80’s rock favorites. 10:30pm Black Kobra rocks performing favorites from Pearl Jam\, Metalica\, AC/DC\, Guns N Roses and other rock favorites. Happy Hour is from 3pm till 8pm and our kitchen staff is serving our ala carte menu from 3pm till 9:40pm. All this from The Wanch your Unofficial Home Of Live Music.
URL:https://www.thewanch.hk/hk/event/17729/
CATEGORIES:Blues,Classic Rock,Folk Rock,Happy Hour,Heavy Metal,Modern Rock
ATTACH;FMTTYPE=image/jpeg:https://www.thewanch.hk/wp-content/uploads/2023/11/Daily-Events-3-bands-8.jpg
END:VEVENT
BEGIN:VEVENT
DTSTART;TZID=Asia/Hong_Kong:20231121T180000
DTEND;TZID=Asia/Hong_Kong:20231127T235900
DTSTAMP:20260420T200712
CREATED:20231121T043507Z
LAST-MODIFIED:20231121T043509Z
UID:10002005-1700589600-1701129540@www.thewanch.hk
SUMMARY:Music Line-Up at The Wanch Nov 21st thru 27th
DESCRIPTION:Check out The Wanch show schedule for Nov 21st thru 27th. Make sure to mark your calendar so you don’t miss your favorite bands. Also check out the whole schedule and check out some bands you may not have seen yet. Happy Hour is from 3pm till 8pm nightly and the kitchen is open from 3pm till 9:40pm Sunday thru Thursday and 3pm till 10:40pm Friday & Saturday. The Wanch is Where Music Means Something. Have a positive & productive week.
URL:https://www.thewanch.hk/hk/event/music-line-up-at-the-wanch-nov-21st-thru-27th/
CATEGORIES:Blues,Classic Rock,Folk Rock,Happy Hour,Heavy Metal,Modern Rock,Original Music
ATTACH;FMTTYPE=image/jpeg:https://www.thewanch.hk/wp-content/uploads/2023/11/Wanch-Nov-21-scaled.jpg
END:VEVENT
BEGIN:VEVENT
DTSTART;TZID=Asia/Hong_Kong:20231122T180000
DTEND;TZID=Asia/Hong_Kong:20231122T235900
DTSTAMP:20260420T200712
CREATED:20231119T084107Z
LAST-MODIFIED:20231119T084108Z
UID:10002003-1700676000-1700697540@www.thewanch.hk
SUMMARY:6pm Acoustic Happy Hour featuring Eduin 9pm Shazza Music Showcase Hosted by Chris B
DESCRIPTION:The music starts at 6pm with Acoustic Happy Hour featuring Eduin performing acoustic rock favorites. 9pm It’s The Shazza Music Showcase featuring Phoenix Broderick\, Hibye\, Byebye Miku\, & Underego. Happy Hour is from 3pm till 8pm & our kitchen staff is serving our ala carte menu from 3pm till 9:40pm. All this & No Cover Charge from The Wanch. “Every Band Is A Local Band Somewhere.” Kid Leo WMMS
URL:https://www.thewanch.hk/hk/event/6pm-acoustic-happy-hour-featuring-eduin-9pm-shazza-music-showcase-hosted-by-chris-b/
CATEGORIES:Folk Rock,Happy Hour,Modern Rock,Original Music,Shazza Music Showcase
END:VEVENT
BEGIN:VEVENT
DTSTART;TZID=Asia/Hong_Kong:20231123T180000
DTEND;TZID=Asia/Hong_Kong:20231123T235900
DTSTAMP:20260420T200713
CREATED:20231119T090441Z
LAST-MODIFIED:20231119T090455Z
UID:10002004-1700762400-1700783940@www.thewanch.hk
SUMMARY:6pm Acoustic Happy Hour Featuring Tyler 9pm Erik Piece & The Rainmakers\, 10pm Gravity 11pm El Kapitan & The Privates Sponsored by Stella Artois
DESCRIPTION:The Wanch rocks your Thursday night starting at 6pm with Acoustic Happy Hour featuring Tyler performing acoustic favorites and originals. 9pm Erik Piece & The Rainmakers perform original rock. 10pm Gravity performs classic & original rock. 11pm El Kapitan & The Privates perform 70’s\, 80’s\, & 90’s rock. Tonight’s show is sponsored by Stella Artois and is $68/pint All Night Long. Our kitchen staff is serving our ala carte menu from 3pm till 9:40pm. We thank you for your continued support of The Wanch & The HK Music Scene.
URL:https://www.thewanch.hk/hk/event/6pm-acoustic-happy-hour-featuring-tyler-9pm-erik-piece-the-rainmakers-10pm-gravity-11pm-el-kapitan-the-privates-sponsored-by-stella-artois/
CATEGORIES:Blues,Classic Rock,Folk Rock,Happy Hour,Modern Rock,Original Music
ATTACH;FMTTYPE=image/jpeg:https://www.thewanch.hk/wp-content/uploads/2023/11/Stella.jpg
END:VEVENT
BEGIN:VEVENT
DTSTART;TZID=Asia/Hong_Kong:20231124T180000
DTEND;TZID=Asia/Hong_Kong:20231124T235900
DTSTAMP:20260420T200713
CREATED:20231121T081923Z
LAST-MODIFIED:20231121T081925Z
UID:10002006-1700848800-1700870340@www.thewanch.hk
SUMMARY:6pm Acoustic Happy Hour Featuring Bryan 9pm Covers To Covers 10:30pm Helium III 12am Rubicube
DESCRIPTION:The Wanch rocks your Friday night starting at 6pm with Acoustic Happy Hour featuring Bryan performing acoustic rock favorites. 9pm Covers to Covers performs 70’s\, 80’s. & 90’s favorites. 10:30pm Helium III returns performing 80’s\, 90’s & original rock. 12am Rubicube performs favorites from The Foo Fighters\, to Jimi Hendrix\, Green Day & originals. Happy Hour is from 3pm till 8pm & our kitchen staff os serving our ala carte menu from 3pm till 10:40pm. All this & No Cover Charge from HK’s Unofficial Home Of Live Music…The Wanch
URL:https://www.thewanch.hk/hk/event/6pm-acoustic-happy-hour-featuring-bryan-9pm-covers-to-covers-1030pm-helium-iii-12am-rubicube/
CATEGORIES:Blues,Classic Rock,Happy Hour,Heavy Metal,Modern Rock,Original Music
ATTACH;FMTTYPE=image/jpeg:https://www.thewanch.hk/wp-content/uploads/2023/11/Daily-Events-3-bands-9.jpg
END:VEVENT
BEGIN:VEVENT
DTSTART;TZID=Asia/Hong_Kong:20231125T180000
DTEND;TZID=Asia/Hong_Kong:20231125T235900
DTSTAMP:20260420T200713
CREATED:20231121T084613Z
LAST-MODIFIED:20231121T084614Z
UID:10002007-1700935200-1700956740@www.thewanch.hk
SUMMARY:6pm Acoustic Happy Hour Featuring Eduin 8pm Whitts End 9pm Bus Uncle 10:30pm Jimmy2Times 12am RE'CALL
DESCRIPTION:The Wanch opens its doors at 2pm with the kitchen staff serving our ala carte menu all afternoon till 10:40pm. Happy Hour is from 3pm till 8pm. At 6pm it’s Acoustic Happy Hour featuring Eduin performing acoustic rock favorites. 8pm Whitts End returns performing their unique style of high energy rock & originals. 9pm Bus Uncle returns performing their style of 70’s & 80’s party rock. 10:30pm Jimmy2Times performs Brit Rock favorites. 12am RE’CALL rocks till the early hours with favorites from Limp Bizket to Disturbed\, Metalica\, & originals. We Thank You all for your continued support of The Wanch & The HK Live Music Scene.
URL:https://www.thewanch.hk/hk/event/6pm-acoustic-happy-hour-featuring-eduin-8pm-whitts-end-9pm-bus-uncle-1030pm-jimmy2times-12am-recall/
CATEGORIES:Classic Rock,Folk Rock,Happy Hour,Heavy Metal,Modern Rock,Original Music
ATTACH;FMTTYPE=image/jpeg:https://www.thewanch.hk/wp-content/uploads/2023/11/Daily-Events-4-bands-2.jpg
END:VEVENT
BEGIN:VEVENT
DTSTART;TZID=Asia/Hong_Kong:20231126T150000
DTEND;TZID=Asia/Hong_Kong:20231126T235900
DTSTAMP:20260420T200713
CREATED:20231121T092033Z
LAST-MODIFIED:20231121T092035Z
UID:10002008-1701010800-1701043140@www.thewanch.hk
SUMMARY:3pm Aspire Music School Of Rock 6pm Armie & Friends 9pm Wanchai Quartet 10:30pm Maryjane & The Gang
DESCRIPTION:The Wanch opens its doors at 2pm as our kitchen staff is serving our ala carte menu from 2pm till 9:40pm Happy Hour is from 3pm till 8pm. At 3pm students from The Aspire Music School perform rock favorites. 6pm Armie & Friends perform Rock & Roll favorites from the 50’s\, 60’s & 70’s. 9pm The WanChai Quartet (Geoff & JP of Don’t Panic\, Ferdie of Rubicube & Phil of Black Lodge Cabaret) perform rock favorites from The Foo Fighters\, Red Hot Chili Peppers\, & Black Sabbath. 10:30pm Maryjane & The Gang perform favorites from The Cure\, Blondie\, The Police\, Alanis Morissette\, & originals. All this & No Cover Charge from HK’s Home Of Continuous Music. The Wanch.
URL:https://www.thewanch.hk/hk/event/3pm-aspire-music-school-of-rock-6pm-armie-friends-9pm-wanchai-quartet-1030pm-maryjane-the-gang/
CATEGORIES:Blues,Classic Rock,Folk Rock,Happy Hour,Modern Rock,Original Music,Rock Sunday,School Of Rock
ATTACH;FMTTYPE=image/jpeg:https://www.thewanch.hk/wp-content/uploads/2023/11/Daily-Events-4-bands-3.jpg
END:VEVENT
END:VCALENDAR