BEGIN:VCALENDAR
VERSION:2.0
PRODID:-//The Wanch - ECPv6.15.20//NONSGML v1.0//EN
CALSCALE:GREGORIAN
METHOD:PUBLISH
X-WR-CALNAME:The Wanch
X-ORIGINAL-URL:https://www.thewanch.hk/hk
X-WR-CALDESC:The Wanch的活动
REFRESH-INTERVAL;VALUE=DURATION:PT1H
X-Robots-Tag:noindex
X-PUBLISHED-TTL:PT1H
BEGIN:VTIMEZONE
TZID:Asia/Hong_Kong
BEGIN:STANDARD
TZOFFSETFROM:+0800
TZOFFSETTO:+0800
TZNAME:HKT
DTSTART:20220101T000000
END:STANDARD
END:VTIMEZONE
BEGIN:VEVENT
DTSTART;TZID=Asia/Hong_Kong:20231206T180000
DTEND;TZID=Asia/Hong_Kong:20231211T235900
DTSTAMP:20260420T213149
CREATED:20231206T050848Z
LAST-MODIFIED:20231206T050851Z
UID:10002024-1701885600-1702339140@www.thewanch.hk
SUMMARY:Wanch Show Schedule Dec 6th thru 11th.
DESCRIPTION:Hi Everyone\, The Wanch has a hot line up of music for you this week. Mark your calendars so you don’t miss your favorite bands and maybe come & check out some new bands as well. Happy Hour is from 3pm till 8pm Mon thru Sun & our kitchen is serving our ala carte menu from 3pm till 9:40pm Sun thru Thurs & 3pm till 10:40pm Fri &Sat. We look forward to seeing you soon. Remember “Every Band Is A Local Band Somewhere.”
URL:https://www.thewanch.hk/hk/event/wanch-show-schedule-dec-6th-thru-11th/
CATEGORIES:Blues,Classic Rock,Folk Rock,Happy Hour,Heavy Metal,Modern Rock,Original Music
ATTACH;FMTTYPE=image/jpeg:https://www.thewanch.hk/wp-content/uploads/2023/12/wanch-dec-5-scaled.jpg
END:VEVENT
BEGIN:VEVENT
DTSTART;TZID=Asia/Hong_Kong:20231211T113000
DTEND;TZID=Asia/Hong_Kong:20231215T150000
DTSTAMP:20260420T213149
CREATED:20231208T075044Z
LAST-MODIFIED:20231208T075045Z
UID:10002034-1702294200-1702652400@www.thewanch.hk
SUMMARY:Set Lunch Special at The Wanch Dec 11th thru 15th 11:30am till 3pm
DESCRIPTION:Join us at The Wanch this week for a hot homemade lunch in a relaxing atmosphere. Lunch starts with your choice of homemade soup or salad. The choose one of four homemade mains: Spaghetti Carbonara (Also available as a vegetarian option)\, Stonebaked Spicy Seafood Pizza\, Stuffed Chicken Parmesian\, or Seared Rib-Eye Steak. Top off your lunch with a homemade desert and Iced Lemon Tea. Busy in the office then call 3692-5933 and we will have your lunch ready for take-away & you will receive a 10% discount. We look forward to serving you soon.
URL:https://www.thewanch.hk/hk/event/set-lunch-special-at-the-wanch-dec-11th-thru-15th-1130am-till-3pm/
CATEGORIES:Set Lunch
ATTACH;FMTTYPE=image/jpeg:https://www.thewanch.hk/wp-content/uploads/2023/10/spaghetti-week.jpg
END:VEVENT
BEGIN:VEVENT
DTSTART;TZID=Asia/Hong_Kong:20231211T150000
DTEND;TZID=Asia/Hong_Kong:20231212T214000
DTSTAMP:20260420T213149
CREATED:20231208T060026Z
LAST-MODIFIED:20231208T060028Z
UID:10002031-1702306800-1702417200@www.thewanch.hk
SUMMARY:Dinner Specials at The Wanch Dec 11th & 12th 3pm till 9:40pm
DESCRIPTION:Hi Everyone. The Wanch has two great dinner specials for you this Monday & Tuesday. On Monday when you order one main course you get the second one for free. On Tuesday with your main course\, you get two complimentary bottles of Peroni. This offer is for dine-in customers only & it runs both days from 3pm till 9:45pm. Some come and check out our New Ala Carte Menu and enjoy the Mon & Tues specials. Happy Hour is from 3pm till 8pm. We look forward to serving you soon. We look forward to seeing you soon.
URL:https://www.thewanch.hk/hk/event/dinner-specials-at-the-wanch-dec-11th-12th-3pm-till-940pm/
CATEGORIES:Dinner Special
ATTACH;FMTTYPE=image/jpeg:https://www.thewanch.hk/wp-content/uploads/2023/05/Mon-Tues-Special.jpg
END:VEVENT
BEGIN:VEVENT
DTSTART;TZID=Asia/Hong_Kong:20231211T180000
DTEND;TZID=Asia/Hong_Kong:20231211T235900
DTSTAMP:20260420T213149
CREATED:20231208T060804Z
LAST-MODIFIED:20231208T060806Z
UID:10002032-1702317600-1702339140@www.thewanch.hk
SUMMARY:6pm Acoustic Happy Hour Featuring Tyler 9pm Jam Night Hosted by Iris & Rubicube Sponsored by Absolut\, Beefeaters\, Ballantine\, & Jamerson
DESCRIPTION:The music starts a 6pm with Acoustic Happy Hour featuring Tyler performing acoustic folk & rock favorites. 9pm it’s Jam Night hosted by Iris & Rubicube. All bands & musicians are welcome to come & jam. All styles of music original\, blues\, funk\, jazz\, & funk is welcome. Want to reserve a spot call 3-692-5933 after 3:30pm or just show up. Solo artist that wants a backing band\, no problem as Rubicube is ready to jam with you. Happy Hour is from 3pm till 8pm & our kitchen staff is serving our ala carte menu from 3pm till 9:40pm. Not looking to jam then come down and enjoy some great music & drink specials from our sponsors. We thank you for your continued support of The Wanch & the HK Music Scene.
URL:https://www.thewanch.hk/hk/event/6pm-acoustic-happy-hour-featuring-tyler-9pm-jam-night-hosted-by-iris-rubicube-sponsored-by-absolut-beefeaters-ballantine-jamerson-3/
CATEGORIES:Blues,Classic Rock,Folk Rock,Jam night,Modern Rock,Original Music
ATTACH;FMTTYPE=image/jpeg:https://www.thewanch.hk/wp-content/uploads/2023/02/Jam-Nite-1.jpg
END:VEVENT
BEGIN:VEVENT
DTSTART;TZID=Asia/Hong_Kong:20231212T180000
DTEND;TZID=Asia/Hong_Kong:20231212T235900
DTSTAMP:20260420T213149
CREATED:20231211T025137Z
LAST-MODIFIED:20231211T025138Z
UID:10002035-1702404000-1702425540@www.thewanch.hk
SUMMARY:6pm Acoustic Happy Hour Features John w/ RE'CALL 9pm Sham Pain Buddha 10:30pm till 9:40pm.Fast Line
DESCRIPTION:Tuesday night kicks off at 6pm with Acoustic Happy Hour featuring John w/ RE’CALL performing acoustic rock & folk favorites. 9pm Sham Pain Buddha returns performing favorites from ZZ Top\, Led Zepplin\, The Who\, and other favorites. 10:30pm Fast Line performs favorites from Bon Jovi\, ACDC\, Deep Purple\, Queen\, and other rock favorites. Happy Hour is from 3pm till 8pm & the kitchen is serving our ala carte menu till 9:40pm. The Wanch is truly “Where Music Means Something.”
URL:https://www.thewanch.hk/hk/event/6pm-acoustic-happy-hour-features-john-w-recall-9pm-sham-pain-buddha-1030pm-till-940pm-fast-line/
CATEGORIES:Blues,Classic Rock,Happy Hour,Modern Rock
ATTACH;FMTTYPE=image/jpeg:https://www.thewanch.hk/wp-content/uploads/2023/12/Daily-Events-3-bands-3.jpg
END:VEVENT
BEGIN:VEVENT
DTSTART;TZID=Asia/Hong_Kong:20231212T180000
DTEND;TZID=Asia/Hong_Kong:20231218T235900
DTSTAMP:20260420T213149
CREATED:20231208T062105Z
LAST-MODIFIED:20231208T062106Z
UID:10002033-1702404000-1702943940@www.thewanch.hk
SUMMARY:Wanch Music Schedule Dec 12th thru 18th
DESCRIPTION:Chech out the new line-up of shows this week at The Wanch and make sure to mark your calendar so you don’t miss your favorite bands. See some bands you don’t recognize they why not check out a few of them as well. We thank you for your continued ssupport of The Wanch & The HK Music Scene
URL:https://www.thewanch.hk/hk/event/wanch-music-schedule-dec-12th-thru-18th/
CATEGORIES:Blues,Classic Rock,Folk Rock,Happy Hour,Heavy Metal,Modern Rock,Original Music
ATTACH;FMTTYPE=image/jpeg:https://www.thewanch.hk/wp-content/uploads/2023/12/Wanch-dec-12-scaled.jpg
END:VEVENT
BEGIN:VEVENT
DTSTART;TZID=Asia/Hong_Kong:20231213T180000
DTEND;TZID=Asia/Hong_Kong:20231213T235900
DTSTAMP:20260420T213149
CREATED:20231211T030335Z
LAST-MODIFIED:20231211T030336Z
UID:10002036-1702490400-1702511940@www.thewanch.hk
SUMMARY:6pm Acoustic Happy Hour Features Iris w/ Rubicube 9pm NANA 10:30pm Gonzales Musika
DESCRIPTION:Kick out the Mid-Week blues at The Wanch. 6pm Acoustic Happy Hour features Iris w/ Rubicube performing acoustic rock favorites. 9pm NANA performs rock favorites from Iron Maiden\, Bon Jovi\, Deep Purple & others. 10:30pm Gonzales Musika rocks with favorites from Van Halen\, Led Zepplin\, Blondie\, & originals. Happy Hour is from 3pm till 8pm & our kitchen staff is serving our ala carte menu from 3pm till 9:40pm We thank you for supporting The Wanch & The HK Live Music Scene.
URL:https://www.thewanch.hk/hk/event/6pm-acoustic-happy-hour-features-iris-w-rubicube-9pm-nana-1030pm-gonzales-musika/
CATEGORIES:Blues,Classic Rock,Folk Rock,Modern Rock,Original Music
ATTACH;FMTTYPE=image/jpeg:https://www.thewanch.hk/wp-content/uploads/2023/07/nana.jpeg
END:VEVENT
BEGIN:VEVENT
DTSTART;TZID=Asia/Hong_Kong:20231214T180000
DTEND;TZID=Asia/Hong_Kong:20231214T235900
DTSTAMP:20260420T213149
CREATED:20231212T074404Z
LAST-MODIFIED:20231212T074406Z
UID:10002037-1702576800-1702598340@www.thewanch.hk
SUMMARY:6pm Acoustic Happy Hour Features Tyler 9pm Strange Brew 10:30pm Maryjane & The Gang
DESCRIPTION:A rocking Thursday night starts at 6pm with Acoustic Happy Hour featuring Tyler performing acoustic rock & folk favorites. 9pm Strange Brew performs classic rock favorites and original music. 10:30pm Maryjane & The Gang perform favorites from The Police\, The Cure\, Blondie\, and other favorites along with originals. Happy Hour is from 3pm till 8pm & our kitchen staff is serving our ala carte menu from 3pm till 9:40pm. We thank you for your continued support of The Wanch & The HK Live Music Scene.
URL:https://www.thewanch.hk/hk/event/6pm-acoustic-happy-hour-features-tyler-9pm-strange-brew-1030pm-maryjane-the-gang/
CATEGORIES:Classic Rock,Folk Rock,Happy Hour,Modern Rock,Original Music
ATTACH;FMTTYPE=image/jpeg:https://www.thewanch.hk/wp-content/uploads/2023/12/Daily-Events-3-bands-4.jpg
END:VEVENT
BEGIN:VEVENT
DTSTART;TZID=Asia/Hong_Kong:20231215T150000
DTEND;TZID=Asia/Hong_Kong:20231224T214000
DTSTAMP:20260420T213149
CREATED:20231215T051113Z
LAST-MODIFIED:20231215T051115Z
UID:10002043-1702652400-1703454000@www.thewanch.hk
SUMMARY:Christmas Dinner Special Dec 15th Thru Dec 24th.
DESCRIPTION:Looking for something special over the holiday season. The Wanch is serving up a fantastic homemade holiday meal. Starting with Pumpkin & Crab Meat Soup or Scallop & Mango Salad. Then for a homemade main course choose from Roasted British Turkey or Grilled Salmon Fillet. For dessert you have your choice of homemade Tradition Minced Pie or Oven-Baked Apple Tart. All this for a cost of $328.00 Sun thru Thurs we are serving from 3pm till 9:40pm. Fri & Sat from 3pm till 10:40pm. Happy Holiday to you all from The Wanch Staff & Management.
URL:https://www.thewanch.hk/hk/event/christmas-dinner-special-dec-15th-thru-dec-24th/
CATEGORIES:Dinner Special,Special
END:VEVENT
BEGIN:VEVENT
DTSTART;TZID=Asia/Hong_Kong:20231215T180000
DTEND;TZID=Asia/Hong_Kong:20231215T235900
DTSTAMP:20260420T213149
CREATED:20231212T080223Z
LAST-MODIFIED:20231214T054002Z
UID:10002038-1702663200-1702684740@www.thewanch.hk
SUMMARY:6pm Acoustic Happy Hour Featuring Bryan 8pm The Limetones 9:15pm The Young Bucks 10:30pm Basic Lawyers 12am Rubicube
DESCRIPTION:The Wanch rocks your Friday Night starting at 6pm with Acoustic Happy Hour featuring Bryan 8pm The Limetones perform modern rock favorites. 9:15pm The Young Bucks perform folk rock favorites & originals. 10:30pm The Basic Lawyers perform classic rock favorites. 12am Rubicube rocks till the early morning with favorites from Jimi Hendrix\, The Foo Fighters\, Green Day\, The Stones and originals. Happy Hour is from 3pm till 8pm & our kitchen staff is serving our ala carte menu from 3pm till 10:40pm. All this & No Cover Charge from HK’s Unofficial Home Of Live Music. The Wanch
URL:https://www.thewanch.hk/hk/event/6pm-acoustic-happy-hour-featuring-bryan-8pm-the-limetones-915pm-the-young-bucks-1030pm-basic-lawyers-12am-rubicube/
CATEGORIES:Classic Rock,Folk Rock,Happy Hour,Heavy Metal,Modern Rock,Original Music
ATTACH;FMTTYPE=image/jpeg:https://www.thewanch.hk/wp-content/uploads/2023/12/Themed-Events-2.jpg
END:VEVENT
BEGIN:VEVENT
DTSTART;TZID=Asia/Hong_Kong:20231216T180000
DTEND;TZID=Asia/Hong_Kong:20231216T235900
DTSTAMP:20260420T213149
CREATED:20231213T053113Z
LAST-MODIFIED:20231215T021919Z
UID:10002039-1702749600-1702771140@www.thewanch.hk
SUMMARY:6pm Acoustic Happy Hour Featuring Benjie 8pm BluesExpress 9:15pm Transmission 10:30pm Whitt's End 12am RE'CALL
DESCRIPTION:The Wanch opens its door at 2pm serving our ala carte menu till 10:40pm and Happy Hour is from 3pm till 8pm. The music starts at 6pm with Acoustic Happy Hour featuring Benjie performing acoustic rock & folk favorites. 8pm BluesExpress performs Down Home Chicago Blues. 9:15pm Transmission returns performing original rock. 10:30pm Whtt’s End performs modern rock & originals. 12am RE’CALL rocks till the early morning with favorites from Disturbed\, Limp Bizkit\, Pearl Jam\, Soundgarden\, & Originals.  We thank you for your continued support of The Wanch & The HK Live Music Scene. Your support keeps Live Music Alive!
URL:https://www.thewanch.hk/hk/event/6pm-acoustic-happy-hour-featuring-benjie-8pm-whitts-end-915pm-transmission-1030pm-bluesexpress-12am-recall/
CATEGORIES:Blues,Classic Rock,Folk Rock,Happy Hour,Heavy Metal,Modern Rock,Original Music
ATTACH;FMTTYPE=image/jpeg:https://www.thewanch.hk/wp-content/uploads/2023/12/Daily-Events-4-bands-3.jpg
END:VEVENT
BEGIN:VEVENT
DTSTART;TZID=Asia/Hong_Kong:20231217T180000
DTEND;TZID=Asia/Hong_Kong:20231217T235900
DTSTAMP:20260420T213149
CREATED:20231213T060044Z
LAST-MODIFIED:20231213T060046Z
UID:10002040-1702836000-1702857540@www.thewanch.hk
SUMMARY:6pm Armie & Friends 9pm Zone D 10:30pm Black Kobra
DESCRIPTION:Looking for a place to chill on Sunday afternoon with great atmosphere. The Wanch is the place. We open the doors at 2pm and our kitchen staff is serving our ala carte menu till 9:40pm and Happy Hour is from 3pm till 8pm. The music starts at 6pm with Armie & Friends performing 50’s\, 60’s\, & 70’s rock favorites. 9pm Zone D performs Funk\, and Rhythm & Blues favorites. 10:30pm Black Kobra performs favorites from Pearl Jam\, Deep Purple\, Metalica\, ACDC\, and other rock favorites. We thank you for your contiuned support of The Wanch and the HK Music Scene.
URL:https://www.thewanch.hk/hk/event/6pm-armie-friends-9pm-zone-d-1030pm-black-kobra/
CATEGORIES:Blues,Classic Rock,Folk Rock,Happy Hour,Heavy Metal,Modern Rock,Original Music
ATTACH;FMTTYPE=image/jpeg:https://www.thewanch.hk/wp-content/uploads/2023/12/Daily-Events-3-bands-5.jpg
END:VEVENT
END:VCALENDAR