BEGIN:VCALENDAR
VERSION:2.0
PRODID:-//The Wanch - ECPv6.15.20//NONSGML v1.0//EN
CALSCALE:GREGORIAN
METHOD:PUBLISH
X-WR-CALNAME:The Wanch
X-ORIGINAL-URL:https://www.thewanch.hk/hk
X-WR-CALDESC:The Wanch的活动
REFRESH-INTERVAL;VALUE=DURATION:PT1H
X-Robots-Tag:noindex
X-PUBLISHED-TTL:PT1H
BEGIN:VTIMEZONE
TZID:Asia/Hong_Kong
BEGIN:STANDARD
TZOFFSETFROM:+0800
TZOFFSETTO:+0800
TZNAME:HKT
DTSTART:20220101T000000
END:STANDARD
END:VTIMEZONE
BEGIN:VEVENT
DTSTART;TZID=Asia/Hong_Kong:20231219T180000
DTEND;TZID=Asia/Hong_Kong:20231225T235900
DTSTAMP:20260421T003235
CREATED:20231215T061455Z
LAST-MODIFIED:20231215T061457Z
UID:10002045-1703008800-1703548740@www.thewanch.hk
SUMMARY:Wanch Music Schedule Dec 19th thru Dec 25th
DESCRIPTION:Check out the line-up of music coming your way at The Wanch Dec 19th thru the 25th. Mark your calendar so you don’t miss your favorites bands and maybe check out some bands you haven’t seen. Happy Hour is from 3pm till 8pm daily & our kitchen is open Sun thru Thurs from 3pm till 9:40pm and till 10:40pm on Fri & Sat. We thank you for your support of The Wanch & The HK Music Scene. Your support keeps live music alive in Hong Kong. Happy Holidays everyone ftom The Wanch Staff & Management.
URL:https://www.thewanch.hk/hk/event/wanch-music-schedule-dec-19th-thru-dec-25th/
CATEGORIES:Blues,Classic Rock,Folk Rock,Happy Hour,Heavy Metal,Modern Rock,Original Music
ATTACH;FMTTYPE=image/jpeg:https://www.thewanch.hk/wp-content/uploads/2023/12/Wanch-aDec-19-scaled.jpg
END:VEVENT
BEGIN:VEVENT
DTSTART;TZID=Asia/Hong_Kong:20231225T080000
DTEND;TZID=Asia/Hong_Kong:20231225T233000
DTSTAMP:20260421T003235
CREATED:20231221T062529Z
LAST-MODIFIED:20231221T063830Z
UID:10002052-1703491200-1703547000@www.thewanch.hk
SUMMARY:Closed Christmas Day
DESCRIPTION:The Wanch Staff and Management would like to thank everyone for your support this past year and we wish you all a Merry Christmas\, Have a wonderful holiday season with family\, friends\, & music. We will be back rocking on Dec 26th. See you soon.
URL:https://www.thewanch.hk/hk/event/closed-christmas-day-4/
ATTACH;FMTTYPE=image/jpeg:https://www.thewanch.hk/wp-content/uploads/2023/11/IMG_20220603_1912452-scaled.jpg
END:VEVENT
BEGIN:VEVENT
DTSTART;TZID=Asia/Hong_Kong:20231226T180000
DTEND;TZID=Asia/Hong_Kong:20231226T235900
DTSTAMP:20260421T003235
CREATED:20231223T092952Z
LAST-MODIFIED:20231224T044216Z
UID:10002054-1703613600-1703635140@www.thewanch.hk
SUMMARY:6pm Acoustic Happy Hour Featuring John w/ RE'CALL 9pm FAMylicious 10:30pm SR2
DESCRIPTION:The Wanch opens its doors at 2pm & will be serving our ala carte menu till 9:40pm Happy Hour is from 3pm till 8pm. The Wanch rocks your Tuesday starting at 6pm with Acoustic Happy Hour featuring John w/ RE’CALL perfroming acoustic rock & folk favorites. 9pm FAMylicious (Andy\, Matt\, & Ferdie) perform 80’s & 90’s rock favorites. 10:30pm SR2 perform hard rock favorites from Deep Purple\, ACDC\, Metalica\, Guns N Roses\, and other rock favorites. All this & No Cover Charge from HK’s Unofficial Home Of Live Music. The Wanch
URL:https://www.thewanch.hk/hk/event/6pm-acoustic-happy-hour-featuring-john-w-recall-9pm-famylicious-1030pm-sr2/
CATEGORIES:Blues,Classic Rock,Folk Rock,Happy Hour,Heavy Metal
ATTACH;FMTTYPE=image/jpeg:https://www.thewanch.hk/wp-content/uploads/2023/12/Daily-Events-3-bands-7.jpg
END:VEVENT
BEGIN:VEVENT
DTSTART;TZID=Asia/Hong_Kong:20231227T113000
DTEND;TZID=Asia/Hong_Kong:20231229T150000
DTSTAMP:20260421T003235
CREATED:20231223T091537Z
LAST-MODIFIED:20231224T043924Z
UID:10002053-1703676600-1703862000@www.thewanch.hk
SUMMARY:Set Lunch Menu at The Wanch Dec 27th thru Dec 29th 11:30am till 3pm
DESCRIPTION:Hi Everyone. It is a short work week but The Wanch is serving a hot homemade lunch for you. Start with a homemade soup or salad. Then choose from four homemade main courses: Rotisserie Roast Chicken\, Stonebaked Pepperoni Pizza (Also available as a vegetarian option.)\, Bangers & Mash\, or Pan-Fried Sea Bass. Then complete your lunch with a homemade desert & Hot or Iced Lemon Tea. Busy in the office then call 3692-5933 and we will prepare your lunch for take-away and give you a 10% discount. We look forward to serving you this week.
URL:https://www.thewanch.hk/hk/event/set-lunch-menu-at-the-wanch-dec-26th-thru-dec-29th-1130am-till-3pm/
CATEGORIES:Set Lunch
ATTACH;FMTTYPE=image/jpeg:https://www.thewanch.hk/wp-content/uploads/2023/10/Chicken-set-lunch-1-scaled.jpg
END:VEVENT
BEGIN:VEVENT
DTSTART;TZID=Asia/Hong_Kong:20231227T180000
DTEND;TZID=Asia/Hong_Kong:20231227T235900
DTSTAMP:20260421T003235
CREATED:20231223T094310Z
LAST-MODIFIED:20231223T094312Z
UID:10002055-1703700000-1703721540@www.thewanch.hk
SUMMARY:6pm Acoustic Happy Hour Featuring Iris w/ Rubicube 9pm Whitt's End 10:30pm Fast Line
DESCRIPTION:It’s a Rock & Roll Wednesday at The Wanch starting at 6pm with Acoustic Happy Hour featuring Iris performing acoustic rock favorites & originals. 9pm Whitt’s End performs 80’s\, 90s\, 00’s\, rock & originals. 10:30pm Fast Line performs 70’s\, 80’s rock favorites by Deep Purple\, Bon Jovi\, The Stones\, Queen\, & other favorites. Happy Hour is from 3pm till 8pm & our kitchen staff is serving our ala carte menu from 3pm till 9:40pm. We thank you for supporting The Wanch & The HK Music Scene.
URL:https://www.thewanch.hk/hk/event/6pm-acoustic-happy-hour-featuring-iris-w-rubicube-9pm-whitts-end-1030pm-fast-line/
CATEGORIES:Blues,Classic Rock,Folk Rock,Happy Hour,Heavy Metal,Modern Rock,Original Music
ATTACH;FMTTYPE=image/jpeg:https://www.thewanch.hk/wp-content/uploads/2023/12/Daily-Events-3-bands-8.jpg
END:VEVENT
BEGIN:VEVENT
DTSTART;TZID=Asia/Hong_Kong:20231227T180000
DTEND;TZID=Asia/Hong_Kong:20240101T235900
DTSTAMP:20260421T003235
CREATED:20231227T043943Z
LAST-MODIFIED:20231227T043945Z
UID:10002057-1703700000-1704153540@www.thewanch.hk
SUMMARY:Wanch Music Line-Up Dec 27th thru Jan 1st
DESCRIPTION:Check out the hot line-up of music at The Wanch this week and the large line-up to help you ring in 2024. Mark your calendar so you don’t miss your favorite bands this week. We thank you for your continued support of The Wanch & The HK Music Scene.
URL:https://www.thewanch.hk/hk/event/wanch-music-line-up-dec-27th-thru-jan-1st/
CATEGORIES:Blues,Classic Rock,Folk Rock,Happy Hour,Heavy Metal,Modern Rock,Motown,Original Music
ATTACH;FMTTYPE=image/jpeg:https://www.thewanch.hk/wp-content/uploads/2023/12/wanch-dec-26-scaled.jpg
END:VEVENT
BEGIN:VEVENT
DTSTART;TZID=Asia/Hong_Kong:20231228T180000
DTEND;TZID=Asia/Hong_Kong:20231228T235900
DTSTAMP:20260421T003235
CREATED:20231224T055635Z
LAST-MODIFIED:20231224T055636Z
UID:10002056-1703786400-1703807940@www.thewanch.hk
SUMMARY:6pm Acoustic Happy Hour Featuring Tyler 9pm The Joven Goce Band 10:30pm Maryjane & The Gang
DESCRIPTION:The Wanch rocks your Thursday night starting at 6pm with Acoustic Happy Hour featuring Tyler. 9pm The Joven Goce Band returns performing classic rock & originals. 10:30pm Maryjane & The Gang perform favorites from The Police\, Blondie\, The Cure\, Amy Winehouse\, & originals. Happy Hour is from 3pm till 8pm & our kitchen staff is serving our ala carte menu from 3pm till 9:40pm. All this & No Cover Band from HK’s Unofficial Home Of Live Music. We thank you for your continuous support.
URL:https://www.thewanch.hk/hk/event/6pm-acoustic-happy-hour-featuring-tyler-9pm-the-joven-goce-band-1030pm-maryjane-the-gang/
CATEGORIES:Blues,Classic Rock,Folk Rock,Happy Hour,Modern Rock,Original Music
ATTACH;FMTTYPE=image/jpeg:https://www.thewanch.hk/wp-content/uploads/2023/12/Daily-Events-3-bands-9.jpg
END:VEVENT
BEGIN:VEVENT
DTSTART;TZID=Asia/Hong_Kong:20231229T180000
DTEND;TZID=Asia/Hong_Kong:20231229T235900
DTSTAMP:20260421T003235
CREATED:20231227T093816Z
LAST-MODIFIED:20231227T093832Z
UID:10002058-1703872800-1703894340@www.thewanch.hk
SUMMARY:6pm Acoustic Happy Hour Features Bryan 9pm Don't Panic 11:45pm Tufnil's 11 12:20am Rubicube
DESCRIPTION:The Wanch rocks your weekend starting Friday night at 6pm with Acoustic Happy Hour featuring Bryan. 9pm Don’t Panic rocks your favorites from The Stones\, Red Hot Chili Peppers\, Foo Fighters and other favorites. 11:45pm Tufnil’s 11 perfroms hard rock favorites Iron Maiden to Metalica and other favorites. 12:30am Rubicube rocks with favorites from Green Day\, Pearl Jam\, Jimi Hendrix\, The Beatles\, & originals. Happy Hour is from 3pm till 8pm & our kitchen staff is serving our ala carte menu from 3pm till 10:40pm. All This & No Cover Charge from HK’s Unofficial Home Of Live Music.
URL:https://www.thewanch.hk/hk/event/6pm-acoustic-happy-hour-features-bryan-9pm-dont-panic-1145pm-tufnils-11-1220am-rubicube/
CATEGORIES:Blues,Classic Rock,Folk Rock,Happy Hour,Heavy Metal,Modern Rock,Original Music
ATTACH;FMTTYPE=image/jpeg:https://www.thewanch.hk/wp-content/uploads/2023/12/Daily-Events-3-bands-10.jpg
END:VEVENT
BEGIN:VEVENT
DTSTART;TZID=Asia/Hong_Kong:20231230T180000
DTEND;TZID=Asia/Hong_Kong:20231230T235900
DTSTAMP:20260421T003235
CREATED:20231229T054210Z
LAST-MODIFIED:20231229T055954Z
UID:10002059-1703959200-1703980740@www.thewanch.hk
SUMMARY:6pm Acoustic Happy Hour Features Bryan 9pm Joven Goce Band 10:30pm Unfashionably Late 12am RE'CALL
DESCRIPTION:The Wanch opens its doors at 2pm with our kitchen serving our ala carte menu till 10:40pm and Happy Hour from 3pm till 8pm. Then at 6pm it’s Acoustic Happy Hour featuring Bryan performing acoustic rock & folk favorites. 9pm The Joven Goce Band performs 80’s & 90’s rock favorites and originals. 10:30pm Unfashionably Late performs  rock classics from the 70’s & 80’s. 12am RE’CALL rocks performing songs from Disturbed\, Buckcherry\, Metalica\, Soundgarden\, Pearl Jam\, & Originals. We thank you for your continued support of The Wanch & The HK Music Scene.
URL:https://www.thewanch.hk/hk/event/6pm-acoustic-happy-hour-features-bryan-9pn-joven-goce-band-1030pm-unfashionably-late-12am-recall/
CATEGORIES:Blues,Classic Rock,Folk Rock,Happy Hour,Heavy Metal,Modern Rock,Original Music
ATTACH;FMTTYPE=image/jpeg:https://www.thewanch.hk/wp-content/uploads/2023/12/Daily-Events-3-bands-11.jpg
END:VEVENT
BEGIN:VEVENT
DTSTART;TZID=Asia/Hong_Kong:20231231T140000
DTEND;TZID=Asia/Hong_Kong:20231231T173000
DTSTAMP:20260421T003235
CREATED:20231229T060710Z
LAST-MODIFIED:20231229T060712Z
UID:10002060-1704031200-1704043800@www.thewanch.hk
SUMMARY:4pm Acoustic Happy Hour Featuring Samantha & Tyler
DESCRIPTION:The Wanch opens its doors at 2pm and the kitchens staff is serving up our ala carte menu from 2pm till 9:40pm & Happy Hour is from 3pm till 8pm. At 4pm Samantha & Tyler perform acoustic rock favorites. The Wanch staff & management wish you a Happy\, Healthy\, & Prosperous 2024
URL:https://www.thewanch.hk/hk/event/4pm-acoustic-happy-hour-featuring-samantha-tyler/
CATEGORIES:Classic Rock,Folk Rock,Happy Hour
ATTACH;FMTTYPE=image/jpeg:https://www.thewanch.hk/wp-content/uploads/2023/12/sam-tyler.jpg
END:VEVENT
BEGIN:VEVENT
DTSTART;TZID=Asia/Hong_Kong:20231231T180000
DTEND;TZID=Asia/Hong_Kong:20231231T235900
DTSTAMP:20260421T003235
CREATED:20231229T063016Z
LAST-MODIFIED:20231229T063018Z
UID:10002061-1704045600-1704067140@www.thewanch.hk
SUMMARY:Rocking in The New Year at The Wanch 6pm Joven Goce Band 9pm Hit Parade 10:30pm The Beefy Brothers 12:30am Black Kobra
DESCRIPTION:Get ready to rock in the New Year at The Wanch. Music starts at 6pm with Joven Goce Band performing 90’s rock & originals. 9pm Hit Parade performs classic rock & Motown favorites. 10:30pm The Beefy Brothers rock us into 2024 performing blues rock & rock favorites. 12:20am Black Koba keeps the party rocking till the early hours performing favorites from Pearl Jam\, ACDC\, Metalica\, Bon Jovi\, and other favorites. The Wanch & The HK Music Scene thank you ffor your continuous support and we wish you all a Happy & Rocking 2024
URL:https://www.thewanch.hk/hk/event/rocking-in-the-new-year-at-the-wanch-6pm-joven-goce-band-9pm-hit-parade-1030pm-the-beefy-brothers-1230am-black-kobra/
CATEGORIES:Blues,Classic Rock,Folk Rock,Funk,Happy Hour,Heavy Metal,Modern Rock,Motown
ATTACH;FMTTYPE=image/jpeg:https://www.thewanch.hk/wp-content/uploads/2023/12/Themed-Events-4.jpg
END:VEVENT
END:VCALENDAR