BEGIN:VCALENDAR
VERSION:2.0
PRODID:-//The Wanch - ECPv6.15.20//NONSGML v1.0//EN
CALSCALE:GREGORIAN
METHOD:PUBLISH
X-ORIGINAL-URL:https://www.thewanch.hk/hk
X-WR-CALDESC:The Wanch的活动
REFRESH-INTERVAL;VALUE=DURATION:PT1H
X-Robots-Tag:noindex
X-PUBLISHED-TTL:PT1H
BEGIN:VTIMEZONE
TZID:Asia/Hong_Kong
BEGIN:STANDARD
TZOFFSETFROM:+0800
TZOFFSETTO:+0800
TZNAME:HKT
DTSTART:20230101T000000
END:STANDARD
END:VTIMEZONE
BEGIN:VEVENT
DTSTART;TZID=Asia/Hong_Kong:20240123T180000
DTEND;TZID=Asia/Hong_Kong:20240129T235900
DTSTAMP:20260424T183748
CREATED:20240120T072351Z
LAST-MODIFIED:20240120T072353Z
UID:10002092-1706032800-1706572740@www.thewanch.hk
SUMMARY:Wanch Music Line-Up Jan 23rd thru 29th
DESCRIPTION:Check out our line-up of shows this week and mark your calendar to make sure you don’t miss your favorite bands. See some bands listed you haven’t seen before then why not support some new bands. Happy Hour is from 3pm till 8pm & our kitchen is serving our ala carte menu Sun thru Thur 3pm till 9:40pm and Fri & Sat till 10:40pm. We thank you for your continued support of The Wanch & The HK Music Scene.
URL:https://www.thewanch.hk/hk/event/wanch-music-line-up-jan-23rd-thru-29th/
CATEGORIES:Blues,Classic Rock,Folk Rock,Happy Hour,Heavy Metal,Jam night,Modern Rock,Original Music
ATTACH;FMTTYPE=image/jpeg:https://www.thewanch.hk/wp-content/uploads/2024/01/wanch-sch-jan-23-scaled.jpg
END:VEVENT
BEGIN:VEVENT
DTSTART;TZID=Asia/Hong_Kong:20240129T113000
DTEND;TZID=Asia/Hong_Kong:20240202T150000
DTSTAMP:20260424T183748
CREATED:20240126T080400Z
LAST-MODIFIED:20240126T080402Z
UID:10002101-1706527800-1706886000@www.thewanch.hk
SUMMARY:Set Lunch Menu at The Wanch Jan 29th thru Feb 2nd 11:30am till 3pm
DESCRIPTION:Looking for a hot homemade lunch then look no further than The Wanch. First you have a choice of a homemade soup or salad. Then choose one of four homemade main courses: Beef Bourguignon\, Prawn Pesto Penne (Available as a vegetarian option)\, Pork Belly Roll\, or Pan-Fried Cod Fillet. Then top off lunch with a homemade desert & Iced Lemon Tea. Busy in the office then call 3692-5933 & we will prepare your lunch for take-away and give you a 10% discount. We look forward to serving you this week.
URL:https://www.thewanch.hk/hk/event/set-lunch-menu-at-the-wanch-jan-29th-thru-feb-2nd-1130am-till-3pm/
CATEGORIES:Set Lunch
ATTACH;FMTTYPE=image/jpeg:https://www.thewanch.hk/wp-content/uploads/2023/06/Beef-Menu-scaled.jpg
END:VEVENT
BEGIN:VEVENT
DTSTART;TZID=Asia/Hong_Kong:20240129T150000
DTEND;TZID=Asia/Hong_Kong:20240130T214000
DTSTAMP:20260424T183748
CREATED:20240126T070123Z
LAST-MODIFIED:20240126T070125Z
UID:10002099-1706540400-1706650800@www.thewanch.hk
SUMMARY:Dinner Specials at The Wanch Jan 29th & 30th 3pm till 9:40pm
DESCRIPTION:Hi Everyone. The Wanch has two great dinner specials for you this Monday & Tuesday. On Monday when you order one main course you get the second one for free. On Tuesday with your main course\, you get two complimentary bottles of Peroni. This offer is for dine-in customers only & it runs both days from 3pm till 9:40pm. So come and check out our New Ala Carte Menu and enjoy the Mon & Tues specials. Happy Hour is from 3pm till 8pm. We look forward to serving you soon. We look forward to seeing you soon.
URL:https://www.thewanch.hk/hk/event/dinner-specials-at-the-wanch-jan-29th-30th-3pm-till-940pm/
CATEGORIES:Dinner Special,Happy Hour
ATTACH;FMTTYPE=image/jpeg:https://www.thewanch.hk/wp-content/uploads/2023/05/Mon-Tues-Special.jpg
END:VEVENT
BEGIN:VEVENT
DTSTART;TZID=Asia/Hong_Kong:20240129T180000
DTEND;TZID=Asia/Hong_Kong:20240129T235900
DTSTAMP:20260424T183748
CREATED:20240126T070749Z
LAST-MODIFIED:20240126T070751Z
UID:10002100-1706551200-1706572740@www.thewanch.hk
SUMMARY:6pm Acoustic Happy Hour Featuring Steve 9pm Jam Night Hosted by Iris & Rubicube
DESCRIPTION:The music starts at 6pm with Acoustic Happy Hour featuring Steve performing acoustic folk & rock favorites. 9pm it’s Jam Night hosted by Iris & Rubicube. All bands & musicians are welcome to come & jam. All styles of music original\, blues\, funk\, jazz\, & funk is welcome. Want to reserve a spot call 3-692-5933 after 3:30pm or just show up. Solo artist that wants a backing band\, no problem as Rubicube is ready to jam with you. Happy Hour is from 3pm till 8pm & our kitchen staff is serving our ala carte menu from 3pm till 9:40pm. Not looking to jam then come down and enjoy some great music & drink specials from our sponsors. We thank you for your continued support of The Wanch & the HK Music Scene.
URL:https://www.thewanch.hk/hk/event/6pm-acoustic-happy-hour-featuring-steve-9pm-jam-night-hosted-by-iris-rubicube/
CATEGORIES:Blues,Classic Rock,Folk Rock,Happy Hour,Heavy Metal,Jam night,Modern Rock,Original Music
ATTACH;FMTTYPE=image/jpeg:https://www.thewanch.hk/wp-content/uploads/2023/02/Jam-Nite-1.jpg
END:VEVENT
BEGIN:VEVENT
DTSTART;TZID=Asia/Hong_Kong:20240130T180000
DTEND;TZID=Asia/Hong_Kong:20240130T235900
DTSTAMP:20260424T183748
CREATED:20240126T095108Z
LAST-MODIFIED:20240126T095110Z
UID:10002104-1706637600-1706659140@www.thewanch.hk
SUMMARY:6pm Acoustic Happy Hour Featuring John w/ RE'CALL 9pm Hit Parade 10:30pm Fast Line
DESCRIPTION:The music starts at 6pm with Acoustic Happy Hour featuring John w/ RE’CALL performs acoustic rock and folk favorites. 9pm Hit Parade performs classic rock favorites and Motown. 10:30pm Fast Line performs 70’s & 80’s rock favorites from Deep Purple\, to Guns N Roses\, Queen\, and other rock favorites. Happy Hour is from 3pm till 8pm & our kitchen staff is serving our ala carte menu till 9:40pm. We thank you for your continued support of The Wanch & The HK Live Music Scene.
URL:https://www.thewanch.hk/hk/event/6pm-acoustic-happy-hour-featuring-john-w-recall-9pm-hit-parade-1030pm-fast-line/
CATEGORIES:Classic Rock,Folk Rock,Motown
ATTACH;FMTTYPE=image/jpeg:https://www.thewanch.hk/wp-content/uploads/2024/01/Daily-Events-3-bands-8.jpg
END:VEVENT
BEGIN:VEVENT
DTSTART;TZID=Asia/Hong_Kong:20240130T180000
DTEND;TZID=Asia/Hong_Kong:20240205T235900
DTSTAMP:20260424T183748
CREATED:20240126T090446Z
LAST-MODIFIED:20240129T041454Z
UID:10002102-1706637600-1707177540@www.thewanch.hk
SUMMARY:Wanch Music Line-up Jan 30th thru Feb 5th
DESCRIPTION:Check out our line-up of shows this week and mark your calendar to make sure you don’t miss your favorite bands. See some bands listed you haven’t seen before then why not support some new bands. Happy Hour is from 3pm till 8pm & our kitchen is serving our ala carte menu Sun thru Thur 3pm till 9:40pm and Fri & Sat till 10:40pm. We thank you for your continued support of The Wanch & The HK Music Scene.
URL:https://www.thewanch.hk/hk/event/wanch-music-line-up-jan-30th-thru-feb-5th/
CATEGORIES:Blues,Classic Rock,Folk Rock,Happy Hour,Heavy Metal,Jam night,Modern Rock,Original Music
ATTACH;FMTTYPE=image/jpeg:https://www.thewanch.hk/wp-content/uploads/2024/01/wanch-Jan-30-scaled.jpg
END:VEVENT
BEGIN:VEVENT
DTSTART;TZID=Asia/Hong_Kong:20240131T180000
DTEND;TZID=Asia/Hong_Kong:20240131T235900
DTSTAMP:20260424T183748
CREATED:20240129T050031Z
LAST-MODIFIED:20240129T050208Z
UID:10002105-1706724000-1706745540@www.thewanch.hk
SUMMARY:6pm Acoustic Happy Hour Features Eduin 9pm Whitts End Acoustic 10:30pm Gonzales Musika
DESCRIPTION:The Music Starts at 6pm with Acoustic Happy Hour featuring Eduin performing acoustic rock & folk favorites. 9pm Jarvis & Saxon perform as Whitt’s End Acoustic performing rock\, classical\, bluegrass\, & originals in their unique style. 10:30pm Gonzales Musika performs 80’s & 90’s rock favorites & original music. Happy Hour is from 3pm till 8pm & our kitchen is serving our ala carte menu from 3pm till 9:40pm. All this & No Cover Charge from HK’s Unofficial Home Of Live Music.
URL:https://www.thewanch.hk/hk/event/6pm-acoustic-happy-hour-features-eduin-9pm-whitts-end-acoustic-1030pm-gonzales-musika/
CATEGORIES:Blues,Classic Rock,Folk Rock,Happy Hour,Modern Rock,Original Music
ATTACH;FMTTYPE=image/jpeg:https://www.thewanch.hk/wp-content/uploads/2024/01/Whitts.jpeg
END:VEVENT
BEGIN:VEVENT
DTSTART;TZID=Asia/Hong_Kong:20240201T180000
DTEND;TZID=Asia/Hong_Kong:20240201T235900
DTSTAMP:20260424T183748
CREATED:20240129T051431Z
LAST-MODIFIED:20240129T051433Z
UID:10002106-1706810400-1706831940@www.thewanch.hk
SUMMARY:6pm Acoustic Happy Hour Featuring John w/ RE'CALL 8pm Mario & The Basic Notes
DESCRIPTION:Music starts at 6pm with Acoustic Happy Hour featuring John w/ RE’CALL  performing acoustic rock & folk favorites. 8pm Mario & The Basic Notes perform classic rock\, blues\, & funk. Happy Hour is from 3pm till 8pm & our kitchen staff is serving our ala carte menu from 3pm till 9:40pm. We thank you for your continued support of Thje Wanch & The HK Music Scene
URL:https://www.thewanch.hk/hk/event/6pm-acoustic-happy-hour-featuring-john-w-recall-8pm-mario-the-basic-notes/
CATEGORIES:Blues,Classic Rock,Folk Rock,Funk,Happy Hour,Motown
ATTACH;FMTTYPE=image/jpeg:https://www.thewanch.hk/wp-content/uploads/2024/01/angus.jpeg
END:VEVENT
BEGIN:VEVENT
DTSTART;TZID=Asia/Hong_Kong:20240202T180000
DTEND;TZID=Asia/Hong_Kong:20240202T235900
DTSTAMP:20260424T183748
CREATED:20240129T053255Z
LAST-MODIFIED:20240129T053258Z
UID:10002107-1706896800-1706918340@www.thewanch.hk
SUMMARY:6pm Acoustic Happy Hour Features Bryan 9pm Strange Brew 10:30pm WanChai Quartet 12am Rubicube
DESCRIPTION:The Wanch kicks off your weekend at 6pm with Acoustic Happy Hour featuring Bryan performing acoustic rock favorites. 9pm Strange Brew perform 70’s & 80’s rock along with new unreleased originals. 10:30pm The WanChai Quartet (Phil\, JP\, Ferdie & Charles) perform 70’s & 80’s rock & blues rock) 12am Rubicube performs favorites from The Foo Fighters\, Led Zepplin\, Jimi Hendrix\, & originals. Happy Hour is from 3pm till 8pm & our kitchen staff is serving our ala carte menu from 3pm till 10:40pm. We thank you for your continued support of The Wanch & The HK Music Scene.
URL:https://www.thewanch.hk/hk/event/6pm-acoustic-happy-hour-features-bryan-9pm-strange-brew-1030pm-wanchai-quartet-12am-rubicube/
CATEGORIES:Blues,Classic Rock,Folk Rock,Happy Hour,Heavy Metal,Modern Rock,Original Music
ATTACH;FMTTYPE=image/jpeg:https://www.thewanch.hk/wp-content/uploads/2024/01/Daily-Events-4-bands-6.jpg
END:VEVENT
BEGIN:VEVENT
DTSTART;TZID=Asia/Hong_Kong:20240203T010000
DTEND;TZID=Asia/Hong_Kong:20240204T183000
DTSTAMP:20260424T183748
CREATED:20240126T091920Z
LAST-MODIFIED:20240126T092056Z
UID:10002103-1706922000-1707071400@www.thewanch.hk
SUMMARY:WanChai Vinyl Record Fair Sponsored by Wake Concepts\, The Listening Room\, Stone & Wood\, Coopers Beer\, & The Wanch
DESCRIPTION:Looking to add to your vinyl collection or maybe want to trade some of your vinyl for something different? If so come on down to The Wanch this weekend and see what the sellers have to offer. Dealers from all over HK with all styles of music will be there. The Wanch will be serving their ala carte menu and both Stone & Wood & Coopers Beers will be on special. All this & no entry fee. So make that list of what you are looking for and head to The Wanch this weekend.
URL:https://www.thewanch.hk/hk/event/wanchai-vinyl-record-fair-sponsored-by-wake-concepts-stone-wood-coopers-beer-the-wanch/
CATEGORIES:record fair
ATTACH;FMTTYPE=image/jpeg:https://www.thewanch.hk/wp-content/uploads/2024/01/record-fair-feb-3-scaled.jpg
END:VEVENT
BEGIN:VEVENT
DTSTART;TZID=Asia/Hong_Kong:20240203T190000
DTEND;TZID=Asia/Hong_Kong:20240203T235900
DTSTAMP:20260424T183748
CREATED:20240129T055542Z
LAST-MODIFIED:20240129T055544Z
UID:10002108-1706986800-1707004740@www.thewanch.hk
SUMMARY:7pm Acoustic Happy Hour Featuring Benji 9pm The Pulse 10:30pm Whitt's End 12am RE'CALL
DESCRIPTION:After the Record Fair at 7pm it’s Acoustic Happy Hour featuring Benjie performing acoustic rock & folk favorites. 9pm The Pulse (Formerly Neo Astronauts) perform Modern Rock & Originals\, 10:30pm Whitt’s End rocks The Wanch with favorites by Green Day\, Nirvana\, Beasty Boys\, & Originals. 12am RE’CALL rocks till the early morning with favotites from Disturbed\, Limp Bisket\, Soundgarden\, Pearl Jam & Originals. Happy Hour is from 3pm till 8pm & ori kitchen is serving our ala carte menu from 1pm till 10:40pm. All this & No Cover Charge from The Wanch “Where Music Means Something.”
URL:https://www.thewanch.hk/hk/event/7pm-acoustic-happy-hour-featuring-benji-9pm-the-pulse-1030pm-whitts-end-12am-recall/
CATEGORIES:Blues,Classic Rock,Happy Hour,Heavy Metal,Modern Rock,Original Music
ATTACH;FMTTYPE=image/jpeg:https://www.thewanch.hk/wp-content/uploads/2024/01/Daily-Events-4-bands-7.jpg
END:VEVENT
BEGIN:VEVENT
DTSTART;TZID=Asia/Hong_Kong:20240204T190000
DTEND;TZID=Asia/Hong_Kong:20240204T235900
DTSTAMP:20260424T183748
CREATED:20240129T062010Z
LAST-MODIFIED:20240129T062012Z
UID:10002109-1707073200-1707091140@www.thewanch.hk
SUMMARY:7pm Armie & Friends 9pm Zone D 10:30pm Black Kobra
DESCRIPTION:After the Record Fair the music starts at 7pm with Armie & Friends performing rock favorites from the 50’s\, 60’s\, & 70’s. 9pm Zone D performs Rhythm & Blues and Funk favorites. 10:30pm Black Kobra performs favorites from Metalica\, Guns N Roses\, Pearl Jam\, Van Halen & other rock favorites. Happy Hour is from 3pm till 8pm & our kitchen staff is serving our ala carte menu from 1pm till 9:40pm. We thank you for your continued support of The Wanch & The HK Music Scene
URL:https://www.thewanch.hk/hk/event/7pm-armie-friends-9pm-zone-d-1030pm-black-kobra/
CATEGORIES:Blues,Classic Rock,Folk Rock,Funk,Happy Hour,Modern Rock
ATTACH;FMTTYPE=image/jpeg:https://www.thewanch.hk/wp-content/uploads/2024/01/Daily-Events-3-bands-9.jpg
END:VEVENT
END:VCALENDAR