BEGIN:VCALENDAR
VERSION:2.0
PRODID:-//The Wanch - ECPv6.15.20//NONSGML v1.0//EN
CALSCALE:GREGORIAN
METHOD:PUBLISH
X-WR-CALNAME:The Wanch
X-ORIGINAL-URL:https://www.thewanch.hk/hk
X-WR-CALDESC:The Wanch的活动
REFRESH-INTERVAL;VALUE=DURATION:PT1H
X-Robots-Tag:noindex
X-PUBLISHED-TTL:PT1H
BEGIN:VTIMEZONE
TZID:Asia/Hong_Kong
BEGIN:STANDARD
TZOFFSETFROM:+0800
TZOFFSETTO:+0800
TZNAME:HKT
DTSTART:20230101T000000
END:STANDARD
END:VTIMEZONE
BEGIN:VEVENT
DTSTART;TZID=Asia/Hong_Kong:20240409T130000
DTEND;TZID=Asia/Hong_Kong:20240415T170000
DTSTAMP:20260423T163323
CREATED:20240407T072148Z
LAST-MODIFIED:20240407T072205Z
UID:10002203-1712667600-1713200400@www.thewanch.hk
SUMMARY:The Wanch Show Line-Up Apr 9th thru 13th
DESCRIPTION:Hi Everyone\, Check out this week’s line-up of music at The Wanch. Make sure to mark your calendars so you don’t miss your favorite bands at The Wanch this week and maybe check out some bands you haven’t seen. On Saturday the 13th The Wanch is closed for a private event. Happy Hour is from 3pm till 8pm daily and the kitchen iis serving our ala carte menu daily 2pm to 9:40pm on Sunday\, 3pm to 9:40pm Mon thru Thurs\, 3pm till 10:40pm on Friday & 2pm till 10:40pm on Saturday. We thank you for supporting The Wanch & The HK Music Scene. See you this week.
URL:https://www.thewanch.hk/hk/event/the-wanch-show-line-up-apr-9th-thru-13th/
CATEGORIES:Blues,Classic Rock,Folk Rock,Happy Hour,Modern Rock,Original Music
ATTACH;FMTTYPE=image/jpeg:https://www.thewanch.hk/wp-content/uploads/2024/04/wanch-Apr-9-scaled.jpg
END:VEVENT
BEGIN:VEVENT
DTSTART;TZID=Asia/Hong_Kong:20240415T113000
DTEND;TZID=Asia/Hong_Kong:20240419T150000
DTSTAMP:20260423T163323
CREATED:20240414T103947Z
LAST-MODIFIED:20240414T103950Z
UID:10002213-1713180600-1713538800@www.thewanch.hk
SUMMARY:Set Lunch Menu at The Wanch Apr  15th thru 19th 11:30am till 3pm
DESCRIPTION:Join us at The Wanch for a hot homemade lunch from 11:30am till 3pm. Start your meal with a homemade soup or salad. Then have your choice of four homemade mains: Rotisserie Roast Chicken\, Stone-Baked Pepperoni Pizza (Available in a vegetarian version)\, Bangers & Mash\, or Pan-Fried Sea Bass. Then top off your meal with a homemade desert & Iced Lemon Tea. Busy in the office then call 3692-5933 and we will have your lunch ready for take-away and give you a 10% discount. We look forward to serving you this week.
URL:https://www.thewanch.hk/hk/event/set-lunch-menu-at-the-wanch-apr-15th-thru-19th-1130am-till-3pm/
CATEGORIES:Set Lunch
ATTACH;FMTTYPE=image/jpeg:https://www.thewanch.hk/wp-content/uploads/2023/10/Chicken-set-lunch-1-scaled.jpg
END:VEVENT
BEGIN:VEVENT
DTSTART;TZID=Asia/Hong_Kong:20240415T150000
DTEND;TZID=Asia/Hong_Kong:20240416T214000
DTSTAMP:20260423T163323
CREATED:20240411T043313Z
LAST-MODIFIED:20240411T043315Z
UID:10002210-1713193200-1713303600@www.thewanch.hk
SUMMARY:Dinner Specials at The Wanch April 15th & 16th 3pm till 9:40pm
DESCRIPTION:The Wanch has two great dinner specials for you this Monday & Tuesday. On Monday when you order one main course you get the second one for free. On Tuesday with your main course\, you get two complimentary bottles of Peroni. This offer is for dine-in customers only & it runs both days from 3pm till 9:40pm. So come and check out our New Ala Carte Menu and enjoy the Mon & Tues specials. Happy Hour is from 3pm till 8pm. We look forward to serving you soon. We look forward to seeing you soon.
URL:https://www.thewanch.hk/hk/event/dinner-specials-at-the-wanch-april-15th-16th-3pm-till-940pm/
CATEGORIES:Dinner Special,Happy Hour
ATTACH;FMTTYPE=image/jpeg:https://www.thewanch.hk/wp-content/uploads/2023/05/Mon-Tues-Special.jpg
END:VEVENT
BEGIN:VEVENT
DTSTART;TZID=Asia/Hong_Kong:20240415T180000
DTEND;TZID=Asia/Hong_Kong:20240415T235900
DTSTAMP:20260423T163323
CREATED:20240411T045337Z
LAST-MODIFIED:20240411T045406Z
UID:10002211-1713204000-1713225540@www.thewanch.hk
SUMMARY:6pm Acoustic Happy Hour Features Steve 9pm Jam Night Hosted by Mark\, John\, Ferdie\, & Charles
DESCRIPTION:The music starts at 6pm with Acoustic Happy Hour featuring Steve performing acoustic rock & folk favorites. 9pm it’s Jam Night hosted by Mark & John of RE’CALL & Ferdie & Chales of Rubucube. All bands & musicians are welcome to come & jam. All styles of music original\, blues\, funk\, jazz\, & funk is welcome. Want to reserve a spot call 3-692-5933 after 3:30pm or just show up. Solo artist that wants a backing band\, no problem as the guys are ready to jam with you. Not looking to jam then come down and enjoy some great music. Happy Hour is from 3pm till 8pm & our kitchen staff is serving our ala carte menu from 3pm till 9:40pm. We thank you for your continued support of The Wanch & the HK Music Scene.
URL:https://www.thewanch.hk/hk/event/6pm-acoustic-happy-hour-features-steve-9pm-jam-night-hosted-by-mark-john-ferdie-charles/
CATEGORIES:Blues,Classic Rock,Folk Rock,Happy Hour,Heavy Metal,Jam night,Modern Rock,Original Music
ATTACH;FMTTYPE=image/jpeg:https://www.thewanch.hk/wp-content/uploads/2024/02/IMG_20220603_1912452-scaled.jpg
END:VEVENT
BEGIN:VEVENT
DTSTART;TZID=Asia/Hong_Kong:20240416T180000
DTEND;TZID=Asia/Hong_Kong:20240416T235900
DTSTAMP:20260423T163323
CREATED:20240411T053652Z
LAST-MODIFIED:20240411T053654Z
UID:10002212-1713290400-1713311940@www.thewanch.hk
SUMMARY:6pm Acoustic Happy Hour Features John of RE'CALL 9pm Strange Brew 10:30pm Fast Line
DESCRIPTION:The music begins at 6pm with Acoustic Happy Hour featuring John of RE’CALL performing acoustic folk & rock favorites. 9pm Strange Brew performs 60’s & 70’s rock along with originals. 10:30pm Fat Line keeps the night rocking with favorites from Bon Jovi\, Deep Purple\, Guns N Roses\, and other rock favorites. Happy Hour is from 3pm till 8pm & our kitchen staff is serving our ala carte menu from 3pm till 9:40pm. We thank you for your continued support of The Wanch & The HK Music Scene.
URL:https://www.thewanch.hk/hk/event/6pm-acoustic-happy-hour-features-john-of-recall-9pm-strange-brew-1030pm-fast-line/
CATEGORIES:Blues,Classic Rock,Folk Rock,Happy Hour,Original Music
ATTACH;FMTTYPE=image/jpeg:https://www.thewanch.hk/wp-content/uploads/2024/04/Daily-Events-3-bands-3.jpg
END:VEVENT
BEGIN:VEVENT
DTSTART;TZID=Asia/Hong_Kong:20240416T180000
DTEND;TZID=Asia/Hong_Kong:20240422T235900
DTSTAMP:20260423T163323
CREATED:20240414T104925Z
LAST-MODIFIED:20240414T104926Z
UID:10002214-1713290400-1713830340@www.thewanch.hk
SUMMARY:Wanch Shows Apr 16th thru 22nd
DESCRIPTION:Hi Everyone. Well here is the line-up of shows at The Wanch this week Apr 16th thru the 22nd. Make sure to mark your calendar so you don’t miss your favorite bands this week. See some bands listed you have not seen then come down and check them out. You may add a few new bands to your favorites list. Happy Hour is from 3pm till 8pm daily. We thank you for your continued support of The Wanch & The HK Music Scene
URL:https://www.thewanch.hk/hk/event/wanch-shows-apr-16th-thru-22nd/
CATEGORIES:Blues,Classic Rock,Folk Rock,fusion,Happy Hour,Heavy Metal,Modern Rock,Original Music
ATTACH;FMTTYPE=image/jpeg:https://www.thewanch.hk/wp-content/uploads/2024/04/Wanch-Apr-16-scaled.jpg
END:VEVENT
BEGIN:VEVENT
DTSTART;TZID=Asia/Hong_Kong:20240417T180000
DTEND;TZID=Asia/Hong_Kong:20240417T235900
DTSTAMP:20260423T163323
CREATED:20240415T050758Z
LAST-MODIFIED:20240415T050800Z
UID:10002215-1713376800-1713398340@www.thewanch.hk
SUMMARY:6pm Acoustic Happy Hour features Eduin 9pm NAH 10:30pm Gonzales Musika
DESCRIPTION:The music starts at 6pm with Acoustic Happy Hour featuring Eduin performing acoustic folk & rock favorites. 9pm NAH performs 90’s & 2000’s rock favorites. 10:30pm Gonzales Musika performs favorites from Blondie\, The Ramones\, Led Zeppelin\, & Originals. Happy Hour is from 3pm till 8pm & our kitchen staff is servinhg our ala carte menu from 3pm till 9:40pm. All this & No Cover Charge from HK’s Unofficial Home Of Live Music.
URL:https://www.thewanch.hk/hk/event/6pm-acoustic-happy-hour-features-eduin-9pm-nah-1030pm-gonzales-musika/
CATEGORIES:Blues,Classic Rock,Folk Rock,Happy Hour,Heavy Metal,Modern Rock,Original Music
ATTACH;FMTTYPE=image/jpeg:https://www.thewanch.hk/wp-content/uploads/2024/02/IMG_20220603_1912452-scaled.jpg
END:VEVENT
BEGIN:VEVENT
DTSTART;TZID=Asia/Hong_Kong:20240418T180000
DTEND;TZID=Asia/Hong_Kong:20240418T235900
DTSTAMP:20260423T163323
CREATED:20240415T054807Z
LAST-MODIFIED:20240415T054810Z
UID:10002216-1713463200-1713484740@www.thewanch.hk
SUMMARY:6pm Acoustic Happy Hour Features John of RE'CALL 8pm The Sinister Left 9pm The Budgie Smugglers Reunion 10:30pm Levelling Out
DESCRIPTION:The music starts at 6pm with Acoustic Happy Hour featuring John of RE’CALL performing acoustic folk & rock favorites. 8pm The Sinister Left performs original rock. 9pm The Budgie Smugglers get together for as reunion show performing Australian rock favorites. 10:30pm Levelling Out performs 70’s\, 80’s\, & 90’s rock favorites. Happy Hour is from 3pm till 8pm & our kitchen staff is serving our ala carte menu from 3pm till 9:40pm.  We thank you for your continued support of The Wanch & The HK Music Scene.
URL:https://www.thewanch.hk/hk/event/6pm-acoustic-happy-hour-features-john-of-recall-8pm-the-sinister-left-9pm-the-budgie-smugglers-reunion-1030pm-levelling-out/
CATEGORIES:Blues,Classic Rock,Folk Rock,Happy Hour
ATTACH;FMTTYPE=image/jpeg:https://www.thewanch.hk/wp-content/uploads/2024/04/Daily-Events-3-bands-4.jpg
END:VEVENT
BEGIN:VEVENT
DTSTART;TZID=Asia/Hong_Kong:20240419T180000
DTEND;TZID=Asia/Hong_Kong:20240419T235900
DTSTAMP:20260423T163323
CREATED:20240415T061217Z
LAST-MODIFIED:20240415T061220Z
UID:10002217-1713549600-1713571140@www.thewanch.hk
SUMMARY:6pm Acoustic Happy Hour Features Bryant 8pm CLS 9pm Supernaut 10:30pm Jimmy2Times 12am Rubicube
DESCRIPTION:The Wanch kicks off the weekend starting at 6pm with Acoustic Happy Hour featuring Bryant performing acoustic folk & rock favorites. 8pm CLS performs fusion favorites from Weather Report\, Chick Corea\, & Others. 9pm Black Sabbath Tribute Band Supernaut perform the music of Black Sabbath. 10:30pm Jimmy2Times returns performing 80’s & 90’s Brit Rock. 12am Rubicube performs favorites from The Foo Fighters\, ACDC\, Pearl Jam\, Green Day\, & Originals. Happy Hour is from 3pm till 8pm & our kitchen staff is serving our ala carte menu from 3pm till 10:40pm. All this from The Wanch Where Music Means Something.
URL:https://www.thewanch.hk/hk/event/6pm-acoustic-happy-hour-features-bryant-8pm-cls-9pm-supernaut-1030pm-jimmy2times-12am-rubicube/
CATEGORIES:Blues,Classic Rock,Folk Rock,fusion,Happy Hour,Heavy Metal,Jazz,Modern Rock,Original Music
ATTACH;FMTTYPE=image/jpeg:https://www.thewanch.hk/wp-content/uploads/2024/04/Themed-Events.jpg
END:VEVENT
BEGIN:VEVENT
DTSTART;TZID=Asia/Hong_Kong:20240420T180000
DTEND;TZID=Asia/Hong_Kong:20240420T235900
DTSTAMP:20260423T163323
CREATED:20240415T071733Z
LAST-MODIFIED:20240415T071737Z
UID:10002218-1713636000-1713657540@www.thewanch.hk
SUMMARY:6pm Chorus School Of Rock 9pm Retrobates Reunion 10:30pm Helter Skelter 12am RE'CALL
DESCRIPTION:The music starts at 6pm as students from Chorus Music School perform Classic & Modern rock. 9pm Retrobates (Brendan\, Koya\, Dave\, & John) get together for a one-off reunion show performing favorites from Led Zeppelin\, The Who\, Queen & Other favorites. 10:30pm Helter Skelter performs blues favorites & originals. 12am RE’CALL performs favorites from Pearl Jam\, Soundgarden\, Limp Bizkit\, Distrurbed\, & Originals. Happy Hour is from 3pm till 8pm & our kitchen staff is serving  our ala carte menu from 3pm till 10:40pm. We thank you for your continued support of The Wanch & The HK Live Music Scene.
URL:https://www.thewanch.hk/hk/event/6pm-chorus-school-of-rock-9pm-retrobates-reunion-1030pm-helter-skelter-12am-recall/
CATEGORIES:Blues,Classic Rock,Folk Rock,Happy Hour,Heavy Metal,Modern Rock,Original Music
ATTACH;FMTTYPE=image/jpeg:https://www.thewanch.hk/wp-content/uploads/2024/04/Themed-Events-1.jpg
END:VEVENT
BEGIN:VEVENT
DTSTART;TZID=Asia/Hong_Kong:20240421T140000
DTEND;TZID=Asia/Hong_Kong:20240421T235900
DTSTAMP:20260423T163323
CREATED:20240416T054452Z
LAST-MODIFIED:20240421T061313Z
UID:10002219-1713708000-1713743940@www.thewanch.hk
SUMMARY:2pm Wanch Opens 4pm Acoustic Happy Hour Features Samantha 6pm Armie & Friends 8PM Darthreider & The Bassons (From Japan) 9pm Kissing Fish 10:30pm Maryjane & The Gang
DESCRIPTION:The Wanch opens at 2pm with our kitchen staff serving our ala carte menu from 2pm till 9:40pm & Happy Hour is from 3pm till 8pm. The music starts at 4pm with Acoustic Happy Hour featuring Samantha performing classic & standard rock & pop favorites. 6pm Armie & Friends perform 50’s\, 60’s\, & 70’s rock favorites. 8pm Darthreider & The Bassons from Japan perform original rock. 9pm Kissing Fish perform original indie rock. 10:30pm Maryjane & The Gang perform favorites from The Cure\, Blondie\, The Police\, Alanis Morissette\, & Originals. All this & No Cover Charge from The Wanch. HK’s Unofficial Home Of Live Music.
URL:https://www.thewanch.hk/hk/event/2pm-wanch-opens-4pm-acoustic-happy-hour-features-samantha-6pm-armie-friends-9pm-kissing-fish-1030pm-maryjane-the-gang/
CATEGORIES:Blues,Classic Rock,Folk Rock,Happy Hour,Modern Rock,Original Music
ATTACH;FMTTYPE=image/jpeg:https://www.thewanch.hk/wp-content/uploads/2024/04/Daily-Events-4-bands-2.jpg
END:VEVENT
END:VCALENDAR