BEGIN:VCALENDAR
VERSION:2.0
PRODID:-//The Wanch - ECPv6.15.20//NONSGML v1.0//EN
CALSCALE:GREGORIAN
METHOD:PUBLISH
X-WR-CALNAME:The Wanch
X-ORIGINAL-URL:https://www.thewanch.hk/hk
X-WR-CALDESC:The Wanch的活动
REFRESH-INTERVAL;VALUE=DURATION:PT1H
X-Robots-Tag:noindex
X-PUBLISHED-TTL:PT1H
BEGIN:VTIMEZONE
TZID:Asia/Hong_Kong
BEGIN:STANDARD
TZOFFSETFROM:+0800
TZOFFSETTO:+0800
TZNAME:HKT
DTSTART:20240101T000000
END:STANDARD
END:VTIMEZONE
BEGIN:VEVENT
DTSTART;TZID=Asia/Hong_Kong:20250810T150000
DTEND;TZID=Asia/Hong_Kong:20250814T213000
DTSTAMP:20260423T163356
CREATED:20250810T074006Z
LAST-MODIFIED:20250810T074008Z
UID:10002998-1754838000-1755207000@www.thewanch.hk
SUMMARY:The Wanch Surf & Turf Special Aug 10th thru Aug 14th 3:00pm till 9:30pm Daily.
DESCRIPTION:Join us at The Wanch for our Surf & Turf dinner special for sharing. Our homemade Surf & Turf special consists of Tiger Prawns\, Iberico Pork\, Beef Rib\, Pork Sausages\, Chicken Breast\, Coleslaw\, & Fries. All for $298.00. For an extra $260.00 you can have a bottle of Geoff Merrill Pimpala Shiraz. We look forward to seeing you soon.
URL:https://www.thewanch.hk/hk/event/the-wanch-surf-turf-special-aug-10th-thru-aug-14th-300pm-till-930pm-daily/
CATEGORIES:Dinner Special
ATTACH;FMTTYPE=image/jpeg:https://www.thewanch.hk/wp-content/uploads/2025/03/surf-turf.jpg
END:VEVENT
BEGIN:VEVENT
DTSTART;TZID=Asia/Hong_Kong:20250811T113000
DTEND;TZID=Asia/Hong_Kong:20250815T150000
DTSTAMP:20260423T163356
CREATED:20250810T073612Z
LAST-MODIFIED:20250810T073615Z
UID:10002997-1754911800-1755270000@www.thewanch.hk
SUMMARY:The Wanch Weekly Set Lunch Menu Aug 11th thru Aug 15th 11:30am till 3pm Daily
DESCRIPTION:Join us at The Wanch this week for a hot homemade lunch in a relaxing setting. Start off your meal with a homemade soup or salad. The you have your choice from four homemade mains: Fish & Chips\, Stone-Baked Spicy Seafood Pizza (Vegetarian Option Available)\, Indian Butter Chicken\, or Seared Rib-Eye Steak. Then top off your meal with a homemade desert & iced lemon tea. Busy in the office then call 3-692-5933 and we will prepare your lunch for take away and five you a 10% discount. We look forward to serving you this week.
URL:https://www.thewanch.hk/hk/event/the-wanch-weekly-set-lunch-menu-aug-11th-thru-aug-15th-1130am-till-3pm-daily/
CATEGORIES:Set Lunch
ATTACH;FMTTYPE=image/jpeg:https://www.thewanch.hk/wp-content/uploads/2024/05/indian-butter-chicken-scaled.jpg
END:VEVENT
BEGIN:VEVENT
DTSTART;TZID=Asia/Hong_Kong:20250811T180000
DTEND;TZID=Asia/Hong_Kong:20250811T235900
DTSTAMP:20260423T163356
CREATED:20250807T065955Z
LAST-MODIFIED:20250807T065958Z
UID:10002994-1754935200-1754956740@www.thewanch.hk
SUMMARY:7pm Acoustic Happy Hour Features Steve 9pm Jam Night Hosted by Jordan & Friends
DESCRIPTION:Music starts at 7pm with Acoustic Happy Hour Featuring Steve 9pm Jam Night Hosted by Jordan & Friends. All bands & musicians welcome. Call 3692-5933 after 3:30pm to reserve a slot. Happy Hour is from 3pm till 8pm & the kitchen staff is serving our ala carte menu from 3pm till 9:40pm. No Cover Charge. We thank you for your support of The Wanch & The HK Live Music Scene.
URL:https://www.thewanch.hk/hk/event/7pm-acoustic-happy-hour-features-steve-9pm-jam-night-hosted-by-jordan-friends/
CATEGORIES:Acoustic Music,Classic Rock,Happy Hour,Jam night
ATTACH;FMTTYPE=image/jpeg:https://www.thewanch.hk/wp-content/uploads/2025/08/Iris-acoustic.jpg
END:VEVENT
BEGIN:VEVENT
DTSTART;TZID=Asia/Hong_Kong:20250812T180000
DTEND;TZID=Asia/Hong_Kong:20250812T235900
DTSTAMP:20260423T163356
CREATED:20250807T072827Z
LAST-MODIFIED:20250807T072829Z
UID:10002995-1755021600-1755043140@www.thewanch.hk
SUMMARY:7pm Acoustic Happy Hour Featuring LarryZ 9pm Jenny & Never Too Late 10:30pm Fourplay
DESCRIPTION:Music starts at 7pm with Acoustic Happy Hour featuring LarryZ performing acoustic rock favorites. 9pm Jenny & Never Too Late perform Pop hits and Originals. 10:30pm Fourplay performs rock favorites from ACDC\, Guns N Roses\, Metallica\, Heart\, & other rock favorites. Happy Hour is from 3pm till 8pm & our kitchen is serving our ala carte menu from 3pm till 9:40pm. No Cover Charge. We thank you for your continued support of The WSanch & The HK Live Music Scene.
URL:https://www.thewanch.hk/hk/event/7pm-acoustic-happy-hour-featuring-larryz-9pm-jenny-never-too-late-1030pm-fourplay/
CATEGORIES:Acoustic Music,Classic Rock,Happy Hour,Modern Rock
ATTACH;FMTTYPE=image/jpeg:https://www.thewanch.hk/wp-content/uploads/2025/08/jenny-Aug-12.jpg
END:VEVENT
BEGIN:VEVENT
DTSTART;TZID=Asia/Hong_Kong:20250813T180000
DTEND;TZID=Asia/Hong_Kong:20250813T235900
DTSTAMP:20260423T163356
CREATED:20250807T074736Z
LAST-MODIFIED:20250807T074738Z
UID:10002996-1755108000-1755129540@www.thewanch.hk
SUMMARY:7pm Acoustic Happy Hour Featuring Bernard 9pm he Wanch Jazz Series Features Phil D & The Band Tickets $300 Advance $350 At The Door 10:30pm El Kapitan & The Privates
DESCRIPTION:The music starts at 7pm with Acoustic Happy Hour featuring Bernard performing acoustic rock favorites. 9pm The Wanch Jazz Series features Phil D & The Band perform African Soul & Jazz. Tickets are $300 in advance and you receive 1 free drink & a $100 Food Voucher. Tickets are available through Eventbrite or Ticketflap. Tickets are $350 at The Door. 10:30pm El Kapitan & The Privates perform modern & classic rock favorites. Happy Hour is from 3pm till 8pm & our kitchen staff is serving our ala carte menu from 3pm till 9:40pm. We thank you for supporting The Wanch & HK’s Live Music Scene
URL:https://www.thewanch.hk/hk/event/7pm-acoustic-happy-hour-featuring-bernard-9pm-he-wanch-jazz-series-features-phil-d-the-band-tickets-300-advance-350-at-the-door-1030pm-el-kapitan-the-privates/
CATEGORIES:Acoustic Music,Classic Rock,fusion,Happy Hour,Jazz,Modern Rock
ATTACH;FMTTYPE=image/jpeg:https://www.thewanch.hk/wp-content/uploads/2025/08/Jazz-Aug-13.jpg
END:VEVENT
BEGIN:VEVENT
DTSTART;TZID=Asia/Hong_Kong:20250814T180000
DTEND;TZID=Asia/Hong_Kong:20250814T235900
DTSTAMP:20260423T163356
CREATED:20250811T042516Z
LAST-MODIFIED:20250811T042519Z
UID:10002999-1755194400-1755215940@www.thewanch.hk
SUMMARY:7pm Acoustic Happy Hour Featuring Eduin 9pm Yardley Brothers Live Featuring Jarad Bibler\, Dr. Olab\, MIS\, & Bad Actors
DESCRIPTION:Music starts at 7pm with Acoustic Happy Hour Featuring Eduin performing acoustic rock favorites. 9pm Yardley Brothers Live features original music from Jarad Bibler\, 9:45pm Dr\, Olab\, 10:30pm MIS\, & 11:15pm Bad Actors. Yardley Brothers Live Session Ale is $58/pint all night long. Happy Hour is from 3pm till 8pm and our kitchen staff is serving our ala carte menu from 3pm till 9:40pm. No Cover Charge. We thank you for supporting The Wanch & HK’s Live Music Scene
URL:https://www.thewanch.hk/hk/event/7pm-acoustic-happy-hour-featuring-eduin-9pm-yardley-brothers-live-featuring-jarad-bibler-dr-olab-mis-bad-actors/
CATEGORIES:Acoustic Music,Happy Hour,Original Music,Yardley Brothers Live
ATTACH;FMTTYPE=image/jpeg:https://www.thewanch.hk/wp-content/uploads/2025/08/Yardley-Aug-14.jpg
END:VEVENT
BEGIN:VEVENT
DTSTART;TZID=Asia/Hong_Kong:20250815T180000
DTEND;TZID=Asia/Hong_Kong:20250815T235900
DTSTAMP:20260423T163356
CREATED:20250811T044559Z
LAST-MODIFIED:20250811T044602Z
UID:10003000-1755280800-1755302340@www.thewanch.hk
SUMMARY:7pm Acoustic Happy Hour Featuring Bryant 9pm Sham Pain Buddha 10:30pm Indigo Town 12am Straight Up
DESCRIPTION:The Wanch kicks off the weekend at 7pm with Acoustic Happy Hour featuring Bryant performing originals & acoustic rock favorites. 9pm Sham Pain Buddha performs 70’s & 80’s favorites from The Cult\, ACDC\, Led Zeppelin\, Billy Idol\, and other rock favorites. 10:30pm Indigo Town returns to The Wanch performing dance rock\, funk\, & originals. 12am Straight Up performs rock favorites from the 70’s\, 80’s\, 90’s & 00’s. Happy Hour is from 3pm till 8pm & our kitchen staff is serving our ala carte menu from 3pm till 10:40pm. No Cover Charge. All from HK’s Home Of Continuous Music…. The Wanch
URL:https://www.thewanch.hk/hk/event/7pm-acoustic-happy-hour-featuring-bryant-9pm-sham-pain-buddha-1030pm-indigo-town-12am-straight-up/
CATEGORIES:Acoustic Music,Classic Rock,Funk,Grunge Rock,Happy Hour,Indie Rock,Modern Rock,Original Music
ATTACH;FMTTYPE=image/jpeg:https://www.thewanch.hk/wp-content/uploads/2025/08/Themed-Events.jpg
END:VEVENT
BEGIN:VEVENT
DTSTART;TZID=Asia/Hong_Kong:20250816T140000
DTEND;TZID=Asia/Hong_Kong:20250816T183000
DTSTAMP:20260423T163356
CREATED:20250811T051933Z
LAST-MODIFIED:20250811T051935Z
UID:10003001-1755352800-1755369000@www.thewanch.hk
SUMMARY:2pm Rock & Roll Brunch at The Wanch 5pm Acoustic Happy Hour Featuring Benjie
DESCRIPTION:On Saturday The Wanch opens its doors at 2pm and our kitchen staff is serving our ala carte menu from 2:30pm till 10:40pm. Happy Hour is from 2pm till 8pm. 5pm Acoustic Happy Hour Features Benjie performing classic acoustic rock. So if your looking for a place to hang out in a relaxed atmosphere then The Wanch is the place
URL:https://www.thewanch.hk/hk/event/2pm-rock-roll-brunch-at-the-wanch-5pm-acoustic-happy-hour-featuring-benjie-2/
CATEGORIES:Acoustic Music,Brunch,Happy Hour
ATTACH;FMTTYPE=image/jpeg:https://www.thewanch.hk/wp-content/uploads/2022/07/The-Wanch-Menu-30-June-20229196-scaled.jpg
END:VEVENT
BEGIN:VEVENT
DTSTART;TZID=Asia/Hong_Kong:20250816T180000
DTEND;TZID=Asia/Hong_Kong:20250816T235900
DTSTAMP:20260423T163356
CREATED:20250811T054207Z
LAST-MODIFIED:20250814T050124Z
UID:10003002-1755367200-1755388740@www.thewanch.hk
SUMMARY:7pm Acoustic Happy Hour Featuring Steve 9pm Policia (Police Tribute Band) 10:30pm Supernaut (Black Sabbath Tribute Band) 12am RE'CALL
DESCRIPTION:The Wanch has a full night of music for you starting at 7pm with Acoustic Happy Hour Featuring Steve performing originals & acoustic rock favorites. 9pm Policia (Police Tribute Band) performs favorites from The Police. 10:30pm Black Sabbath Tribute Band Supernaut performs favorites from Black Sabbath. 12am RE’CALL performs favorites from Limp Biskit\, Soundgarden\, Iron Maiden\, Pearl Jam\, ACDC\, Originals\, & other rock favorites. Happy Hour is from 2pm till 8pm & our kitchen staff is serving our ala carte menu from 2:30pm till 10:40pm. No Cover Charge. We thank you for your continued support of The Wanch & The HK Live Music Scene
URL:https://www.thewanch.hk/hk/event/7pm-acoustic-happy-hour-featuring-steve-9pm-u2d2-u2-tribute-band-1030pm-supernaut-black-sabbath-tribute-band-12am-recall/
CATEGORIES:Acoustic Music,Classic Rock,Grunge Rock,Happy Hour,Heavy Metal,Modern Rock,Original Music
ATTACH;FMTTYPE=image/jpeg:https://www.thewanch.hk/wp-content/uploads/2025/08/Themed-Events-1.jpg
END:VEVENT
BEGIN:VEVENT
DTSTART;TZID=Asia/Hong_Kong:20250817T140000
DTEND;TZID=Asia/Hong_Kong:20250817T173000
DTSTAMP:20260423T163356
CREATED:20250816T075600Z
LAST-MODIFIED:20250816T075602Z
UID:10003009-1755439200-1755451800@www.thewanch.hk
SUMMARY:2pm Brunch at The Wanch 4:30pm Pop & Soft Rock Featuring Samantha
DESCRIPTION:The Wanch opens its doors at 2pm with our kitchen staff serving our ala carte menu from 2:30pm till 9:40pm and Happy Hour is from 2pm till 8pm. 4:30pm Samantha performs pop & soft rock favorites. So if you’re looking a place with great food\, drinks\, & music in a relaxing atmosphere The Wanch is the place to be. We look forward to seeing you soon.
URL:https://www.thewanch.hk/hk/event/2pm-brunch-at-the-wanch-430pm-pop-soft-rock-featuring-samantha-2/
CATEGORIES:Brunch,Classic Rock,Happy Hour
ATTACH;FMTTYPE=image/jpeg:https://www.thewanch.hk/wp-content/uploads/2024/07/samantha.jpg
END:VEVENT
BEGIN:VEVENT
DTSTART;TZID=Asia/Hong_Kong:20250817T150000
DTEND;TZID=Asia/Hong_Kong:20250821T213000
DTSTAMP:20260423T163356
CREATED:20250814T064035Z
LAST-MODIFIED:20250814T064205Z
UID:10003008-1755442800-1755811800@www.thewanch.hk
SUMMARY:The Wanch Surf & Turf Special Aug 17th thru Aug 21st 3:00pm till 9:30pm Daily.
DESCRIPTION:Join us at The Wanch for our Surf & Turf dinner special for sharing. Our homemade Surf & Turf special consists of Tiger Prawns\, Iberico Pork\, Beef Rib\, Pork Sausages\, Chicken Breast\, Coleslaw\, & Fries. All for $298.00. For an extra $260.00 you can have a bottle of Geoff Merrill Pimpala Shiraz. We look forward to seeing you soon.
URL:https://www.thewanch.hk/hk/event/the-wanch-surf-turf-special-aug-17th-thru-aug-21st-300pm-till-930pm-daily/
CATEGORIES:Dinner Special
ATTACH;FMTTYPE=image/jpeg:https://www.thewanch.hk/wp-content/uploads/2025/03/surf-turf.jpg
END:VEVENT
BEGIN:VEVENT
DTSTART;TZID=Asia/Hong_Kong:20250817T180000
DTEND;TZID=Asia/Hong_Kong:20250817T235900
DTSTAMP:20260423T163356
CREATED:20250811T061441Z
LAST-MODIFIED:20250811T061444Z
UID:10003003-1755453600-1755475140@www.thewanch.hk
SUMMARY:6pm Jizza 9pm Heartbreakers 10:30pm ANNticipate
DESCRIPTION:The Wanch has a wide variety of music for you this Sunday starting at 6pm with Jizza performing classic rock\, & dance rock favorites. 9pm Heartbreakers perform favorites from Led Zeppelin\, Pearl Jam\, Deep Purple\, Rush\, ACDC\, & other rock favorites. 10:30pm ANNticipate performs rock favorites from the 80’s\, 90’s\, & 00’s. Happy Hour is from 2pm till 8pm & our kitchen staff is serving our ala carte menu from 2:30pm till 9:40pm. No Cover Charge from HK’s Unofficial Home Of Live \,Music.
URL:https://www.thewanch.hk/hk/event/6pm-jizza-9pm-heartbreakers-1030pm-annticipate/
CATEGORIES:Classic Rock,Grunge Rock,Happy Hour,Heavy Metal,Indie Rock,Modern Rock
ATTACH;FMTTYPE=image/jpeg:https://www.thewanch.hk/wp-content/uploads/2025/08/Daily-Events-3-bands-3.jpg
END:VEVENT
END:VCALENDAR