BEGIN:VCALENDAR
VERSION:2.0
PRODID:-//The Wanch - ECPv6.15.20//NONSGML v1.0//EN
CALSCALE:GREGORIAN
METHOD:PUBLISH
X-ORIGINAL-URL:https://www.thewanch.hk/hk
X-WR-CALDESC:The Wanch的活动
REFRESH-INTERVAL;VALUE=DURATION:PT1H
X-Robots-Tag:noindex
X-PUBLISHED-TTL:PT1H
BEGIN:VTIMEZONE
TZID:Asia/Hong_Kong
BEGIN:STANDARD
TZOFFSETFROM:+0800
TZOFFSETTO:+0800
TZNAME:HKT
DTSTART:20240101T000000
END:STANDARD
END:VTIMEZONE
BEGIN:VEVENT
DTSTART;TZID=Asia/Hong_Kong:20251027T113000
DTEND;TZID=Asia/Hong_Kong:20251031T150000
DTSTAMP:20260425T214019
CREATED:20251026T065816Z
LAST-MODIFIED:20251026T065818Z
UID:10003122-1761564600-1761922800@www.thewanch.hk
SUMMARY:Wanch Set Lunch Menu Oct 27th thru Oct 31st 1130am till 3pm Daily Except Nov 29th Holiday
DESCRIPTION:The Wanch is serving you a hot homemade lunch. Start your lunch with a homemade soup or salad. Then you have your choice of four homemade mains: Spaghetti Carbonara (Vegetarian Option Available)\, Lightly-Spiced Cottage Pie\, Stuffed Chicken Parmesan\, or Grilled Halibut. Then top off your meal with a homemade desert and iced lemon tea. Busy in the office then call 3692-5933 and we will prepare your lunch for take-away and give you a 10% discount. We look forward to serving you this week.
URL:https://www.thewanch.hk/hk/event/wanch-set-lunch-menu-oct-27th-thru-oct-31st-1130am-till-3pm-daily-except-nov-29th-holiday/
CATEGORIES:Set Lunch
ATTACH;FMTTYPE=image/jpeg:https://www.thewanch.hk/wp-content/uploads/2024/05/grilled-halibut-scaled.jpg
END:VEVENT
BEGIN:VEVENT
DTSTART;TZID=Asia/Hong_Kong:20251027T180000
DTEND;TZID=Asia/Hong_Kong:20251027T235900
DTSTAMP:20260425T214019
CREATED:20251024T042938Z
LAST-MODIFIED:20251024T042941Z
UID:10003119-1761588000-1761609540@www.thewanch.hk
SUMMARY:7pm Acoustic Happy Hour Featuring Steve 9pm Jam Night Hosted by Iris & Rubicube
DESCRIPTION:Music starts at 7pm with Acoustic Happy Hour Featuring Steve 9pm Jam Night Hosted by Iris & Rubicube. All bands & musicians welcome. Call 3692-5933 after 3:30pm to reserve a slot or just turn up and we will get you on stage. Happy Hour is from 3pm till 8pm & the kitchen staff is serving our ala carte menu from 3pm till 9:40pm. No Cover Charge. We thank you for your support of The Wanch & The HK Live Music Scene.
URL:https://www.thewanch.hk/hk/event/7pm-acoustic-happy-hour-featuring-steve-9pm-jam-night-hosted-by-iris-rubicube-32/
CATEGORIES:Acoustic Music,Classic Rock,Happy Hour,Jam night
ATTACH;FMTTYPE=image/jpeg:https://www.thewanch.hk/wp-content/uploads/2025/09/Jam-Nite.jpg
END:VEVENT
BEGIN:VEVENT
DTSTART;TZID=Asia/Hong_Kong:20251028T160000
DTEND;TZID=Asia/Hong_Kong:20251028T235900
DTSTAMP:20260425T214019
CREATED:20251024T051828Z
LAST-MODIFIED:20251024T051830Z
UID:10003121-1761667200-1761695940@www.thewanch.hk
SUMMARY:7pm Acoustic Happy Hour Featuring LarryZ 9pm Fully Plugged In 10:30pm Straight Up
DESCRIPTION:The music starts at 7pm with Acoustic Happy Hour featuring LarryZ performing acoustic rock favorites. 9pm Fully Plugged In performs 70’s-90’s rock in a laid-back setting. 10:30pm Straight Up performs modern rock from ACDC\, Blondie\, Green Day\, and other rock favorites. Happy Hour is from 3pm till 8pm & our kitchen staff is serving our ala carte menu from 3pm till 9:40pm. No Cover Charge. We thank you for your continued support of The Wanch & HK’s Live Music Scene.
URL:https://www.thewanch.hk/hk/event/7pm-acoustic-happy-hour-featuring-larryz-9pm-fully-plugged-in-1030pm-straight-up/
CATEGORIES:Acoustic Music,Classic Rock,Happy Hour,Modern Rock
ATTACH;FMTTYPE=image/jpeg:https://www.thewanch.hk/wp-content/uploads/2025/10/Daily-Events-3-bands-6.jpg
END:VEVENT
BEGIN:VEVENT
DTSTART;TZID=Asia/Hong_Kong:20251029T140000
DTEND;TZID=Asia/Hong_Kong:20251029T180000
DTSTAMP:20260425T214019
CREATED:20251026T071230Z
LAST-MODIFIED:20251026T071232Z
UID:10003123-1761746400-1761760800@www.thewanch.hk
SUMMARY:2pm Brunch at The Wanch 5pm Acoustic Happy Hour Featuring Samantha
DESCRIPTION:Looking for a place to hang out with family & friends on The Chung Yeung Festival The Wanch is the place. Doors open at 2pm with Happy Hour from 2pm till 8pm and our kitchen staff is serving our ala carte menu from 2:30pm till 9:40pm. At 5pm Samantha performs pop and soft rock favorites. We look forward to seeing you this afternoon.
URL:https://www.thewanch.hk/hk/event/2pm-brunch-at-the-wanch-5pm-acoustic-happy-hour-featuring-samantha/
CATEGORIES:Acoustic Music,Brunch,Happy Hour
ATTACH;FMTTYPE=image/jpeg:https://www.thewanch.hk/wp-content/uploads/2024/07/samantha.jpg
END:VEVENT
BEGIN:VEVENT
DTSTART;TZID=Asia/Hong_Kong:20251029T180000
DTEND;TZID=Asia/Hong_Kong:20251029T235900
DTSTAMP:20260425T214019
CREATED:20251026T073112Z
LAST-MODIFIED:20251026T073114Z
UID:10003124-1761760800-1761782340@www.thewanch.hk
SUMMARY:7pm Acoustic Happy Hour Featuring Iris 9pm The Goldsmiths 10:30pm Gonzales Musika
DESCRIPTION:The music continues at 7pm with Acoustic Happy Hour Featuring Iris performing acoustic rock and originals. 9pm The Goldsmiths perform acoustic rock favorites and originals. 10:30pm Gonzales Musika performs favorites from the 70’s-90’s rock and originals. Happy Hour is from 2pm till 8pm and our kitchen staff is serving our ala carte menu from 2:30pm till 9:40pm & No Cover Charge. We thank you for supporting The Wanch & The HK Live Music Scene.
URL:https://www.thewanch.hk/hk/event/7pm-acoustic-happy-hour-featuring-iris-9pm-the-goldsmiths-1030pm-gonzales-musika/
CATEGORIES:Acoustic Music,Classic Rock,Grunge Rock,Happy Hour,Indie Rock,Modern Rock,Original Music
ATTACH;FMTTYPE=image/jpeg:https://www.thewanch.hk/wp-content/uploads/2025/10/Daily-Events-3-bands-7.jpg
END:VEVENT
BEGIN:VEVENT
DTSTART;TZID=Asia/Hong_Kong:20251030T150000
DTEND;TZID=Asia/Hong_Kong:20251030T235900
DTSTAMP:20260425T214019
CREATED:20251027T053613Z
LAST-MODIFIED:20251027T053615Z
UID:10003125-1761836400-1761868740@www.thewanch.hk
SUMMARY:3pm Closed For Private Event
DESCRIPTION:This Thursday from 3pm The Wanch is closed for a private event. We will be back rocking on Friday.
URL:https://www.thewanch.hk/hk/event/3pm-closed-for-private-event/
ATTACH;FMTTYPE=image/jpeg:https://www.thewanch.hk/wp-content/uploads/2024/02/IMG_20220603_1912452-scaled.jpg
END:VEVENT
BEGIN:VEVENT
DTSTART;TZID=Asia/Hong_Kong:20251031T180000
DTEND;TZID=Asia/Hong_Kong:20251031T235900
DTSTAMP:20260425T214019
CREATED:20251027T063555Z
LAST-MODIFIED:20251031T044238Z
UID:10003126-1761933600-1761955140@www.thewanch.hk
SUMMARY:Rocky Horror Halloween at The Wanch 6:30pm Acoustic Happy Hour Featuring Bryant 8pm Shunsuke & The Sharks 9pm The Hard Luck Kings 10:30pm Helium 3 12am Rubicube
DESCRIPTION:The Wanch Rocks your Halloween as we transform into Rocky Horror Halloween. Dress as your favorite character of the movie and receive a free shot. You could also win a prize for our Best Theme Dressed Costume. Music starts at 6:30pm with Acoustic Happy Hour featuring Bryant performing acoustic rock favorites.8pm Shunsuke & The Sharks perform classic rock. 9pm The Hard Luck Kings perform original rock. 10:30pm Helium 3 performs favorites from INXS\, David Bowie\, The Killers\, and other rock favorites. 12am Rubicube keeps the Halloween party going with favorites from The Foo Fighters\, Jimi Hendrix\, Green Day\, Aerosmith\, Originals and other rock favorites. Happy Hour is from 3pm till 8pm & our kitchen staff is serving our ala carte menu from 3pm till 10:40pm. No Cover Charge. We look forward to rocking your Halloween.
URL:https://www.thewanch.hk/hk/event/rocky-horror-halloween-at-the-wanch-7pm-acoustic-happy-hour-featuring-bryant-9pm-the-hard-luck-kings-1030pm-helium-3-12am-rubicube/
CATEGORIES:Acoustic Music,Classic Rock,Grunge Rock,Happy Hour,Modern Rock,Original Music
ATTACH;FMTTYPE=image/jpeg:https://www.thewanch.hk/wp-content/uploads/2025/10/halloween.jpg
END:VEVENT
BEGIN:VEVENT
DTSTART;TZID=Asia/Hong_Kong:20251101T140000
DTEND;TZID=Asia/Hong_Kong:20251101T183000
DTSTAMP:20260425T214019
CREATED:20251027T065323Z
LAST-MODIFIED:20251027T065325Z
UID:10003127-1762005600-1762021800@www.thewanch.hk
SUMMARY:2pm Rock & Roll Brunch at The Wanch 4pm Acoustic Happy Hour Featuring Benjie
DESCRIPTION:Ther Wanch opens its doors at 2pm with Happy Hour from 2pm till 8pm and our kitchen staff is serving our ala carte menu from 2:30pm till 10:40pm. At 4pm it’s Acoustic Happy Hour featuring Benjie performing classic folk rock favorites. No Cover Charge. So if you’re looking for great food\, drink\, & music in a relaxing atmosphere The Wanch is the place.
URL:https://www.thewanch.hk/hk/event/2pm-rock-roll-brunch-at-the-wanch-4pm-acoustic-happy-hour-featuring-benjie/
CATEGORIES:Acoustic Music,Brunch,Happy Hour
ATTACH;FMTTYPE=image/jpeg:https://www.thewanch.hk/wp-content/uploads/2022/07/The-Wanch-Menu-30-June-20229189-scaled.jpg
END:VEVENT
BEGIN:VEVENT
DTSTART;TZID=Asia/Hong_Kong:20251101T190000
DTEND;TZID=Asia/Hong_Kong:20251101T235900
DTSTAMP:20260425T214019
CREATED:20251027T073523Z
LAST-MODIFIED:20251027T073525Z
UID:10003128-1762023600-1762041540@www.thewanch.hk
SUMMARY:7pm Acoustic Happy Hour Featuring Steve 9pm Shark Biscuit 10:30pm The Poolcleaners 12am RE'CALL
DESCRIPTION:The Wanch gets November off to a rocking start at 7pm with Acoustic Happy Hour featuring Steve performing acoustic rock and originals. 9pm Shark Biscuit performs Australian Rock favorites. 10:30pm The Poolcleaners rock The Wanch with favorites from the 80’s & 90’s. 12am RE’CALL rocks till the early housrs with favorites from Soundgarden\, Limp Biskit\, System Of The Down\, Rage Against The Machine\, Pearl Jam\, Originals & Other Rock Favorites. Happy Hour is from 2pm till 8pm & Our Kitchen Staff is serving our ala carte menue from 2:30pm till 10:40pm. No Cover Charge from HK’s Unofficial Home Of Live Music.
URL:https://www.thewanch.hk/hk/event/7pm-acoustic-happy-hour-featuring-steve-9pm-shark-biscuit-1030pm-the-poolcleaners-12am-recall/
CATEGORIES:Acoustic Music,Classic Rock,Grunge Rock,Happy Hour,Heavy Metal,Modern Rock,Original Music
ATTACH;FMTTYPE=image/jpeg:https://www.thewanch.hk/wp-content/uploads/2025/10/Daily-Events-4-bands-6.jpg
END:VEVENT
BEGIN:VEVENT
DTSTART;TZID=Asia/Hong_Kong:20251102T140000
DTEND;TZID=Asia/Hong_Kong:20251102T174500
DTSTAMP:20260425T214019
CREATED:20251029T052532Z
LAST-MODIFIED:20251029T052534Z
UID:10003129-1762092000-1762105500@www.thewanch.hk
SUMMARY:2pm Brunch at The Wanch 4:30pm Acoustic Happy Hour Featuring Samantha
DESCRIPTION:Looking for a place to hang out with friends with great food\, drink\, music\, & a relaxing atmosphere. Then The Wanch is the place to be. Doors open at 2pm with Happy Hour from 2pm till 8pm & our kitchen staff is serving our ala carte menu from 2:30pm till 9:40pm. At 4:30pm it’s Acoustic Happy Hour featuring Samantha performing pop & soft rock favorites. No Cover Charge. We look forward to seeing you this Sunday.
URL:https://www.thewanch.hk/hk/event/2pm-brunch-at-the-wanch-430pm-acoustic-happy-hour-featuring-samantha/
CATEGORIES:Acoustic Music,Brunch,Happy Hour
ATTACH;FMTTYPE=image/jpeg:https://www.thewanch.hk/wp-content/uploads/2022/08/20220819_213913.jpg
END:VEVENT
BEGIN:VEVENT
DTSTART;TZID=Asia/Hong_Kong:20251102T180000
DTEND;TZID=Asia/Hong_Kong:20251102T235900
DTSTAMP:20260425T214019
CREATED:20251029T053939Z
LAST-MODIFIED:20251029T054433Z
UID:10003130-1762106400-1762127940@www.thewanch.hk
SUMMARY:6pm Jizza 9pm Hit Parade 10:30pm Maryjane & The Gang
DESCRIPTION:The Wanch rocks your Sunday starting at 6pm with Jizza performing dance and modern rock favorites. 9pm Hit Parade returns performing 70’s Classic Rock & Motown favorites. 10:30pm Maryjane & The Gang perform favorites from Blondie\, The Cure\, Dire Straits\, The Police\, Originals\, and other rock favorites. Happy Hour is from 2pm till 8pm & our kitchen staff is serving our ala carte menu from 2:30pm till 9:40pm. No Cover Charge. We thank you for supporting The Wanch & HK’s Live Music Scene.
URL:https://www.thewanch.hk/hk/event/6pm-jizza-9pm-hit-parade-1030pm-maryjane-the-gang/
CATEGORIES:Brunch,Classic Rock,Grunge Rock,Happy Hour,Modern Rock,Motown,Original Music
ATTACH;FMTTYPE=image/jpeg:https://www.thewanch.hk/wp-content/uploads/2025/10/Daily-Events-3-bands-8.jpg
END:VEVENT
END:VCALENDAR