BEGIN:VCALENDAR
VERSION:2.0
PRODID:-//The Wanch - ECPv6.15.20//NONSGML v1.0//EN
CALSCALE:GREGORIAN
METHOD:PUBLISH
X-WR-CALNAME:The Wanch
X-ORIGINAL-URL:https://www.thewanch.hk/hk
X-WR-CALDESC:The Wanch的活动
REFRESH-INTERVAL;VALUE=DURATION:PT1H
X-Robots-Tag:noindex
X-PUBLISHED-TTL:PT1H
BEGIN:VTIMEZONE
TZID:Asia/Hong_Kong
BEGIN:STANDARD
TZOFFSETFROM:+0800
TZOFFSETTO:+0800
TZNAME:HKT
DTSTART:20250101T000000
END:STANDARD
END:VTIMEZONE
BEGIN:VEVENT
DTSTART;TZID=Asia/Hong_Kong:20260209T080000
DTEND;TZID=Asia/Hong_Kong:20260209T170000
DTSTAMP:20260426T014911
CREATED:20260210T073031Z
LAST-MODIFIED:20260210T193609Z
UID:10003279-1770624000-1770656400@www.thewanch.hk
SUMMARY:Lunch Menu For this week 9th till 13th
DESCRIPTION:Elevate your weekday lunch break with Wanch’s Set Lunch Special\, where every plate is a promise of flavor and comfort. From slow-cooked Beef Bourguignon to a stonebaked Pepperoni Pizza\, each main is thoughtfully paired with a daily soup or starter\, a sweet dessert finale\, and a refreshing Ice Lemon Tea/Coffee. Because a great afternoon starts with a seriously good lunch. Call 3692 5933 for takeaway!
URL:https://www.thewanch.hk/hk/event/lunch-menu-for-this-week-9th-till-13th/
ATTACH;FMTTYPE=image/jpeg:https://www.thewanch.hk/wp-content/uploads/2026/02/WanchSetLunch3-1.jpeg
END:VEVENT
BEGIN:VEVENT
DTSTART;TZID=Asia/Hong_Kong:20260210T080000
DTEND;TZID=Asia/Hong_Kong:20260210T170000
DTSTAMP:20260426T014911
CREATED:20260210T123057Z
LAST-MODIFIED:20260210T140818Z
UID:10003280-1770710400-1770742800@www.thewanch.hk
SUMMARY:Feb 10th Line up
DESCRIPTION:Tuesday night at The Wanch! The evening starts with The Gurrling at 8:30 PM\, followed by Hitparade at 9:20 PM\, and closing out with Demolition at 10:30 PM. A triple-bill of rock to power your week.
URL:https://www.thewanch.hk/hk/event/feb-10th-line-up/
ATTACH;FMTTYPE=image/jpeg:https://www.thewanch.hk/wp-content/uploads/2026/02/weekly-sch-3-1.jpg
END:VEVENT
BEGIN:VEVENT
DTSTART;TZID=Asia/Hong_Kong:20260211T000000
DTEND;TZID=Asia/Hong_Kong:20260211T235959
DTSTAMP:20260426T014911
CREATED:20260210T141430Z
LAST-MODIFIED:20260210T193022Z
UID:10003281-1770768000-1770854399@www.thewanch.hk
SUMMARY:Feb 11th Line up
DESCRIPTION:Midweek mayhem at The Wanch! Tonight’s lineup features The Guitarminator at 8:30 PM\, the vibes of Holistix at 9:20 PM\, and The Bullies taking the stage at 10:30 PM. Three acts\, one loud night.
URL:https://www.thewanch.hk/hk/event/feb-11th-line-up/
ATTACH;FMTTYPE=image/jpeg:https://www.thewanch.hk/wp-content/uploads/2026/02/weekly-sch-3-1-2.jpg
END:VEVENT
BEGIN:VEVENT
DTSTART;TZID=Asia/Hong_Kong:20260212T000000
DTEND;TZID=Asia/Hong_Kong:20260212T235959
DTSTAMP:20260426T014911
CREATED:20260210T193115Z
LAST-MODIFIED:20260210T193749Z
UID:10003282-1770854400-1770940799@www.thewanch.hk
SUMMARY:Feb 12th Line Up
DESCRIPTION:Thursday’s lineup is stacked! Catch Jared Bibler at 8:30 PM\, the rebellious sounds of Woke Tyler and The Peasants Revolt at 9:20 PM\, and The Red Garage closing the night at 10:30 PM. Don’t miss out!
URL:https://www.thewanch.hk/hk/event/feb-12th-line-up/
ATTACH;FMTTYPE=image/jpeg:https://www.thewanch.hk/wp-content/uploads/2026/02/weekly-sch-3-2.jpg
END:VEVENT
BEGIN:VEVENT
DTSTART;TZID=Asia/Hong_Kong:20260213T000000
DTEND;TZID=Asia/Hong_Kong:20260213T235959
DTSTAMP:20260426T014911
CREATED:20260210T194939Z
LAST-MODIFIED:20260210T200214Z
UID:10003284-1770940800-1771027199@www.thewanch.hk
SUMMARY:Feb 13th Line Up
DESCRIPTION:FRIDAY NIGHT at The Wanch! The party starts early with A BV Solo Happy Hour  at 7 PM. Then get ready for a Surprise Act #1 at 9 PM\, followed by Indigo Town at 10:30 PM\, and Rubicube closing it out at midnight. Don’t miss a beat! 
URL:https://www.thewanch.hk/hk/event/feb-13th-line-up/
ATTACH;FMTTYPE=image/jpeg:https://www.thewanch.hk/wp-content/uploads/2026/02/weekly-sch-4.jpg
END:VEVENT
BEGIN:VEVENT
DTSTART;TZID=Asia/Hong_Kong:20260214T000000
DTEND;TZID=Asia/Hong_Kong:20260214T235959
DTSTAMP:20260426T014911
CREATED:20260210T194814Z
LAST-MODIFIED:20260210T200338Z
UID:10003283-1771027200-1771113599@www.thewanch.hk
SUMMARY:Feb 14th Valentine's Day Special
DESCRIPTION:VALENTINE’S DAY SPECIAL at The Wanch! Celebrate love (or rock ‘n’ roll) with us this Saturday. Start with Victor Martin at 7 PM\, feel the passion with Rockstars Anonymous at 9 PM\, discover a romantic (or rebellious) Surprise Act #2 at 10:30 PM\, and end the night loud with The Bullies at midnight. Bring your date or your crew!
URL:https://www.thewanch.hk/hk/event/feb-14th-valentines-day-special/
ATTACH;FMTTYPE=image/jpeg:https://www.thewanch.hk/wp-content/uploads/2026/02/Untitled-2.jpg
END:VEVENT
BEGIN:VEVENT
DTSTART;TZID=Asia/Hong_Kong:20260215T000000
DTEND;TZID=Asia/Hong_Kong:20260215T235959
DTSTAMP:20260426T014911
CREATED:20260210T200003Z
LAST-MODIFIED:20260210T201651Z
UID:10003285-1771113600-1771199999@www.thewanch.hk
SUMMARY:Feb 15th Line up
DESCRIPTION:SUNDAY SESSIONS at The Wanch! Wind down the weekend with a stellar lineup. Kick things off with the smooth sounds of Larry Z at 6:30 PM\, feel the power of De’molition at 8:30 PM\, and get lost in the rhythm with Quantum Groove at 10:30 PM. The perfect finale to your week.
URL:https://www.thewanch.hk/hk/event/feb-15th-line-up/
ATTACH;FMTTYPE=image/jpeg:https://www.thewanch.hk/wp-content/uploads/2026/02/weekly-sch-5.jpg
END:VEVENT
END:VCALENDAR