BEGIN:VCALENDAR
VERSION:2.0
PRODID:-//The Wanch - ECPv6.15.20//NONSGML v1.0//EN
CALSCALE:GREGORIAN
METHOD:PUBLISH
X-ORIGINAL-URL:https://www.thewanch.hk/hk
X-WR-CALDESC:The Wanch的活动
REFRESH-INTERVAL;VALUE=DURATION:PT1H
X-Robots-Tag:noindex
X-PUBLISHED-TTL:PT1H
BEGIN:VTIMEZONE
TZID:Asia/Hong_Kong
BEGIN:STANDARD
TZOFFSETFROM:+0800
TZOFFSETTO:+0800
TZNAME:HKT
DTSTART:20250101T000000
END:STANDARD
END:VTIMEZONE
BEGIN:VEVENT
DTSTART;TZID=Asia/Hong_Kong:20260323T000000
DTEND;TZID=Asia/Hong_Kong:20260323T235959
DTSTAMP:20260425T231807
CREATED:20260307T090807Z
LAST-MODIFIED:20260307T090812Z
UID:10003291-1774224000-1774310399@www.thewanch.hk
SUMMARY:MONDAY OPEN MIC NIGHT
DESCRIPTION:Big changes are coming to our Open Mic nights!  We’re teaming up with @freejamhk to level up the experience. \n\n\n\nWhether you are a vocalist or a band\, a newbie or a pro\, an instrumentalist looking for a jam or just someone who loves live music — come join our growing community! Different languages\, genres\, original songs\, and covers are all welcome! Instruments available. \n\n\n\nIf you want to take the stage\, just scan the QR code or hit the link in bio to sign up beforehand! See you Monday night.  \n\n\n\n我們的open mic 夜有大更新啦！ 今次同 @freejamhk 合作，為大家帶的全新體驗。 \n\n\n\n無論你是歌手還是樂隊、新手還是達人、想夾歌的樂手，還是純粹喜歡現場音樂——我們都歡迎你！ 不同語言、曲風、原創或翻唱，統統都可以！場地提供樂器使用。 \n\n\n\n如果你想踏上舞台，記得掃描QR code 或點擊主頁連結預先報名！星期一晚見。
URL:https://www.thewanch.hk/hk/event/monday-open-mic-night-2/2026-03-23/
ATTACH;FMTTYPE=image/jpeg:https://www.thewanch.hk/wp-content/uploads/2026/02/Untitled-6.jpg
END:VEVENT
BEGIN:VEVENT
DTSTART;TZID=Asia/Hong_Kong:20260323T113000
DTEND;TZID=Asia/Hong_Kong:20260327T150000
DTSTAMP:20260425T231807
CREATED:20260322T171309Z
LAST-MODIFIED:20260322T171312Z
UID:10003586-1774265400-1774623600@www.thewanch.hk
SUMMARY:This week's lunch menu
DESCRIPTION:Indulge in our Weekday Set Lunch!  \n\n\n\nFrom creamy Carbonara to hearty Cottage Pie\, choose your Main and enjoy Soup\, Dessert\, and Iced Lemon Tea.  \n\n\n\n Available Monday – Friday. \n\n\n\n平日午市套餐，為你帶來滿滿滋味！ \n\n\n\n主菜選擇多樣，由經典卡邦尼意粉到香辣牧舍派，配上是日餐湯、甜品及凍檸茶，完美午餐由此開始！ \n\n\n\n星期一至五供應.
URL:https://www.thewanch.hk/hk/event/this-weeks-lunch-menu-4/
ATTACH;FMTTYPE=image/jpeg:https://www.thewanch.hk/wp-content/uploads/2026/03/WanchSetLunch3-4.jpg
END:VEVENT
BEGIN:VEVENT
DTSTART;TZID=Asia/Hong_Kong:20260324T000000
DTEND;TZID=Asia/Hong_Kong:20260324T235959
DTSTAMP:20260425T231807
CREATED:20260322T180022Z
LAST-MODIFIED:20260322T180025Z
UID:10003587-1774310400-1774396799@www.thewanch.hk
SUMMARY:TUESDAY NIGHT at The Wanch
DESCRIPTION:TUESDAY NIGHT at The Wanch!  \n\n\n\nTonight’s lineup: The Guitarminator at 7:00 PM\, Smooth N’ Groovin’ at 9:00 PM\, and Champs Band closing at 10:30 PM. Happy Hour 3-8 PM—come early\, grab a drink\, and enjoy the vibes! \n\n\n\n星期二夜晚 The Wanch 見！  \n\n\n\n今晚陣容：晚上7:00 The Guitarminator 開場，9:00 Smooth N’ Groovin’ 接力，10:30 Champs Band 壓軸演出。歡樂時光下午3點到8點，早啲嚟飲杯，享受音樂之夜！ 
URL:https://www.thewanch.hk/hk/event/tuesday-night-at-the-wanch/
ATTACH;FMTTYPE=image/jpeg:https://www.thewanch.hk/wp-content/uploads/2026/03/24-Mar.jpg
END:VEVENT
BEGIN:VEVENT
DTSTART;TZID=Asia/Hong_Kong:20260325T000000
DTEND;TZID=Asia/Hong_Kong:20260325T235959
DTSTAMP:20260425T231807
CREATED:20260322T180224Z
LAST-MODIFIED:20260322T180227Z
UID:10003588-1774396800-1774483199@www.thewanch.hk
SUMMARY:SHAZZA MUSIC SHOWCASE
DESCRIPTION:SHAZZA MUSIC SHOWCASE at The Wanch!  \n\n\n\nTonight’s special showcase features: Larry Z at 7:00 PM\, followed by a multi-act showcase at 9:00 PM with Miso Cod\, The Wild Cards\, Stout Fellows\, and Ceramic. A night of diverse sounds and emerging talent—don’t miss it!  \n\n\n\nSHAZZA MUSIC SHOWCASE 登陸 The Wanch！  \n\n\n\n今晚特別演出陣容：晚上7:00 Larry Z 開場，9:00 接力帶來 Miso Cod、The Wild Cards、Stout Fellows 及 Ceramic 同台獻技。一晚盡享多元音樂同新晉才華，萬勿錯過！
URL:https://www.thewanch.hk/hk/event/shazza-music-showcase/
ATTACH;FMTTYPE=image/jpeg:https://www.thewanch.hk/wp-content/uploads/2026/03/Shazza-1.jpeg
END:VEVENT
BEGIN:VEVENT
DTSTART;TZID=Asia/Hong_Kong:20260326T000000
DTEND;TZID=Asia/Hong_Kong:20260326T235959
DTSTAMP:20260425T231807
CREATED:20260322T180412Z
LAST-MODIFIED:20260322T180455Z
UID:10003589-1774483200-1774569599@www.thewanch.hk
SUMMARY:THURSDAY NIGHT at The Wanch! 
DESCRIPTION:THURSDAY NIGHT at The Wanch!  \n\n\n\nTonight’s lineup: MC Jef at 7:00 PM\, Toxic Sprouts at 8:30 PM\, The Philharmonic Orchestra at 9:20 PM\, and Bam Band closing at 10:45 PM. Four bands\, one rocking Thursday—see you there!  \n\n\n\n星期四夜晚 The Wanch 見！  \n\n\n\n今晚陣容強勁：晚上7:00 MC Jef 開場，8:30 Toxic Sprouts 接力，9:20 The Philharmonic Orchestra，10:45 Bam Band 壓軸演出。四隊樂隊，一個狂熱星期四——今晚見！
URL:https://www.thewanch.hk/hk/event/thursday-night-at-the-wanch/
ATTACH;FMTTYPE=image/jpeg:https://www.thewanch.hk/wp-content/uploads/2026/03/26-Mar.jpg
END:VEVENT
BEGIN:VEVENT
DTSTART;TZID=Asia/Hong_Kong:20260327T000000
DTEND;TZID=Asia/Hong_Kong:20260327T235959
DTSTAMP:20260425T231807
CREATED:20260322T180636Z
LAST-MODIFIED:20260322T180638Z
UID:10003590-1774569600-1774655999@www.thewanch.hk
SUMMARY:FRIDAY NIGHT at The Wanch! 
DESCRIPTION:FRIDAY NIGHT at The Wanch!  \n\n\n\nTonight’s killer lineup: Jared Bibler at 7:00 PM\, Man in the Bush at 9:20 PM\, Naggin Eejits at 11:00 PM\, and Rubicube closing at midnight. Four bands\, one epic Friday—see you on the dance floor!  \n\n\n\n星期五夜晚 Wanch 聲勢浩大！  \n\n\n\n今晚陣容勁爆：晚上7:00 Jared Bibler 開場，9:20 Man in the Bush 接力，11:00 Naggin Eejits，午夜壓軸 Rubicube 炸場到尾。四隊樂隊，一個狂熱星期五——舞池見！
URL:https://www.thewanch.hk/hk/event/friday-night-at-the-wanch/
ATTACH;FMTTYPE=image/jpeg:https://www.thewanch.hk/wp-content/uploads/2026/03/27-Mar.jpg
END:VEVENT
BEGIN:VEVENT
DTSTART;TZID=Asia/Hong_Kong:20260328T000000
DTEND;TZID=Asia/Hong_Kong:20260328T235959
DTSTAMP:20260425T231807
CREATED:20260322T180838Z
LAST-MODIFIED:20260322T180840Z
UID:10003591-1774656000-1774742399@www.thewanch.hk
SUMMARY:SPECIAL SATURDAY at The Wanch! 
DESCRIPTION:SPECIAL DAY at The Wanch!  \n\n\n\nAfternoon: Simon Pinder Workshop at 2:00 PM—tickets on Eventbrite. Nighttime: Steve Fuller at 7:00 PM\, Yue Hin & Maico at 9:35 PM\, Levelling Out at 10:55 PM\, and El Kaptain & The Privates closing at midnight. A full day of music and learning—don’t miss it!  \n\n\n\n 特別活動日 @ The Wanch！  \n\n\n\n日間：下午2:00 Simon Pinder 工作坊——Eventbrite 有飛賣。夜晚：晚上7:00 Steve Fuller，9:35 Yue Hin & Maico，10:55 Levelling Out，午夜壓軸 El Kaptain & The Privates 完美收場。全日音樂加學習，唔好錯過！
URL:https://www.thewanch.hk/hk/event/special-saturday-at-the-wanch/
ATTACH;FMTTYPE=image/jpeg:https://www.thewanch.hk/wp-content/uploads/2026/03/28-Mar.jpg
END:VEVENT
BEGIN:VEVENT
DTSTART;TZID=Asia/Hong_Kong:20260329T000000
DTEND;TZID=Asia/Hong_Kong:20260329T235959
DTSTAMP:20260425T231807
CREATED:20260322T181008Z
LAST-MODIFIED:20260322T181010Z
UID:10003592-1774742400-1774828799@www.thewanch.hk
SUMMARY:SUNDAY SESSIONS at The Wanch! 
DESCRIPTION:SUNDAY SESSIONS at The Wanch!  \n\n\n\nWind down your weekend with: Jizza at 6:30 PM and Demo’lition closing at 8:30 PM. Great music\, cold drinks\, relaxed vibes—the perfect Sunday night.  \n\n\n\n星期日 Wanch 音樂延續！  \n\n\n\n用音樂為周末畫上句號：晚上6:30 Jizza 開場，8:30 Demo’lition 壓軸演出。好音樂、凍啤酒、輕鬆氣氛——星期日夜晚就係咁簡單。
URL:https://www.thewanch.hk/hk/event/sunday-sessions-at-the-wanch/
ATTACH;FMTTYPE=image/jpeg:https://www.thewanch.hk/wp-content/uploads/2026/03/29-Mar.jpg
END:VEVENT
END:VCALENDAR