BEGIN:VCALENDAR
VERSION:2.0
PRODID:-//The Wanch - ECPv6.15.20//NONSGML v1.0//EN
CALSCALE:GREGORIAN
METHOD:PUBLISH
X-WR-CALNAME:The Wanch
X-ORIGINAL-URL:https://www.thewanch.hk/hk
X-WR-CALDESC:The Wanch的活动
REFRESH-INTERVAL;VALUE=DURATION:PT1H
X-Robots-Tag:noindex
X-PUBLISHED-TTL:PT1H
BEGIN:VTIMEZONE
TZID:Asia/Hong_Kong
BEGIN:STANDARD
TZOFFSETFROM:+0800
TZOFFSETTO:+0800
TZNAME:HKT
DTSTART:20250101T000000
END:STANDARD
END:VTIMEZONE
BEGIN:VEVENT
DTSTART;TZID=Asia/Hong_Kong:20260330T000000
DTEND;TZID=Asia/Hong_Kong:20260330T235959
DTSTAMP:20260422T034216
CREATED:20260307T090807Z
LAST-MODIFIED:20260307T090812Z
UID:10003292-1774828800-1774915199@www.thewanch.hk
SUMMARY:MONDAY OPEN MIC NIGHT
DESCRIPTION:Big changes are coming to our Open Mic nights!  We’re teaming up with @freejamhk to level up the experience. \n\n\n\nWhether you are a vocalist or a band\, a newbie or a pro\, an instrumentalist looking for a jam or just someone who loves live music — come join our growing community! Different languages\, genres\, original songs\, and covers are all welcome! Instruments available. \n\n\n\nIf you want to take the stage\, just scan the QR code or hit the link in bio to sign up beforehand! See you Monday night.  \n\n\n\n我們的open mic 夜有大更新啦！ 今次同 @freejamhk 合作，為大家帶的全新體驗。 \n\n\n\n無論你是歌手還是樂隊、新手還是達人、想夾歌的樂手，還是純粹喜歡現場音樂——我們都歡迎你！ 不同語言、曲風、原創或翻唱，統統都可以！場地提供樂器使用。 \n\n\n\n如果你想踏上舞台，記得掃描QR code 或點擊主頁連結預先報名！星期一晚見。
URL:https://www.thewanch.hk/hk/event/monday-open-mic-night-2/2026-03-30/
ATTACH;FMTTYPE=image/jpeg:https://www.thewanch.hk/wp-content/uploads/2026/02/Untitled-6.jpg
END:VEVENT
BEGIN:VEVENT
DTSTART;TZID=Asia/Hong_Kong:20260330T000000
DTEND;TZID=Asia/Hong_Kong:20260402T235959
DTSTAMP:20260422T034216
CREATED:20260330T054742Z
LAST-MODIFIED:20260330T060030Z
UID:10003594-1774828800-1775174399@www.thewanch.hk
SUMMARY:This week's lunch menu
DESCRIPTION:Enjoy our Weekday Set Lunch!  \n\n\n\nChoose from classic Beer-Battered Fish & Chips\, Spicy Seafood Stonebaked Pizza\, Indian Butter Chicken with naan\, or Seared Rib-Eye Steak. Each set includes Soup or Appetizer\, Daily Dessert\, and Iced Lemon Tea. Served Monday – Thursday. \n\n\n\n品嚐我們的平日午市套餐！ \n\n\n\n精選主菜包括經典啤酒脆漿魚柳薯條、辣味海鮮石爐薄餅、印度牛油雞配烤餅，或烤肉眼牛扒。每份套餐均配上是日餐湯或前菜、是日甜品及凍檸茶。星期一至四供應。
URL:https://www.thewanch.hk/hk/event/this-weeks-lunch-menu-5/
ATTACH;FMTTYPE=image/jpeg:https://www.thewanch.hk/wp-content/uploads/2026/03/WanchSetLunch3-3-3.jpg
END:VEVENT
BEGIN:VEVENT
DTSTART;TZID=Asia/Hong_Kong:20260331T193000
DTEND;TZID=Asia/Hong_Kong:20260331T233000
DTSTAMP:20260422T034216
CREATED:20260331T024215Z
LAST-MODIFIED:20260331T024413Z
UID:10003595-1774985400-1774999800@www.thewanch.hk
SUMMARY:Today's line up
DESCRIPTION:TUESDAY NIGHT at The Wanch!  \n\n\n\nTonight’s lineup: Kitty Says No at 7:30 PM\, The Guitarminator at 9:20 PM\, and Stevie Stix Trio closing at 10:30 PM. Happy Hour 3-8 PM—come early\, grab a drink\, and enjoy the music! Follow us @wanch87 for more updates.  \n\n\n\n星期二夜晚 The Wanch 見！  \n\n\n\n今晚陣容：晚上7:30 Kitty Says No 開場，9:20 The Guitarminator 接力，10:30 Stevie Stix Trio 壓軸演出。歡樂時光下午3點到8點，早啲嚟飲杯，享受音樂之夜！想知更多精彩內容，記得 Follow @wanch87！
URL:https://www.thewanch.hk/hk/event/todays-line-up/
ATTACH;FMTTYPE=image/jpeg:https://www.thewanch.hk/wp-content/uploads/2026/03/weekly-sch-13-A5-week-schedule.jpg
END:VEVENT
BEGIN:VEVENT
DTSTART;TZID=Asia/Hong_Kong:20260401T190000
DTEND;TZID=Asia/Hong_Kong:20260401T233000
DTSTAMP:20260422T034216
CREATED:20260401T044153Z
LAST-MODIFIED:20260401T044156Z
UID:10003596-1775070000-1775086200@www.thewanch.hk
SUMMARY:Uni Party at the Wanch
DESCRIPTION:UNI PARTY at The Wanch!  \n\n\n\nIt’s time to celebrate—grab your friends and hit the stage! Special drink deals all night: Jäger or Tequila $40\, or 6 shots for $200. Whether you’re celebrating exams\, graduation\, or just making it through the week\, this one’s for you. See you there!  \n\n\n\n大學派對 @ The Wanch！  \n\n\n\n又到咗狂歡嘅時候——約埋班朋友一齊嚟玩啦！全晚特飲優惠：Jäger 或 Tequila $40，6 shots 都係 $200。無論係慶祝考完試、畢業，定係捱過咗呢個星期，今晚都係屬於你哋嘅！到時見！ \n\n\n\n\n\n\n\n*所有價格另加10%服務費 / All prices are subject to 10% service charge.*
URL:https://www.thewanch.hk/hk/event/uni-party-at-the-wanch/
ATTACH;FMTTYPE=image/jpeg:https://www.thewanch.hk/wp-content/uploads/2026/04/Uni-Party-1.jpg
END:VEVENT
BEGIN:VEVENT
DTSTART;TZID=Asia/Hong_Kong:20260402T190000
DTEND;TZID=Asia/Hong_Kong:20260402T233000
DTSTAMP:20260422T034216
CREATED:20260401T044334Z
LAST-MODIFIED:20260401T044338Z
UID:10003597-1775156400-1775172600@www.thewanch.hk
SUMMARY:Apr 2 Line up
DESCRIPTION:THURSDAY NIGHT at The Wanch!  \n\n\n\nTonight’s lineup: Benjie at 7:00 PM\, Mad Dog & The Stray Cats at 9:00 PM\, and Levelling Out closing at 10:30 PM. Happy Hour 3-8 PM—come early\, grab a drink\, and enjoy the vibes! Follow us @wanch87 for more updates.  \n\n\n\n星期四夜晚 The Wanch 見！  \n\n\n\n今晚陣容：晚上7:00 Benjie 開場，9:00 Mad Dog & The Stray Cats 接力，10:30 Levelling Out 壓軸演出。歡樂時光下午3點到8點，早啲嚟飲杯，享受音樂之夜！想知更多精彩內容，記得 Follow @wanch87！
URL:https://www.thewanch.hk/hk/event/apr-2-line-up/
ATTACH;FMTTYPE=image/jpeg:https://www.thewanch.hk/wp-content/uploads/2026/04/2-apr.jpg
END:VEVENT
BEGIN:VEVENT
DTSTART;TZID=Asia/Hong_Kong:20260403T140000
DTEND;TZID=Asia/Hong_Kong:20260407T233000
DTSTAMP:20260422T034216
CREATED:20260401T044850Z
LAST-MODIFIED:20260401T044853Z
UID:10003599-1775224800-1775604600@www.thewanch.hk
SUMMARY:Egg hunt at The Wanch
DESCRIPTION:EASTER EGG HUNT at The Wanch!  \n\n\n\nJoin us from April 3-7 for a special Easter celebration! We’ll be hiding colorful Easter eggs all around The Wanch. Crack one open and score a free drink on the house! 找到一顆，即享免費飲品一杯！ Free entry for all. Bring your friends and start hunting!  \n\n\n\n復活節尋蛋活動 @ The Wanch！ 4月3日至7日，嚟 The Wanch 一齊過復活節！我哋喺場內各處藏咗繽紛復活蛋。找到一顆，即享免費飲品一杯！ 免費入場，快啲約埋朋友一齊嚟尋寶啦！
URL:https://www.thewanch.hk/hk/event/egg-hunt-at-the-wanch/
ATTACH;FMTTYPE=image/jpeg:https://www.thewanch.hk/wp-content/uploads/2026/04/Untitled-4.jpg
END:VEVENT
BEGIN:VEVENT
DTSTART;TZID=Asia/Hong_Kong:20260403T190000
DTEND;TZID=Asia/Hong_Kong:20260403T233000
DTSTAMP:20260422T034216
CREATED:20260401T044541Z
LAST-MODIFIED:20260401T044545Z
UID:10003598-1775242800-1775259000@www.thewanch.hk
SUMMARY:Apr 3rd Line Up
DESCRIPTION:FRIDAY NIGHT SPECTACULAR at The Wanch!  \n\n\n\nTonight’s massive lineup: Steve Fuller at 7:00 PM\, Umojarootz at 9:00 PM\, Benjie & The FRC Band at 9:50 PM\, Misty Blue Banana at 11:00 PM\, and Gonzales Musika closing at midnight. Five bands\, one epic Friday—see you on the dance floor!  \n\n\n\n星期五夜晚 Wanch 聲勢浩大！  \n\n\n\n今晚陣容強勁：晚上7:00 Steve Fuller 開場，9:00 Umojarootz 接力，9:50 Benjie & The FRC Band，11:00 Misty Blue Banana，午夜壓軸 Gonzales Musika 炸場到尾。五隊樂隊，一個狂熱星期五——舞池見！
URL:https://www.thewanch.hk/hk/event/apr-3rd-line-up/
ATTACH;FMTTYPE=image/jpeg:https://www.thewanch.hk/wp-content/uploads/2026/04/3-apr.jpg
END:VEVENT
BEGIN:VEVENT
DTSTART;TZID=Asia/Hong_Kong:20260404T190000
DTEND;TZID=Asia/Hong_Kong:20260404T233000
DTSTAMP:20260422T034216
CREATED:20260401T045252Z
LAST-MODIFIED:20260401T045254Z
UID:10003600-1775329200-1775345400@www.thewanch.hk
SUMMARY:Apr 4th Line Up
DESCRIPTION:SATURDAY NIGHT at The Wanch!  \n\n\n\nTonight’s killer lineup: Larry Z at 7:00 PM\, Free Butter Chicken at 9:15 PM\, Surprise Act at 10:30 PM\, and Rubicube closing at midnight. Mystery guest alert—don’t miss the surprise!  \n\n\n\n星期六夜晚 Wanch 見！  \n\n\n\n今晚陣容勁爆：晚上7:00 Larry Z 開場，9:15 Free Butter Chicken 接力，10:30 神秘 Surprise Act 登場，午夜壓軸 Rubicube 完美收場。神秘嘉賓驚喜登場——唔好錯過！
URL:https://www.thewanch.hk/hk/event/apr-4th-line-up/
ATTACH;FMTTYPE=image/jpeg:https://www.thewanch.hk/wp-content/uploads/2026/04/4-apr.jpg
END:VEVENT
END:VCALENDAR